BEGIN:VCALENDAR
VERSION:2.0
PRODID:-// - ECPv6.15.20//NONSGML v1.0//EN
CALSCALE:GREGORIAN
METHOD:PUBLISH
X-ORIGINAL-URL:https://folsomhindutemple.org
X-WR-CALDESC:Events for 
REFRESH-INTERVAL;VALUE=DURATION:PT1H
X-Robots-Tag:noindex
X-PUBLISHED-TTL:PT1H
BEGIN:VTIMEZONE
TZID:America/Los_Angeles
BEGIN:DAYLIGHT
TZOFFSETFROM:-0800
TZOFFSETTO:-0700
TZNAME:PDT
DTSTART:20250309T100000
END:DAYLIGHT
BEGIN:STANDARD
TZOFFSETFROM:-0700
TZOFFSETTO:-0800
TZNAME:PST
DTSTART:20251102T090000
END:STANDARD
BEGIN:DAYLIGHT
TZOFFSETFROM:-0800
TZOFFSETTO:-0700
TZNAME:PDT
DTSTART:20260308T100000
END:DAYLIGHT
BEGIN:STANDARD
TZOFFSETFROM:-0700
TZOFFSETTO:-0800
TZNAME:PST
DTSTART:20261101T090000
END:STANDARD
BEGIN:DAYLIGHT
TZOFFSETFROM:-0800
TZOFFSETTO:-0700
TZNAME:PDT
DTSTART:20270314T100000
END:DAYLIGHT
BEGIN:STANDARD
TZOFFSETFROM:-0700
TZOFFSETTO:-0800
TZNAME:PST
DTSTART:20271107T090000
END:STANDARD
END:VTIMEZONE
BEGIN:VEVENT
DTSTART;VALUE=DATE:20260421
DTEND;VALUE=DATE:20260422
DTSTAMP:20260421T014108
CREATED:20260104T205210Z
LAST-MODIFIED:20260104T205210Z
UID:2839-1776729600-1776815999@folsomhindutemple.org
SUMMARY:Sankara Jayanthi
DESCRIPTION:
URL:https://folsomhindutemple.org/event/sankara-jayanthi-2/
END:VEVENT
BEGIN:VEVENT
DTSTART;VALUE=DATE:20260422
DTEND;VALUE=DATE:20260423
DTSTAMP:20260421T014108
CREATED:20260104T205411Z
LAST-MODIFIED:20260104T205411Z
UID:2840-1776816000-1776902399@folsomhindutemple.org
SUMMARY:Ramanuja Jayanthi
DESCRIPTION:
URL:https://folsomhindutemple.org/event/ramanuja-jayanthi-2/
END:VEVENT
BEGIN:VEVENT
DTSTART;VALUE=DATE:20260427
DTEND;VALUE=DATE:20260428
DTSTAMP:20260421T014108
CREATED:20260104T205411Z
LAST-MODIFIED:20260104T205411Z
UID:2841-1777248000-1777334399@folsomhindutemple.org
SUMMARY:Ekadasi
DESCRIPTION:
URL:https://folsomhindutemple.org/event/ekadasi-52/
END:VEVENT
BEGIN:VEVENT
DTSTART;VALUE=DATE:20260428
DTEND;VALUE=DATE:20260429
DTSTAMP:20260421T014108
CREATED:20260104T205411Z
LAST-MODIFIED:20260104T205411Z
UID:2842-1777334400-1777420799@folsomhindutemple.org
SUMMARY:Pradosham
DESCRIPTION:
URL:https://folsomhindutemple.org/event/pradosham-81/
END:VEVENT
END:VCALENDAR