BEGIN:VCALENDAR
VERSION:2.0
PRODID:-// - ECPv6.15.20//NONSGML v1.0//EN
CALSCALE:GREGORIAN
METHOD:PUBLISH
X-ORIGINAL-URL:https://folsomhindutemple.org
X-WR-CALDESC:Events for 
REFRESH-INTERVAL;VALUE=DURATION:PT1H
X-Robots-Tag:noindex
X-PUBLISHED-TTL:PT1H
BEGIN:VTIMEZONE
TZID:America/Los_Angeles
BEGIN:DAYLIGHT
TZOFFSETFROM:-0800
TZOFFSETTO:-0700
TZNAME:PDT
DTSTART:20220313T100000
END:DAYLIGHT
BEGIN:STANDARD
TZOFFSETFROM:-0700
TZOFFSETTO:-0800
TZNAME:PST
DTSTART:20221106T090000
END:STANDARD
BEGIN:DAYLIGHT
TZOFFSETFROM:-0800
TZOFFSETTO:-0700
TZNAME:PDT
DTSTART:20230312T100000
END:DAYLIGHT
BEGIN:STANDARD
TZOFFSETFROM:-0700
TZOFFSETTO:-0800
TZNAME:PST
DTSTART:20231105T090000
END:STANDARD
BEGIN:DAYLIGHT
TZOFFSETFROM:-0800
TZOFFSETTO:-0700
TZNAME:PDT
DTSTART:20240310T100000
END:DAYLIGHT
BEGIN:STANDARD
TZOFFSETFROM:-0700
TZOFFSETTO:-0800
TZNAME:PST
DTSTART:20241103T090000
END:STANDARD
END:VTIMEZONE
BEGIN:VEVENT
DTSTART;VALUE=DATE:20230428
DTEND;VALUE=DATE:20230501
DTSTAMP:20260421T135454
CREATED:20230111T182306Z
LAST-MODIFIED:20230111T182306Z
UID:2147-1682640000-1682899199@folsomhindutemple.org
SUMMARY:Sri Maha Rudram
DESCRIPTION:
URL:https://folsomhindutemple.org/event/sri-maha-rudram/
END:VEVENT
BEGIN:VEVENT
DTSTART;VALUE=DATE:20230423
DTEND;VALUE=DATE:20230424
DTSTAMP:20260421T135454
CREATED:20230223T175107Z
LAST-MODIFIED:20230223T175107Z
UID:2239-1682208000-1682294399@folsomhindutemple.org
SUMMARY:Chathurthi
DESCRIPTION:
URL:https://folsomhindutemple.org/event/chathurthi-2/
END:VEVENT
BEGIN:VEVENT
DTSTART;VALUE=DATE:20230421
DTEND;VALUE=DATE:20230422
DTSTAMP:20260421T135454
CREATED:20230223T175207Z
LAST-MODIFIED:20230223T175207Z
UID:2259-1682035200-1682121599@folsomhindutemple.org
SUMMARY:Krithigai
DESCRIPTION:
URL:https://folsomhindutemple.org/event/krithigai-2/
END:VEVENT
BEGIN:VEVENT
DTSTART;VALUE=DATE:20230419
DTEND;VALUE=DATE:20230420
DTSTAMP:20260421T135454
CREATED:20230223T175037Z
LAST-MODIFIED:20230223T175037Z
UID:2229-1681862400-1681948799@folsomhindutemple.org
SUMMARY:Amavasya
DESCRIPTION:
URL:https://folsomhindutemple.org/event/amavasya-2/
END:VEVENT
BEGIN:VEVENT
DTSTART;VALUE=DATE:20230417
DTEND;VALUE=DATE:20230418
DTSTAMP:20260421T135454
CREATED:20230223T174937Z
LAST-MODIFIED:20230223T174937Z
UID:2210-1681689600-1681775999@folsomhindutemple.org
SUMMARY:Pradosham
DESCRIPTION:
URL:https://folsomhindutemple.org/event/pradosham-12/
END:VEVENT
BEGIN:VEVENT
DTSTART;VALUE=DATE:20230415
DTEND;VALUE=DATE:20230416
DTSTAMP:20260421T135454
CREATED:20230223T174837Z
LAST-MODIFIED:20230223T174837Z
UID:2193-1681516800-1681603199@folsomhindutemple.org
SUMMARY:Ekadasi
DESCRIPTION:
URL:https://folsomhindutemple.org/event/ekadasi-11/
END:VEVENT
BEGIN:VEVENT
DTSTART;VALUE=DATE:20230414
DTEND;VALUE=DATE:20230415
DTSTAMP:20260421T135454
CREATED:20230223T180517Z
LAST-MODIFIED:20230223T180517Z
UID:2292-1681430400-1681516799@folsomhindutemple.org
SUMMARY:Tamil New Year
DESCRIPTION:
URL:https://folsomhindutemple.org/event/tamil-new-year/
END:VEVENT
BEGIN:VEVENT
DTSTART;VALUE=DATE:20230414
DTEND;VALUE=DATE:20230415
DTSTAMP:20260421T135454
CREATED:20230223T175137Z
LAST-MODIFIED:20230223T175137Z
UID:2249-1681430400-1681516799@folsomhindutemple.org
SUMMARY:Maasa Pirappu (Month Begins)
DESCRIPTION:
URL:https://folsomhindutemple.org/event/maasa-pirappu-month-begins-2/
END:VEVENT
BEGIN:VEVENT
DTSTART;VALUE=DATE:20230409
DTEND;VALUE=DATE:20230410
DTSTAMP:20260421T135454
CREATED:20230223T175237Z
LAST-MODIFIED:20230223T175237Z
UID:2270-1680998400-1681084799@folsomhindutemple.org
SUMMARY:Anusham
DESCRIPTION:
URL:https://folsomhindutemple.org/event/anusham-7/
END:VEVENT
BEGIN:VEVENT
DTSTART;VALUE=DATE:20230408
DTEND;VALUE=DATE:20230409
DTSTAMP:20260421T135454
CREATED:20230223T174808Z
LAST-MODIFIED:20230223T174808Z
UID:2181-1680912000-1680998399@folsomhindutemple.org
SUMMARY:Sankatahara Chathurthi
DESCRIPTION:
URL:https://folsomhindutemple.org/event/sankatahara-chathurthi-6/
END:VEVENT
BEGIN:VEVENT
DTSTART;VALUE=DATE:20230405
DTEND;VALUE=DATE:20230406
DTSTAMP:20260421T135454
CREATED:20230223T174803Z
LAST-MODIFIED:20230223T174803Z
UID:2170-1680652800-1680739199@folsomhindutemple.org
SUMMARY:Pournami
DESCRIPTION:
URL:https://folsomhindutemple.org/event/pournami-6/
END:VEVENT
BEGIN:VEVENT
DTSTART;VALUE=DATE:20230404
DTEND;VALUE=DATE:20230405
DTSTAMP:20260421T135454
CREATED:20230223T180316Z
LAST-MODIFIED:20230223T180316Z
UID:2290-1680566400-1680652799@folsomhindutemple.org
SUMMARY:Panguni Uthiram
DESCRIPTION:
URL:https://folsomhindutemple.org/event/panguni-uthiram/
END:VEVENT
BEGIN:VEVENT
DTSTART;VALUE=DATE:20230402
DTEND;VALUE=DATE:20230403
DTSTAMP:20260421T135454
CREATED:20230223T174937Z
LAST-MODIFIED:20230223T174937Z
UID:2209-1680393600-1680479999@folsomhindutemple.org
SUMMARY:Pradosham
DESCRIPTION:
URL:https://folsomhindutemple.org/event/pradosham-11/
END:VEVENT
BEGIN:VEVENT
DTSTART;VALUE=DATE:20230401
DTEND;VALUE=DATE:20230402
DTSTAMP:20260421T135454
CREATED:20230223T174837Z
LAST-MODIFIED:20230223T174837Z
UID:2192-1680307200-1680393599@folsomhindutemple.org
SUMMARY:Ekadasi
DESCRIPTION:
URL:https://folsomhindutemple.org/event/ekadasi-10/
END:VEVENT
BEGIN:VEVENT
DTSTART;VALUE=DATE:20230329
DTEND;VALUE=DATE:20230330
DTSTAMP:20260421T135454
CREATED:20230223T180242Z
LAST-MODIFIED:20230223T180242Z
UID:2288-1680048000-1680134399@folsomhindutemple.org
SUMMARY:Sri Rama Navami
DESCRIPTION:
URL:https://folsomhindutemple.org/event/sri-rama-navami/
END:VEVENT
BEGIN:VEVENT
DTSTART;VALUE=DATE:20230325
DTEND;VALUE=DATE:20230326
DTSTAMP:20260421T135454
CREATED:20230223T175152Z
LAST-MODIFIED:20230223T175152Z
UID:2258-1679702400-1679788799@folsomhindutemple.org
SUMMARY:Krithigai
DESCRIPTION:
URL:https://folsomhindutemple.org/event/krithigai/
END:VEVENT
BEGIN:VEVENT
DTSTART;VALUE=DATE:20230324
DTEND;VALUE=DATE:20230325
DTSTAMP:20260421T135454
CREATED:20230223T175052Z
LAST-MODIFIED:20230223T175052Z
UID:2238-1679616000-1679702399@folsomhindutemple.org
SUMMARY:Chathurthi
DESCRIPTION:
URL:https://folsomhindutemple.org/event/chathurthi/
END:VEVENT
BEGIN:VEVENT
DTSTART;VALUE=DATE:20230322
DTEND;VALUE=DATE:20230323
DTSTAMP:20260421T135454
CREATED:20230223T180114Z
LAST-MODIFIED:20230223T180114Z
UID:2284-1679443200-1679529599@folsomhindutemple.org
SUMMARY:Vasanta Navarathri Begins
DESCRIPTION:
URL:https://folsomhindutemple.org/event/vasanta-navarathri-begins/
END:VEVENT
BEGIN:VEVENT
DTSTART;VALUE=DATE:20230320
DTEND;VALUE=DATE:20230321
DTSTAMP:20260421T135454
CREATED:20230223T175022Z
LAST-MODIFIED:20230223T175022Z
UID:2228-1679270400-1679356799@folsomhindutemple.org
SUMMARY:Amavasya
DESCRIPTION:
URL:https://folsomhindutemple.org/event/amavasya/
END:VEVENT
BEGIN:VEVENT
DTSTART;VALUE=DATE:20230319
DTEND;VALUE=DATE:20230320
DTSTAMP:20260421T135454
CREATED:20230223T174922Z
LAST-MODIFIED:20230223T174922Z
UID:2208-1679184000-1679270399@folsomhindutemple.org
SUMMARY:Pradosham
DESCRIPTION:
URL:https://folsomhindutemple.org/event/pradosham-10/
END:VEVENT
BEGIN:VEVENT
DTSTART;VALUE=DATE:20230317
DTEND;VALUE=DATE:20230318
DTSTAMP:20260421T135454
CREATED:20230223T174837Z
LAST-MODIFIED:20230223T174837Z
UID:2191-1679011200-1679097599@folsomhindutemple.org
SUMMARY:Ekadasi
DESCRIPTION:
URL:https://folsomhindutemple.org/event/ekadasi-9/
END:VEVENT
BEGIN:VEVENT
DTSTART;VALUE=DATE:20230314
DTEND;VALUE=DATE:20230315
DTSTAMP:20260421T135454
CREATED:20230223T180034Z
LAST-MODIFIED:20230223T180034Z
UID:2282-1678752000-1678838399@folsomhindutemple.org
SUMMARY:Karadayan Nonbu
DESCRIPTION:
URL:https://folsomhindutemple.org/event/karadayan-nonbu/
END:VEVENT
BEGIN:VEVENT
DTSTART;VALUE=DATE:20230314
DTEND;VALUE=DATE:20230315
DTSTAMP:20260421T135454
CREATED:20230223T175122Z
LAST-MODIFIED:20230223T175122Z
UID:2248-1678752000-1678838399@folsomhindutemple.org
SUMMARY:Maasa Pirappu (Month Begins)
DESCRIPTION:
URL:https://folsomhindutemple.org/event/maasa-pirappu-month-begins/
END:VEVENT
BEGIN:VEVENT
DTSTART;VALUE=DATE:20230313
DTEND;VALUE=DATE:20230314
DTSTAMP:20260421T135454
CREATED:20230223T175237Z
LAST-MODIFIED:20230223T175237Z
UID:2269-1678665600-1678751999@folsomhindutemple.org
SUMMARY:Anusham
DESCRIPTION:
URL:https://folsomhindutemple.org/event/anusham-6/
END:VEVENT
BEGIN:VEVENT
DTSTART;VALUE=DATE:20230310
DTEND;VALUE=DATE:20230311
DTSTAMP:20260421T135454
CREATED:20230223T174808Z
LAST-MODIFIED:20230223T174808Z
UID:2180-1678406400-1678492799@folsomhindutemple.org
SUMMARY:Sankatahara Chathurthi
DESCRIPTION:
URL:https://folsomhindutemple.org/event/sankatahara-chathurthi-5/
END:VEVENT
BEGIN:VEVENT
DTSTART;VALUE=DATE:20230306
DTEND;VALUE=DATE:20230307
DTSTAMP:20260421T135454
CREATED:20230223T174803Z
LAST-MODIFIED:20230223T174803Z
UID:2169-1678060800-1678147199@folsomhindutemple.org
SUMMARY:Pournami
DESCRIPTION:
URL:https://folsomhindutemple.org/event/pournami-5/
END:VEVENT
BEGIN:VEVENT
DTSTART;VALUE=DATE:20230305
DTEND;VALUE=DATE:20230306
DTSTAMP:20260421T135454
CREATED:20230223T175952Z
LAST-MODIFIED:20230223T175952Z
UID:2280-1677974400-1678060799@folsomhindutemple.org
SUMMARY:Maasi Makam
DESCRIPTION:
URL:https://folsomhindutemple.org/event/maasi-makam/
END:VEVENT
BEGIN:VEVENT
DTSTART;VALUE=DATE:20230304
DTEND;VALUE=DATE:20230305
DTSTAMP:20260421T135454
CREATED:20230223T174922Z
LAST-MODIFIED:20230223T174922Z
UID:2207-1677888000-1677974399@folsomhindutemple.org
SUMMARY:Pradosham
DESCRIPTION:
URL:https://folsomhindutemple.org/event/pradosham-9/
END:VEVENT
BEGIN:VEVENT
DTSTART;VALUE=DATE:20230222
DTEND;VALUE=DATE:20230223
DTSTAMP:20260421T135454
CREATED:20230223T180204Z
LAST-MODIFIED:20230223T180204Z
UID:2286-1677024000-1677110399@folsomhindutemple.org
SUMMARY:Ugadi
DESCRIPTION:
URL:https://folsomhindutemple.org/event/ugadi/
END:VEVENT
BEGIN:VEVENT
DTSTART;VALUE=DATE:20230218
DTEND;VALUE=DATE:20230219
DTSTAMP:20260421T135454
CREATED:20230207T191006Z
LAST-MODIFIED:20230207T191006Z
UID:2158-1676678400-1676764799@folsomhindutemple.org
SUMMARY:MahaShivarathri - 2023
DESCRIPTION:February 18\, 2023 – 8 AM through February 19\, 2023 – 5 AM
URL:https://folsomhindutemple.org/event/mahashivarathri-2023/
END:VEVENT
END:VCALENDAR