BEGIN:VCALENDAR
VERSION:2.0
PRODID:-// - ECPv6.15.20//NONSGML v1.0//EN
CALSCALE:GREGORIAN
METHOD:PUBLISH
X-ORIGINAL-URL:https://folsomhindutemple.org
X-WR-CALDESC:Events for 
REFRESH-INTERVAL;VALUE=DURATION:PT1H
X-Robots-Tag:noindex
X-PUBLISHED-TTL:PT1H
BEGIN:VTIMEZONE
TZID:America/Los_Angeles
BEGIN:DAYLIGHT
TZOFFSETFROM:-0800
TZOFFSETTO:-0700
TZNAME:PDT
DTSTART:20220313T100000
END:DAYLIGHT
BEGIN:STANDARD
TZOFFSETFROM:-0700
TZOFFSETTO:-0800
TZNAME:PST
DTSTART:20221106T090000
END:STANDARD
BEGIN:DAYLIGHT
TZOFFSETFROM:-0800
TZOFFSETTO:-0700
TZNAME:PDT
DTSTART:20230312T100000
END:DAYLIGHT
BEGIN:STANDARD
TZOFFSETFROM:-0700
TZOFFSETTO:-0800
TZNAME:PST
DTSTART:20231105T090000
END:STANDARD
BEGIN:DAYLIGHT
TZOFFSETFROM:-0800
TZOFFSETTO:-0700
TZNAME:PDT
DTSTART:20240310T100000
END:DAYLIGHT
BEGIN:STANDARD
TZOFFSETFROM:-0700
TZOFFSETTO:-0800
TZNAME:PST
DTSTART:20241103T090000
END:STANDARD
END:VTIMEZONE
BEGIN:VEVENT
DTSTART;VALUE=DATE:20230804
DTEND;VALUE=DATE:20230805
DTSTAMP:20260421T172253
CREATED:20230223T174822Z
LAST-MODIFIED:20230223T174822Z
UID:2185-1691107200-1691193599@folsomhindutemple.org
SUMMARY:Sankatahara Chathurthi
DESCRIPTION:
URL:https://folsomhindutemple.org/event/sankatahara-chathurthi-10/
END:VEVENT
BEGIN:VEVENT
DTSTART;VALUE=DATE:20230808
DTEND;VALUE=DATE:20230809
DTSTAMP:20260421T172253
CREATED:20230223T175207Z
LAST-MODIFIED:20230223T175207Z
UID:2263-1691452800-1691539199@folsomhindutemple.org
SUMMARY:Krithigai
DESCRIPTION:
URL:https://folsomhindutemple.org/event/krithigai-6/
END:VEVENT
BEGIN:VEVENT
DTSTART;VALUE=DATE:20230811
DTEND;VALUE=DATE:20230812
DTSTAMP:20260421T172253
CREATED:20230223T174852Z
LAST-MODIFIED:20230223T174852Z
UID:2198-1691712000-1691798399@folsomhindutemple.org
SUMMARY:Ekadasi
DESCRIPTION:
URL:https://folsomhindutemple.org/event/ekadasi-16/
END:VEVENT
BEGIN:VEVENT
DTSTART;VALUE=DATE:20230813
DTEND;VALUE=DATE:20230814
DTSTAMP:20260421T172253
CREATED:20230223T174952Z
LAST-MODIFIED:20230223T174952Z
UID:2218-1691884800-1691971199@folsomhindutemple.org
SUMMARY:Pradosham
DESCRIPTION:
URL:https://folsomhindutemple.org/event/pradosham-20/
END:VEVENT
BEGIN:VEVENT
DTSTART;VALUE=DATE:20230815
DTEND;VALUE=DATE:20230816
DTSTAMP:20260421T172253
CREATED:20230223T175037Z
LAST-MODIFIED:20230223T175037Z
UID:2233-1692057600-1692143999@folsomhindutemple.org
SUMMARY:Amavasya
DESCRIPTION:
URL:https://folsomhindutemple.org/event/amavasya-6/
END:VEVENT
BEGIN:VEVENT
DTSTART;VALUE=DATE:20230817
DTEND;VALUE=DATE:20230818
DTSTAMP:20260421T172253
CREATED:20230223T175137Z
LAST-MODIFIED:20230223T175137Z
UID:2253-1692230400-1692316799@folsomhindutemple.org
SUMMARY:Maasa Pirappu (Month Begins)
DESCRIPTION:
URL:https://folsomhindutemple.org/event/maasa-pirappu-month-begins-6/
END:VEVENT
BEGIN:VEVENT
DTSTART;VALUE=DATE:20230820
DTEND;VALUE=DATE:20230821
DTSTAMP:20260421T172253
CREATED:20230223T175107Z
LAST-MODIFIED:20230223T175107Z
UID:2243-1692489600-1692575999@folsomhindutemple.org
SUMMARY:Chathurthi
DESCRIPTION:
URL:https://folsomhindutemple.org/event/chathurthi-6/
END:VEVENT
BEGIN:VEVENT
DTSTART;VALUE=DATE:20230821
DTEND;VALUE=DATE:20230906
DTSTAMP:20260421T172253
CREATED:20230808T161231Z
LAST-MODIFIED:20230808T161231Z
UID:2356-1692576000-1693958399@folsomhindutemple.org
SUMMARY:Fourth Year Samvatsara Abhishega Alankara Mahotsavam
DESCRIPTION:
URL:https://folsomhindutemple.org/event/fourth-year-samvatsara-abhishega-alankara-mahotsavam/
END:VEVENT
BEGIN:VEVENT
DTSTART;VALUE=DATE:20230824
DTEND;VALUE=DATE:20230825
DTSTAMP:20260421T172253
CREATED:20230223T175252Z
LAST-MODIFIED:20230223T175252Z
UID:2275-1692835200-1692921599@folsomhindutemple.org
SUMMARY:Anusham
DESCRIPTION:
URL:https://folsomhindutemple.org/event/anusham-12/
END:VEVENT
BEGIN:VEVENT
DTSTART;VALUE=DATE:20230827
DTEND;VALUE=DATE:20230828
DTSTAMP:20260421T172253
CREATED:20230223T174907Z
LAST-MODIFIED:20230223T174907Z
UID:2199-1693094400-1693180799@folsomhindutemple.org
SUMMARY:Ekadasi
DESCRIPTION:
URL:https://folsomhindutemple.org/event/ekadasi-17/
END:VEVENT
BEGIN:VEVENT
DTSTART;VALUE=DATE:20230828
DTEND;VALUE=DATE:20230829
DTSTAMP:20260421T172253
CREATED:20230223T175007Z
LAST-MODIFIED:20230223T175007Z
UID:2219-1693180800-1693267199@folsomhindutemple.org
SUMMARY:Pradosham
DESCRIPTION:
URL:https://folsomhindutemple.org/event/pradosham-21/
END:VEVENT
BEGIN:VEVENT
DTSTART;VALUE=DATE:20230829
DTEND;VALUE=DATE:20230830
DTSTAMP:20260421T172253
CREATED:20230223T181622Z
LAST-MODIFIED:20230223T181622Z
UID:2296-1693267200-1693353599@folsomhindutemple.org
SUMMARY:Rig Upakarma
DESCRIPTION:
URL:https://folsomhindutemple.org/event/rig-upakarma/
END:VEVENT
BEGIN:VEVENT
DTSTART;VALUE=DATE:20230830
DTEND;VALUE=DATE:20230831
DTSTAMP:20260421T172253
CREATED:20230223T174805Z
LAST-MODIFIED:20230223T174805Z
UID:2175-1693353600-1693439999@folsomhindutemple.org
SUMMARY:Pournami
DESCRIPTION:
URL:https://folsomhindutemple.org/event/pournami-11/
END:VEVENT
BEGIN:VEVENT
DTSTART;VALUE=DATE:20230830
DTEND;VALUE=DATE:20230831
DTSTAMP:20260421T172253
CREATED:20230223T181654Z
LAST-MODIFIED:20230223T181654Z
UID:2298-1693353600-1693439999@folsomhindutemple.org
SUMMARY:Yajur Upakarma
DESCRIPTION:
URL:https://folsomhindutemple.org/event/yajur-upakarma/
END:VEVENT
BEGIN:VEVENT
DTSTART;VALUE=DATE:20230831
DTEND;VALUE=DATE:20230901
DTSTAMP:20260421T172253
CREATED:20230223T181726Z
LAST-MODIFIED:20230223T181726Z
UID:2300-1693440000-1693526399@folsomhindutemple.org
SUMMARY:Gayathri Japam
DESCRIPTION:
URL:https://folsomhindutemple.org/event/gayathri-japam/
END:VEVENT
BEGIN:VEVENT
DTSTART;VALUE=DATE:20230902
DTEND;VALUE=DATE:20230903
DTSTAMP:20260421T172253
CREATED:20230223T174822Z
LAST-MODIFIED:20230223T174822Z
UID:2186-1693612800-1693699199@folsomhindutemple.org
SUMMARY:Sankatahara Chathurthi
DESCRIPTION:
URL:https://folsomhindutemple.org/event/sankatahara-chathurthi-11/
END:VEVENT
BEGIN:VEVENT
DTSTART;VALUE=DATE:20230905
DTEND;VALUE=DATE:20230906
DTSTAMP:20260421T172253
CREATED:20230223T175222Z
LAST-MODIFIED:20230223T175222Z
UID:2264-1693872000-1693958399@folsomhindutemple.org
SUMMARY:Krithigai
DESCRIPTION:
URL:https://folsomhindutemple.org/event/krithigai-7/
END:VEVENT
BEGIN:VEVENT
DTSTART;VALUE=DATE:20230906
DTEND;VALUE=DATE:20230907
DTSTAMP:20260421T172253
CREATED:20230223T181813Z
LAST-MODIFIED:20230223T181813Z
UID:2302-1693958400-1694044799@folsomhindutemple.org
SUMMARY:Gokulashtami
DESCRIPTION:
URL:https://folsomhindutemple.org/event/gokulashtami/
END:VEVENT
BEGIN:VEVENT
DTSTART;VALUE=DATE:20230909
DTEND;VALUE=DATE:20230910
DTSTAMP:20260421T172253
CREATED:20230223T174907Z
LAST-MODIFIED:20230223T174907Z
UID:2200-1694217600-1694303999@folsomhindutemple.org
SUMMARY:Ekadasi
DESCRIPTION:
URL:https://folsomhindutemple.org/event/ekadasi-18/
END:VEVENT
BEGIN:VEVENT
DTSTART;VALUE=DATE:20230912
DTEND;VALUE=DATE:20230913
DTSTAMP:20260421T172253
CREATED:20230223T175007Z
LAST-MODIFIED:20230223T175007Z
UID:2220-1694476800-1694563199@folsomhindutemple.org
SUMMARY:Pradosham
DESCRIPTION:
URL:https://folsomhindutemple.org/event/pradosham-22/
END:VEVENT
BEGIN:VEVENT
DTSTART;VALUE=DATE:20230914
DTEND;VALUE=DATE:20230915
DTSTAMP:20260421T172253
CREATED:20230223T175052Z
LAST-MODIFIED:20230223T175052Z
UID:2234-1694649600-1694735999@folsomhindutemple.org
SUMMARY:Amavasya
DESCRIPTION:
URL:https://folsomhindutemple.org/event/amavasya-7/
END:VEVENT
BEGIN:VEVENT
DTSTART;VALUE=DATE:20230916
DTEND;VALUE=DATE:20230917
DTSTAMP:20260421T172253
CREATED:20230223T181845Z
LAST-MODIFIED:20230223T181845Z
UID:2304-1694822400-1694908799@folsomhindutemple.org
SUMMARY:Sama Upakarma
DESCRIPTION:
URL:https://folsomhindutemple.org/event/sama-upakarma/
END:VEVENT
BEGIN:VEVENT
DTSTART;VALUE=DATE:20230917
DTEND;VALUE=DATE:20230918
DTSTAMP:20260421T172253
CREATED:20230223T175152Z
LAST-MODIFIED:20230223T175152Z
UID:2254-1694908800-1694995199@folsomhindutemple.org
SUMMARY:Maasa Pirappu (Month Begins)
DESCRIPTION:
URL:https://folsomhindutemple.org/event/maasa-pirappu-month-begins-7/
END:VEVENT
BEGIN:VEVENT
DTSTART;VALUE=DATE:20230918
DTEND;VALUE=DATE:20230919
DTSTAMP:20260421T172253
CREATED:20230223T175122Z
LAST-MODIFIED:20230223T175122Z
UID:2244-1694995200-1695081599@folsomhindutemple.org
SUMMARY:Chathurthi
DESCRIPTION:
URL:https://folsomhindutemple.org/event/chathurthi-7/
END:VEVENT
BEGIN:VEVENT
DTSTART;VALUE=DATE:20230918
DTEND;VALUE=DATE:20230919
DTSTAMP:20260421T172253
CREATED:20230223T181915Z
LAST-MODIFIED:20230223T181915Z
UID:2306-1694995200-1695081599@folsomhindutemple.org
SUMMARY:Ganesh Chathurthi
DESCRIPTION:
URL:https://folsomhindutemple.org/event/ganesh-chathurthi/
END:VEVENT
BEGIN:VEVENT
DTSTART;VALUE=DATE:20230920
DTEND;VALUE=DATE:20230921
DTSTAMP:20260421T172253
CREATED:20230223T175252Z
LAST-MODIFIED:20230223T175252Z
UID:2276-1695168000-1695254399@folsomhindutemple.org
SUMMARY:Anusham
DESCRIPTION:
URL:https://folsomhindutemple.org/event/anusham-13/
END:VEVENT
BEGIN:VEVENT
DTSTART;VALUE=DATE:20230925
DTEND;VALUE=DATE:20230926
DTSTAMP:20260421T172253
CREATED:20230223T174907Z
LAST-MODIFIED:20230223T174907Z
UID:2201-1695600000-1695686399@folsomhindutemple.org
SUMMARY:Ekadasi
DESCRIPTION:
URL:https://folsomhindutemple.org/event/ekadasi-19/
END:VEVENT
BEGIN:VEVENT
DTSTART;VALUE=DATE:20230926
DTEND;VALUE=DATE:20230927
DTSTAMP:20260421T172253
CREATED:20230223T175007Z
LAST-MODIFIED:20230223T175007Z
UID:2221-1695686400-1695772799@folsomhindutemple.org
SUMMARY:Pradosham
DESCRIPTION:
URL:https://folsomhindutemple.org/event/pradosham-23/
END:VEVENT
BEGIN:VEVENT
DTSTART;VALUE=DATE:20230928
DTEND;VALUE=DATE:20230929
DTSTAMP:20260421T172253
CREATED:20230223T174805Z
LAST-MODIFIED:20230223T174805Z
UID:2176-1695859200-1695945599@folsomhindutemple.org
SUMMARY:Pournami
DESCRIPTION:
URL:https://folsomhindutemple.org/event/pournami-12/
END:VEVENT
BEGIN:VEVENT
DTSTART;VALUE=DATE:20231001
DTEND;VALUE=DATE:20231002
DTSTAMP:20260421T172253
CREATED:20230223T174822Z
LAST-MODIFIED:20230223T174822Z
UID:2187-1696118400-1696204799@folsomhindutemple.org
SUMMARY:Sankatahara Chathurthi
DESCRIPTION:
URL:https://folsomhindutemple.org/event/sankatahara-chathurthi-12/
END:VEVENT
END:VCALENDAR