BEGIN:VCALENDAR
VERSION:2.0
PRODID:-// - ECPv6.15.20//NONSGML v1.0//EN
CALSCALE:GREGORIAN
METHOD:PUBLISH
X-ORIGINAL-URL:https://folsomhindutemple.org
X-WR-CALDESC:Events for 
REFRESH-INTERVAL;VALUE=DURATION:PT1H
X-Robots-Tag:noindex
X-PUBLISHED-TTL:PT1H
BEGIN:VTIMEZONE
TZID:America/Los_Angeles
BEGIN:DAYLIGHT
TZOFFSETFROM:-0800
TZOFFSETTO:-0700
TZNAME:PDT
DTSTART:20250309T100000
END:DAYLIGHT
BEGIN:STANDARD
TZOFFSETFROM:-0700
TZOFFSETTO:-0800
TZNAME:PST
DTSTART:20251102T090000
END:STANDARD
BEGIN:DAYLIGHT
TZOFFSETFROM:-0800
TZOFFSETTO:-0700
TZNAME:PDT
DTSTART:20260308T100000
END:DAYLIGHT
BEGIN:STANDARD
TZOFFSETFROM:-0700
TZOFFSETTO:-0800
TZNAME:PST
DTSTART:20261101T090000
END:STANDARD
BEGIN:DAYLIGHT
TZOFFSETFROM:-0800
TZOFFSETTO:-0700
TZNAME:PDT
DTSTART:20270314T100000
END:DAYLIGHT
BEGIN:STANDARD
TZOFFSETFROM:-0700
TZOFFSETTO:-0800
TZNAME:PST
DTSTART:20271107T090000
END:STANDARD
END:VTIMEZONE
BEGIN:VEVENT
DTSTART;VALUE=DATE:20260401
DTEND;VALUE=DATE:20260402
DTSTAMP:20260419T145550
CREATED:20260104T205009Z
LAST-MODIFIED:20260104T205009Z
UID:2831-1775001600-1775087999@folsomhindutemple.org
SUMMARY:Hanuman Jayanthi
DESCRIPTION:
URL:https://folsomhindutemple.org/event/hanuman-jayanthi-2/
END:VEVENT
BEGIN:VEVENT
DTSTART;VALUE=DATE:20260404
DTEND;VALUE=DATE:20260405
DTSTAMP:20260419T145550
CREATED:20260104T205009Z
LAST-MODIFIED:20260104T205009Z
UID:2832-1775260800-1775347199@folsomhindutemple.org
SUMMARY:Sankatahara Chathurthi
DESCRIPTION:
URL:https://folsomhindutemple.org/event/sankatahara-chathurthi-41/
END:VEVENT
BEGIN:VEVENT
DTSTART;VALUE=DATE:20260406
DTEND;VALUE=DATE:20260407
DTSTAMP:20260419T145550
CREATED:20260104T205009Z
LAST-MODIFIED:20260104T205009Z
UID:2833-1775433600-1775519999@folsomhindutemple.org
SUMMARY:Anusham
DESCRIPTION:
URL:https://folsomhindutemple.org/event/anusham-30/
END:VEVENT
BEGIN:VEVENT
DTSTART;VALUE=DATE:20260413
DTEND;VALUE=DATE:20260414
DTSTAMP:20260419T145550
CREATED:20260104T205009Z
LAST-MODIFIED:20260104T205009Z
UID:2834-1776038400-1776124799@folsomhindutemple.org
SUMMARY:Ekadasi
DESCRIPTION:
URL:https://folsomhindutemple.org/event/ekadasi-51/
END:VEVENT
BEGIN:VEVENT
DTSTART;VALUE=DATE:20260414
DTEND;VALUE=DATE:20260415
DTSTAMP:20260419T145550
CREATED:20260104T205210Z
LAST-MODIFIED:20260104T205210Z
UID:2835-1776124800-1776211199@folsomhindutemple.org
SUMMARY:Tamil New Year / Sankaranti
DESCRIPTION:
URL:https://folsomhindutemple.org/event/tamil-new-year-sankaranti/
END:VEVENT
BEGIN:VEVENT
DTSTART;VALUE=DATE:20260414
DTEND;VALUE=DATE:20260415
DTSTAMP:20260419T145550
CREATED:20260104T205210Z
LAST-MODIFIED:20260104T205210Z
UID:2836-1776124800-1776211199@folsomhindutemple.org
SUMMARY:Sankaramanam
DESCRIPTION:
URL:https://folsomhindutemple.org/event/sankaramanam-24/
END:VEVENT
BEGIN:VEVENT
DTSTART;VALUE=DATE:20260414
DTEND;VALUE=DATE:20260415
DTSTAMP:20260419T145550
CREATED:20260104T205210Z
LAST-MODIFIED:20260104T205210Z
UID:2837-1776124800-1776211199@folsomhindutemple.org
SUMMARY:Pradosham
DESCRIPTION:
URL:https://folsomhindutemple.org/event/pradosham-80/
END:VEVENT
BEGIN:VEVENT
DTSTART;VALUE=DATE:20260416
DTEND;VALUE=DATE:20260417
DTSTAMP:20260419T145550
CREATED:20260112T175909Z
LAST-MODIFIED:20260112T175909Z
UID:2943-1776297600-1776383999@folsomhindutemple.org
SUMMARY:Amavasai
DESCRIPTION:
URL:https://folsomhindutemple.org/event/amavasai-29/
END:VEVENT
BEGIN:VEVENT
DTSTART;VALUE=DATE:20260419
DTEND;VALUE=DATE:20260420
DTSTAMP:20260419T145550
CREATED:20260104T205210Z
LAST-MODIFIED:20260104T205210Z
UID:2838-1776556800-1776643199@folsomhindutemple.org
SUMMARY:Akshaya Trithiyai
DESCRIPTION:
URL:https://folsomhindutemple.org/event/akshaya-trithiyai-3/
END:VEVENT
BEGIN:VEVENT
DTSTART;VALUE=DATE:20260421
DTEND;VALUE=DATE:20260422
DTSTAMP:20260419T145550
CREATED:20260104T205210Z
LAST-MODIFIED:20260104T205210Z
UID:2839-1776729600-1776815999@folsomhindutemple.org
SUMMARY:Sankara Jayanthi
DESCRIPTION:
URL:https://folsomhindutemple.org/event/sankara-jayanthi-2/
END:VEVENT
BEGIN:VEVENT
DTSTART;VALUE=DATE:20260422
DTEND;VALUE=DATE:20260423
DTSTAMP:20260419T145550
CREATED:20260104T205411Z
LAST-MODIFIED:20260104T205411Z
UID:2840-1776816000-1776902399@folsomhindutemple.org
SUMMARY:Ramanuja Jayanthi
DESCRIPTION:
URL:https://folsomhindutemple.org/event/ramanuja-jayanthi-2/
END:VEVENT
BEGIN:VEVENT
DTSTART;VALUE=DATE:20260427
DTEND;VALUE=DATE:20260428
DTSTAMP:20260419T145550
CREATED:20260104T205411Z
LAST-MODIFIED:20260104T205411Z
UID:2841-1777248000-1777334399@folsomhindutemple.org
SUMMARY:Ekadasi
DESCRIPTION:
URL:https://folsomhindutemple.org/event/ekadasi-52/
END:VEVENT
BEGIN:VEVENT
DTSTART;VALUE=DATE:20260428
DTEND;VALUE=DATE:20260429
DTSTAMP:20260419T145550
CREATED:20260104T205411Z
LAST-MODIFIED:20260104T205411Z
UID:2842-1777334400-1777420799@folsomhindutemple.org
SUMMARY:Pradosham
DESCRIPTION:
URL:https://folsomhindutemple.org/event/pradosham-81/
END:VEVENT
BEGIN:VEVENT
DTSTART;VALUE=DATE:20260501
DTEND;VALUE=DATE:20260502
DTSTAMP:20260419T145550
CREATED:20260104T205412Z
LAST-MODIFIED:20260104T205412Z
UID:2843-1777593600-1777679999@folsomhindutemple.org
SUMMARY:Chitra Pournami
DESCRIPTION:
URL:https://folsomhindutemple.org/event/chitra-pournami-2/
END:VEVENT
BEGIN:VEVENT
DTSTART;VALUE=DATE:20260503
DTEND;VALUE=DATE:20260504
DTSTAMP:20260419T145550
CREATED:20260104T205412Z
LAST-MODIFIED:20260104T205412Z
UID:2844-1777766400-1777852799@folsomhindutemple.org
SUMMARY:Anusham
DESCRIPTION:
URL:https://folsomhindutemple.org/event/anusham-31/
END:VEVENT
BEGIN:VEVENT
DTSTART;VALUE=DATE:20260504
DTEND;VALUE=DATE:20260505
DTSTAMP:20260419T145550
CREATED:20260104T205838Z
LAST-MODIFIED:20260104T205838Z
UID:2845-1777852800-1777939199@folsomhindutemple.org
SUMMARY:Sankatahara Chathurthi
DESCRIPTION:
URL:https://folsomhindutemple.org/event/sankatahara-chathurthi-42/
END:VEVENT
BEGIN:VEVENT
DTSTART;VALUE=DATE:20260512
DTEND;VALUE=DATE:20260513
DTSTAMP:20260419T145550
CREATED:20260104T205838Z
LAST-MODIFIED:20260104T205838Z
UID:2846-1778544000-1778630399@folsomhindutemple.org
SUMMARY:Ekadasi
DESCRIPTION:
URL:https://folsomhindutemple.org/event/ekadasi-53/
END:VEVENT
BEGIN:VEVENT
DTSTART;VALUE=DATE:20260513
DTEND;VALUE=DATE:20260514
DTSTAMP:20260419T145550
CREATED:20260104T205838Z
LAST-MODIFIED:20260104T205838Z
UID:2847-1778630400-1778716799@folsomhindutemple.org
SUMMARY:Pradosham
DESCRIPTION:
URL:https://folsomhindutemple.org/event/pradosham-82/
END:VEVENT
BEGIN:VEVENT
DTSTART;VALUE=DATE:20260514
DTEND;VALUE=DATE:20260515
DTSTAMP:20260419T145550
CREATED:20260104T205839Z
LAST-MODIFIED:20260104T205839Z
UID:2848-1778716800-1778803199@folsomhindutemple.org
SUMMARY:Sankaramanam
DESCRIPTION:
URL:https://folsomhindutemple.org/event/sankaramanam-25/
END:VEVENT
BEGIN:VEVENT
DTSTART;VALUE=DATE:20260516
DTEND;VALUE=DATE:20260517
DTSTAMP:20260419T145550
CREATED:20260112T175910Z
LAST-MODIFIED:20260112T175910Z
UID:2944-1778889600-1778975999@folsomhindutemple.org
SUMMARY:Amavasai
DESCRIPTION:
URL:https://folsomhindutemple.org/event/amavasai-30/
END:VEVENT
BEGIN:VEVENT
DTSTART;VALUE=DATE:20260526
DTEND;VALUE=DATE:20260527
DTSTAMP:20260419T145550
CREATED:20260104T205839Z
LAST-MODIFIED:20260104T205839Z
UID:2849-1779753600-1779839999@folsomhindutemple.org
SUMMARY:Ekadasi
DESCRIPTION:
URL:https://folsomhindutemple.org/event/ekadasi-54/
END:VEVENT
BEGIN:VEVENT
DTSTART;VALUE=DATE:20260527
DTEND;VALUE=DATE:20260528
DTSTAMP:20260419T145550
CREATED:20260104T205853Z
LAST-MODIFIED:20260104T205853Z
UID:2850-1779840000-1779926399@folsomhindutemple.org
SUMMARY:Pradosham
DESCRIPTION:
URL:https://folsomhindutemple.org/event/pradosham-83/
END:VEVENT
BEGIN:VEVENT
DTSTART;VALUE=DATE:20260529
DTEND;VALUE=DATE:20260530
DTSTAMP:20260419T145550
CREATED:20260104T205853Z
LAST-MODIFIED:20260104T205853Z
UID:2851-1780012800-1780099199@folsomhindutemple.org
SUMMARY:Vaikaci Visakam
DESCRIPTION:
URL:https://folsomhindutemple.org/event/vaikaci-visakam/
END:VEVENT
BEGIN:VEVENT
DTSTART;VALUE=DATE:20260530
DTEND;VALUE=DATE:20260531
DTSTAMP:20260419T145550
CREATED:20260104T205853Z
LAST-MODIFIED:20260104T205853Z
UID:2852-1780099200-1780185599@folsomhindutemple.org
SUMMARY:Anusham
DESCRIPTION:
URL:https://folsomhindutemple.org/event/anusham-32/
END:VEVENT
BEGIN:VEVENT
DTSTART;VALUE=DATE:20260530
DTEND;VALUE=DATE:20260531
DTSTAMP:20260419T145550
CREATED:20260104T205853Z
LAST-MODIFIED:20260104T205853Z
UID:2853-1780099200-1780185599@folsomhindutemple.org
SUMMARY:Sri Maha Periyavaa Jayanthi
DESCRIPTION:
URL:https://folsomhindutemple.org/event/sri-maha-periyavaa-jayanthi/
END:VEVENT
BEGIN:VEVENT
DTSTART;VALUE=DATE:20260601
DTEND;VALUE=DATE:20260602
DTSTAMP:20260419T145550
CREATED:20260104T205854Z
LAST-MODIFIED:20260104T205854Z
UID:2854-1780272000-1780358399@folsomhindutemple.org
SUMMARY:Guru Peryarchi
DESCRIPTION:
URL:https://folsomhindutemple.org/event/guru-peryarchi/
END:VEVENT
BEGIN:VEVENT
DTSTART;VALUE=DATE:20260603
DTEND;VALUE=DATE:20260604
DTSTAMP:20260419T145550
CREATED:20260104T205927Z
LAST-MODIFIED:20260104T205927Z
UID:2855-1780444800-1780531199@folsomhindutemple.org
SUMMARY:Sankatahara Chathurthi
DESCRIPTION:
URL:https://folsomhindutemple.org/event/sankatahara-chathurthi-43/
END:VEVENT
BEGIN:VEVENT
DTSTART;VALUE=DATE:20260610
DTEND;VALUE=DATE:20260611
DTSTAMP:20260419T145550
CREATED:20260104T205928Z
LAST-MODIFIED:20260104T205928Z
UID:2856-1781049600-1781135999@folsomhindutemple.org
SUMMARY:Ekadasi
DESCRIPTION:
URL:https://folsomhindutemple.org/event/ekadasi-55/
END:VEVENT
BEGIN:VEVENT
DTSTART;VALUE=DATE:20260612
DTEND;VALUE=DATE:20260613
DTSTAMP:20260419T145551
CREATED:20260104T205928Z
LAST-MODIFIED:20260104T205928Z
UID:2857-1781222400-1781308799@folsomhindutemple.org
SUMMARY:Pradosham
DESCRIPTION:
URL:https://folsomhindutemple.org/event/pradosham-84/
END:VEVENT
BEGIN:VEVENT
DTSTART;VALUE=DATE:20260614
DTEND;VALUE=DATE:20260615
DTSTAMP:20260419T145551
CREATED:20260112T175911Z
LAST-MODIFIED:20260112T175911Z
UID:2945-1781395200-1781481599@folsomhindutemple.org
SUMMARY:Amavasai
DESCRIPTION:
URL:https://folsomhindutemple.org/event/amavasai-31/
END:VEVENT
END:VCALENDAR