BEGIN:VCALENDAR
VERSION:2.0
PRODID:-// - ECPv6.15.20//NONSGML v1.0//EN
CALSCALE:GREGORIAN
METHOD:PUBLISH
X-ORIGINAL-URL:https://folsomhindutemple.org
X-WR-CALDESC:Events for 
REFRESH-INTERVAL;VALUE=DURATION:PT1H
X-Robots-Tag:noindex
X-PUBLISHED-TTL:PT1H
BEGIN:VTIMEZONE
TZID:America/Los_Angeles
BEGIN:DAYLIGHT
TZOFFSETFROM:-0800
TZOFFSETTO:-0700
TZNAME:PDT
DTSTART:20230312T100000
END:DAYLIGHT
BEGIN:STANDARD
TZOFFSETFROM:-0700
TZOFFSETTO:-0800
TZNAME:PST
DTSTART:20231105T090000
END:STANDARD
BEGIN:DAYLIGHT
TZOFFSETFROM:-0800
TZOFFSETTO:-0700
TZNAME:PDT
DTSTART:20240310T100000
END:DAYLIGHT
BEGIN:STANDARD
TZOFFSETFROM:-0700
TZOFFSETTO:-0800
TZNAME:PST
DTSTART:20241103T090000
END:STANDARD
BEGIN:DAYLIGHT
TZOFFSETFROM:-0800
TZOFFSETTO:-0700
TZNAME:PDT
DTSTART:20250309T100000
END:DAYLIGHT
BEGIN:STANDARD
TZOFFSETFROM:-0700
TZOFFSETTO:-0800
TZNAME:PST
DTSTART:20251102T090000
END:STANDARD
END:VTIMEZONE
BEGIN:VEVENT
DTSTART;VALUE=DATE:20240301
DTEND;VALUE=DATE:20240302
DTSTAMP:20260422T042523
CREATED:20240228T224156Z
LAST-MODIFIED:20240228T224156Z
UID:2554-1709251200-1709337599@folsomhindutemple.org
SUMMARY:Shasti
DESCRIPTION:
URL:https://folsomhindutemple.org/event/shasti-19/
END:VEVENT
BEGIN:VEVENT
DTSTART;VALUE=DATE:20240302
DTEND;VALUE=DATE:20240303
DTSTAMP:20260422T042523
CREATED:20240228T224226Z
LAST-MODIFIED:20240228T224226Z
UID:2561-1709337600-1709423999@folsomhindutemple.org
SUMMARY:Anusham
DESCRIPTION:
URL:https://folsomhindutemple.org/event/anusham-27/
END:VEVENT
BEGIN:VEVENT
DTSTART;VALUE=DATE:20240306
DTEND;VALUE=DATE:20240307
DTSTAMP:20260422T042523
CREATED:20240228T224157Z
LAST-MODIFIED:20240228T224157Z
UID:2555-1709683200-1709769599@folsomhindutemple.org
SUMMARY:Ekadasi
DESCRIPTION:
URL:https://folsomhindutemple.org/event/ekadasi-43/
END:VEVENT
BEGIN:VEVENT
DTSTART;VALUE=DATE:20240307
DTEND;VALUE=DATE:20240308
DTSTAMP:20260422T042523
CREATED:20240228T223756Z
LAST-MODIFIED:20240228T223756Z
UID:2473-1709769600-1709855999@folsomhindutemple.org
SUMMARY:Pradosham
DESCRIPTION:
URL:https://folsomhindutemple.org/event/pradosham-48/
END:VEVENT
BEGIN:VEVENT
DTSTART;VALUE=DATE:20240308
DTEND;VALUE=DATE:20240309
DTSTAMP:20260422T042523
CREATED:20240228T223756Z
LAST-MODIFIED:20240228T223756Z
UID:2474-1709856000-1709942399@folsomhindutemple.org
SUMMARY:MahaShivarathri
DESCRIPTION:
URL:https://folsomhindutemple.org/event/mahashivarathri/
END:VEVENT
BEGIN:VEVENT
DTSTART;VALUE=DATE:20240309
DTEND;VALUE=DATE:20240310
DTSTAMP:20260422T042523
CREATED:20240228T224211Z
LAST-MODIFIED:20240228T224211Z
UID:2556-1709942400-1710028799@folsomhindutemple.org
SUMMARY:Amavasai
DESCRIPTION:
URL:https://folsomhindutemple.org/event/amavasai-14/
END:VEVENT
BEGIN:VEVENT
DTSTART;VALUE=DATE:20240313
DTEND;VALUE=DATE:20240314
DTSTAMP:20260422T042523
CREATED:20240228T223756Z
LAST-MODIFIED:20240228T223756Z
UID:2475-1710288000-1710374399@folsomhindutemple.org
SUMMARY:Karadayan Nonbu
DESCRIPTION:
URL:https://folsomhindutemple.org/event/karadayan-nonbu-2/
END:VEVENT
BEGIN:VEVENT
DTSTART;VALUE=DATE:20240314
DTEND;VALUE=DATE:20240315
DTSTAMP:20260422T042523
CREATED:20240228T223811Z
LAST-MODIFIED:20240228T223811Z
UID:2476-1710374400-1710460799@folsomhindutemple.org
SUMMARY:Sankaramanam
DESCRIPTION:
URL:https://folsomhindutemple.org/event/sankaramanam-10/
END:VEVENT
BEGIN:VEVENT
DTSTART;VALUE=DATE:20240315
DTEND;VALUE=DATE:20240316
DTSTAMP:20260422T042523
CREATED:20240228T224211Z
LAST-MODIFIED:20240228T224211Z
UID:2557-1710460800-1710547199@folsomhindutemple.org
SUMMARY:Shasti
DESCRIPTION:
URL:https://folsomhindutemple.org/event/shasti-20/
END:VEVENT
BEGIN:VEVENT
DTSTART;VALUE=DATE:20240315
DTEND;VALUE=DATE:20240316
DTSTAMP:20260422T042523
CREATED:20240228T224226Z
LAST-MODIFIED:20240228T224226Z
UID:2562-1710460800-1710547199@folsomhindutemple.org
SUMMARY:Kirthigai
DESCRIPTION:
URL:https://folsomhindutemple.org/event/kirthigai-11/
END:VEVENT
BEGIN:VEVENT
DTSTART;VALUE=DATE:20240320
DTEND;VALUE=DATE:20240321
DTSTAMP:20260422T042523
CREATED:20240228T224211Z
LAST-MODIFIED:20240228T224211Z
UID:2558-1710892800-1710979199@folsomhindutemple.org
SUMMARY:Ekadasi
DESCRIPTION:
URL:https://folsomhindutemple.org/event/ekadasi-44/
END:VEVENT
BEGIN:VEVENT
DTSTART;VALUE=DATE:20240321
DTEND;VALUE=DATE:20240322
DTSTAMP:20260422T042523
CREATED:20240228T223811Z
LAST-MODIFIED:20240228T223811Z
UID:2477-1710979200-1711065599@folsomhindutemple.org
SUMMARY:Pradosham
DESCRIPTION:
URL:https://folsomhindutemple.org/event/pradosham-49/
END:VEVENT
BEGIN:VEVENT
DTSTART;VALUE=DATE:20240324
DTEND;VALUE=DATE:20240325
DTSTAMP:20260422T042523
CREATED:20240228T223811Z
LAST-MODIFIED:20240228T223811Z
UID:2478-1711238400-1711324799@folsomhindutemple.org
SUMMARY:Panguni Uthiram
DESCRIPTION:
URL:https://folsomhindutemple.org/event/panguni-uthiram-2/
END:VEVENT
BEGIN:VEVENT
DTSTART;VALUE=DATE:20240324
DTEND;VALUE=DATE:20240325
DTSTAMP:20260422T042523
CREATED:20240228T224211Z
LAST-MODIFIED:20240228T224211Z
UID:2559-1711238400-1711324799@folsomhindutemple.org
SUMMARY:Pournami
DESCRIPTION:
URL:https://folsomhindutemple.org/event/pournami-25/
END:VEVENT
BEGIN:VEVENT
DTSTART;VALUE=DATE:20240325
DTEND;VALUE=DATE:20240326
DTSTAMP:20260422T042523
CREATED:20240228T223811Z
LAST-MODIFIED:20240228T223811Z
UID:2479-1711324800-1711411199@folsomhindutemple.org
SUMMARY:Holi
DESCRIPTION:
URL:https://folsomhindutemple.org/event/holi/
END:VEVENT
BEGIN:VEVENT
DTSTART;VALUE=DATE:20240328
DTEND;VALUE=DATE:20240329
DTSTAMP:20260422T042523
CREATED:20240228T223811Z
LAST-MODIFIED:20240228T223811Z
UID:2480-1711584000-1711670399@folsomhindutemple.org
SUMMARY:Sankatahara Chathurthi
DESCRIPTION:
URL:https://folsomhindutemple.org/event/sankatahara-chathurthi-25/
END:VEVENT
BEGIN:VEVENT
DTSTART;VALUE=DATE:20240329
DTEND;VALUE=DATE:20240330
DTSTAMP:20260422T042523
CREATED:20240228T224226Z
LAST-MODIFIED:20240228T224226Z
UID:2563-1711670400-1711756799@folsomhindutemple.org
SUMMARY:Anusham
DESCRIPTION:
URL:https://folsomhindutemple.org/event/anusham-28/
END:VEVENT
BEGIN:VEVENT
DTSTART;VALUE=DATE:20240330
DTEND;VALUE=DATE:20240331
DTSTAMP:20260422T042523
CREATED:20240228T224211Z
LAST-MODIFIED:20240228T224211Z
UID:2560-1711756800-1711843199@folsomhindutemple.org
SUMMARY:Shasti
DESCRIPTION:
URL:https://folsomhindutemple.org/event/shasti-21/
END:VEVENT
BEGIN:VEVENT
DTSTART;VALUE=DATE:20240404
DTEND;VALUE=DATE:20240405
DTSTAMP:20260422T042523
CREATED:20240228T224111Z
LAST-MODIFIED:20240228T224111Z
UID:2538-1712188800-1712275199@folsomhindutemple.org
SUMMARY:Ekadasi
DESCRIPTION:
URL:https://folsomhindutemple.org/event/ekadasi-39/
END:VEVENT
BEGIN:VEVENT
DTSTART;VALUE=DATE:20240406
DTEND;VALUE=DATE:20240407
DTSTAMP:20260422T042523
CREATED:20240228T223711Z
LAST-MODIFIED:20240228T223711Z
UID:2456-1712361600-1712447999@folsomhindutemple.org
SUMMARY:Pradosham
DESCRIPTION:
URL:https://folsomhindutemple.org/event/pradosham-44/
END:VEVENT
BEGIN:VEVENT
DTSTART;VALUE=DATE:20240408
DTEND;VALUE=DATE:20240409
DTSTAMP:20260422T042523
CREATED:20240228T224111Z
LAST-MODIFIED:20240228T224111Z
UID:2539-1712534400-1712620799@folsomhindutemple.org
SUMMARY:Amavasai
DESCRIPTION:
URL:https://folsomhindutemple.org/event/amavasai-12/
END:VEVENT
BEGIN:VEVENT
DTSTART;VALUE=DATE:20240409
DTEND;VALUE=DATE:20240410
DTSTAMP:20260422T042523
CREATED:20240228T223711Z
LAST-MODIFIED:20240228T223711Z
UID:2457-1712620800-1712707199@folsomhindutemple.org
SUMMARY:Ugadi / Gudi Padwa
DESCRIPTION:
URL:https://folsomhindutemple.org/event/ugadi-gudi-padwa/
END:VEVENT
BEGIN:VEVENT
DTSTART;VALUE=DATE:20240410
DTEND;VALUE=DATE:20240411
DTSTAMP:20260422T042523
CREATED:20240228T223711Z
LAST-MODIFIED:20240228T223711Z
UID:2458-1712707200-1712793599@folsomhindutemple.org
SUMMARY:Gowri Puja
DESCRIPTION:
URL:https://folsomhindutemple.org/event/gowri-puja/
END:VEVENT
BEGIN:VEVENT
DTSTART;VALUE=DATE:20240411
DTEND;VALUE=DATE:20240412
DTSTAMP:20260422T042523
CREATED:20240228T224126Z
LAST-MODIFIED:20240228T224126Z
UID:2544-1712793600-1712879999@folsomhindutemple.org
SUMMARY:Kirthigai
DESCRIPTION:
URL:https://folsomhindutemple.org/event/kirthigai-9/
END:VEVENT
BEGIN:VEVENT
DTSTART;VALUE=DATE:20240413
DTEND;VALUE=DATE:20240414
DTSTAMP:20260422T042523
CREATED:20240228T223711Z
LAST-MODIFIED:20240228T223711Z
UID:2459-1712966400-1713052799@folsomhindutemple.org
SUMMARY:Tamil New Year
DESCRIPTION:
URL:https://folsomhindutemple.org/event/tamil-new-year-2/
END:VEVENT
BEGIN:VEVENT
DTSTART;VALUE=DATE:20240413
DTEND;VALUE=DATE:20240414
DTSTAMP:20260422T042523
CREATED:20240228T223711Z
LAST-MODIFIED:20240228T223711Z
UID:2460-1712966400-1713052799@folsomhindutemple.org
SUMMARY:Sankaramanam
DESCRIPTION:
URL:https://folsomhindutemple.org/event/sankaramanam-8/
END:VEVENT
BEGIN:VEVENT
DTSTART;VALUE=DATE:20240413
DTEND;VALUE=DATE:20240414
DTSTAMP:20260422T042523
CREATED:20240228T224111Z
LAST-MODIFIED:20240228T224111Z
UID:2540-1712966400-1713052799@folsomhindutemple.org
SUMMARY:Shasti
DESCRIPTION:
URL:https://folsomhindutemple.org/event/shasti-15/
END:VEVENT
BEGIN:VEVENT
DTSTART;VALUE=DATE:20240414
DTEND;VALUE=DATE:20240415
DTSTAMP:20260422T042523
CREATED:20240228T223726Z
LAST-MODIFIED:20240228T223726Z
UID:2461-1713052800-1713139199@folsomhindutemple.org
SUMMARY:Vishu
DESCRIPTION:
URL:https://folsomhindutemple.org/event/vishu/
END:VEVENT
BEGIN:VEVENT
DTSTART;VALUE=DATE:20240416
DTEND;VALUE=DATE:20240417
DTSTAMP:20260422T042523
CREATED:20240228T223726Z
LAST-MODIFIED:20240228T223726Z
UID:2462-1713225600-1713311999@folsomhindutemple.org
SUMMARY:Rama Navami
DESCRIPTION:
URL:https://folsomhindutemple.org/event/rama-navami/
END:VEVENT
BEGIN:VEVENT
DTSTART;VALUE=DATE:20240419
DTEND;VALUE=DATE:20240420
DTSTAMP:20260422T042523
CREATED:20240228T224126Z
LAST-MODIFIED:20240228T224126Z
UID:2541-1713484800-1713571199@folsomhindutemple.org
SUMMARY:Ekadasi
DESCRIPTION:
URL:https://folsomhindutemple.org/event/ekadasi-40/
END:VEVENT
END:VCALENDAR