BEGIN:VCALENDAR
VERSION:2.0
PRODID:-// - ECPv6.15.20//NONSGML v1.0//EN
CALSCALE:GREGORIAN
METHOD:PUBLISH
X-ORIGINAL-URL:https://folsomhindutemple.org
X-WR-CALDESC:Events for 
REFRESH-INTERVAL;VALUE=DURATION:PT1H
X-Robots-Tag:noindex
X-PUBLISHED-TTL:PT1H
BEGIN:VTIMEZONE
TZID:America/Los_Angeles
BEGIN:DAYLIGHT
TZOFFSETFROM:-0800
TZOFFSETTO:-0700
TZNAME:PDT
DTSTART:20250309T100000
END:DAYLIGHT
BEGIN:STANDARD
TZOFFSETFROM:-0700
TZOFFSETTO:-0800
TZNAME:PST
DTSTART:20251102T090000
END:STANDARD
BEGIN:DAYLIGHT
TZOFFSETFROM:-0800
TZOFFSETTO:-0700
TZNAME:PDT
DTSTART:20260308T100000
END:DAYLIGHT
BEGIN:STANDARD
TZOFFSETFROM:-0700
TZOFFSETTO:-0800
TZNAME:PST
DTSTART:20261101T090000
END:STANDARD
BEGIN:DAYLIGHT
TZOFFSETFROM:-0800
TZOFFSETTO:-0700
TZNAME:PDT
DTSTART:20270314T100000
END:DAYLIGHT
BEGIN:STANDARD
TZOFFSETFROM:-0700
TZOFFSETTO:-0800
TZNAME:PST
DTSTART:20271107T090000
END:STANDARD
END:VTIMEZONE
BEGIN:VEVENT
DTSTART;VALUE=DATE:20261114
DTEND;VALUE=DATE:20261115
DTSTAMP:20260420T002851
CREATED:20260104T214130Z
LAST-MODIFIED:20260104T214130Z
UID:2921-1794614400-1794700799@folsomhindutemple.org
SUMMARY:Soora Samharam
DESCRIPTION:
URL:https://folsomhindutemple.org/event/soora-samharam-2/
END:VEVENT
BEGIN:VEVENT
DTSTART;VALUE=DATE:20261115
DTEND;VALUE=DATE:20261116
DTSTAMP:20260420T002851
CREATED:20260104T214131Z
LAST-MODIFIED:20260104T214131Z
UID:2923-1794700800-1794787199@folsomhindutemple.org
SUMMARY:Sri Subramania Swami Thirukalyanam
DESCRIPTION:
URL:https://folsomhindutemple.org/event/sri-subramania-swami-thirukalyanam/
END:VEVENT
BEGIN:VEVENT
DTSTART;VALUE=DATE:20261116
DTEND;VALUE=DATE:20261117
DTSTAMP:20260420T002851
CREATED:20260104T214131Z
LAST-MODIFIED:20260104T214131Z
UID:2924-1794787200-1794873599@folsomhindutemple.org
SUMMARY:Sankaramanam
DESCRIPTION:
URL:https://folsomhindutemple.org/event/sankaramanam-30/
END:VEVENT
BEGIN:VEVENT
DTSTART;VALUE=DATE:20261116
DTEND;VALUE=DATE:20261117
DTSTAMP:20260420T002851
CREATED:20260104T214330Z
LAST-MODIFIED:20260104T214330Z
UID:2925-1794787200-1794873599@folsomhindutemple.org
SUMMARY:Karthigai Mandalam begins
DESCRIPTION:
URL:https://folsomhindutemple.org/event/karthigai-mandalam-begins-2/
END:VEVENT
BEGIN:VEVENT
DTSTART;VALUE=DATE:20261120
DTEND;VALUE=DATE:20261121
DTSTAMP:20260420T002851
CREATED:20260104T214330Z
LAST-MODIFIED:20260104T214330Z
UID:2926-1795132800-1795219199@folsomhindutemple.org
SUMMARY:Ekadasi
DESCRIPTION:
URL:https://folsomhindutemple.org/event/ekadasi-66/
END:VEVENT
BEGIN:VEVENT
DTSTART;VALUE=DATE:20261121
DTEND;VALUE=DATE:20261122
DTSTAMP:20260420T002851
CREATED:20260104T214331Z
LAST-MODIFIED:20260104T214331Z
UID:2927-1795219200-1795305599@folsomhindutemple.org
SUMMARY:Pradosham
DESCRIPTION:
URL:https://folsomhindutemple.org/event/pradosham-95/
END:VEVENT
BEGIN:VEVENT
DTSTART;VALUE=DATE:20261123
DTEND;VALUE=DATE:20261124
DTSTAMP:20260420T002851
CREATED:20260104T214331Z
LAST-MODIFIED:20260104T214331Z
UID:2928-1795392000-1795478399@folsomhindutemple.org
SUMMARY:Karthigai Deepam
DESCRIPTION:
URL:https://folsomhindutemple.org/event/karthigai-deepam-2/
END:VEVENT
BEGIN:VEVENT
DTSTART;VALUE=DATE:20261127
DTEND;VALUE=DATE:20261128
DTSTAMP:20260420T002851
CREATED:20260104T214331Z
LAST-MODIFIED:20260104T214331Z
UID:2929-1795737600-1795823999@folsomhindutemple.org
SUMMARY:Sankatahara Chathurthi
DESCRIPTION:
URL:https://folsomhindutemple.org/event/sankatahara-chathurthi-49/
END:VEVENT
BEGIN:VEVENT
DTSTART;VALUE=DATE:20261204
DTEND;VALUE=DATE:20261205
DTSTAMP:20260420T002851
CREATED:20260104T214509Z
LAST-MODIFIED:20260104T214509Z
UID:2930-1796342400-1796428799@folsomhindutemple.org
SUMMARY:Ekadasi
DESCRIPTION:
URL:https://folsomhindutemple.org/event/ekadasi-67/
END:VEVENT
BEGIN:VEVENT
DTSTART;VALUE=DATE:20261205
DTEND;VALUE=DATE:20261206
DTSTAMP:20260420T002851
CREATED:20260104T214509Z
LAST-MODIFIED:20260104T214509Z
UID:2931-1796428800-1796515199@folsomhindutemple.org
SUMMARY:Pradosham
DESCRIPTION:
URL:https://folsomhindutemple.org/event/pradosham-96/
END:VEVENT
BEGIN:VEVENT
DTSTART;VALUE=DATE:20261207
DTEND;VALUE=DATE:20261208
DTSTAMP:20260420T002851
CREATED:20260104T214509Z
LAST-MODIFIED:20260104T214509Z
UID:2932-1796601600-1796687999@folsomhindutemple.org
SUMMARY:Anusham
DESCRIPTION:
URL:https://folsomhindutemple.org/event/anusham-39/
END:VEVENT
BEGIN:VEVENT
DTSTART;VALUE=DATE:20261208
DTEND;VALUE=DATE:20261209
DTSTAMP:20260420T002851
CREATED:20260112T175929Z
LAST-MODIFIED:20260112T175929Z
UID:2951-1796688000-1796774399@folsomhindutemple.org
SUMMARY:Amavasai
DESCRIPTION:
URL:https://folsomhindutemple.org/event/amavasai-37/
END:VEVENT
BEGIN:VEVENT
DTSTART;VALUE=DATE:20261216
DTEND;VALUE=DATE:20261217
DTSTAMP:20260420T002851
CREATED:20260104T214510Z
LAST-MODIFIED:20260104T214510Z
UID:2933-1797379200-1797465599@folsomhindutemple.org
SUMMARY:Sankaramanam
DESCRIPTION:
URL:https://folsomhindutemple.org/event/sankaramanam-31/
END:VEVENT
BEGIN:VEVENT
DTSTART;VALUE=DATE:20261219
DTEND;VALUE=DATE:20261220
DTSTAMP:20260420T002851
CREATED:20260104T214510Z
LAST-MODIFIED:20260104T214510Z
UID:2934-1797638400-1797724799@folsomhindutemple.org
SUMMARY:Vaikunta Ekadasi
DESCRIPTION:
URL:https://folsomhindutemple.org/event/vaikunta-ekadasi-4/
END:VEVENT
BEGIN:VEVENT
DTSTART;VALUE=DATE:20261221
DTEND;VALUE=DATE:20261222
DTSTAMP:20260420T002851
CREATED:20260104T214709Z
LAST-MODIFIED:20260104T214709Z
UID:2935-1797811200-1797897599@folsomhindutemple.org
SUMMARY:Pradosham
DESCRIPTION:
URL:https://folsomhindutemple.org/event/pradosham-97/
END:VEVENT
BEGIN:VEVENT
DTSTART;VALUE=DATE:20261224
DTEND;VALUE=DATE:20261225
DTSTAMP:20260420T002851
CREATED:20260104T214709Z
LAST-MODIFIED:20260104T214709Z
UID:2936-1798070400-1798156799@folsomhindutemple.org
SUMMARY:Arudhra Darisanam
DESCRIPTION:
URL:https://folsomhindutemple.org/event/arudhra-darisanam/
END:VEVENT
BEGIN:VEVENT
DTSTART;VALUE=DATE:20261226
DTEND;VALUE=DATE:20261227
DTSTAMP:20260420T002851
CREATED:20260104T214709Z
LAST-MODIFIED:20260104T214709Z
UID:2937-1798243200-1798329599@folsomhindutemple.org
SUMMARY:Sankatahara Chathurthi
DESCRIPTION:
URL:https://folsomhindutemple.org/event/sankatahara-chathurthi-50/
END:VEVENT
END:VCALENDAR