BEGIN:VCALENDAR
VERSION:2.0
PRODID:-// - ECPv6.15.20//NONSGML v1.0//EN
CALSCALE:GREGORIAN
METHOD:PUBLISH
X-ORIGINAL-URL:https://folsomhindutemple.org
X-WR-CALDESC:Events for 
REFRESH-INTERVAL;VALUE=DURATION:PT1H
X-Robots-Tag:noindex
X-PUBLISHED-TTL:PT1H
BEGIN:VTIMEZONE
TZID:America/Los_Angeles
BEGIN:DAYLIGHT
TZOFFSETFROM:-0800
TZOFFSETTO:-0700
TZNAME:PDT
DTSTART:20230312T100000
END:DAYLIGHT
BEGIN:STANDARD
TZOFFSETFROM:-0700
TZOFFSETTO:-0800
TZNAME:PST
DTSTART:20231105T090000
END:STANDARD
BEGIN:DAYLIGHT
TZOFFSETFROM:-0800
TZOFFSETTO:-0700
TZNAME:PDT
DTSTART:20240310T100000
END:DAYLIGHT
BEGIN:STANDARD
TZOFFSETFROM:-0700
TZOFFSETTO:-0800
TZNAME:PST
DTSTART:20241103T090000
END:STANDARD
BEGIN:DAYLIGHT
TZOFFSETFROM:-0800
TZOFFSETTO:-0700
TZNAME:PDT
DTSTART:20250309T100000
END:DAYLIGHT
BEGIN:STANDARD
TZOFFSETFROM:-0700
TZOFFSETTO:-0800
TZNAME:PST
DTSTART:20251102T090000
END:STANDARD
END:VTIMEZONE
BEGIN:VEVENT
DTSTART;VALUE=DATE:20241113
DTEND;VALUE=DATE:20241114
DTSTAMP:20260420T203737
CREATED:20240228T223641Z
LAST-MODIFIED:20240228T223641Z
UID:2450-1731456000-1731542399@folsomhindutemple.org
SUMMARY:Pradosham
DESCRIPTION:
URL:https://folsomhindutemple.org/event/pradosham-42/
END:VEVENT
BEGIN:VEVENT
DTSTART;VALUE=DATE:20241111
DTEND;VALUE=DATE:20241112
DTSTAMP:20260420T203737
CREATED:20240228T224041Z
LAST-MODIFIED:20240228T224041Z
UID:2530-1731283200-1731369599@folsomhindutemple.org
SUMMARY:Ekadasi
DESCRIPTION:
URL:https://folsomhindutemple.org/event/ekadasi-37/
END:VEVENT
BEGIN:VEVENT
DTSTART;VALUE=DATE:20241110
DTEND;VALUE=DATE:20241111
DTSTAMP:20260420T203737
CREATED:20240228T223641Z
LAST-MODIFIED:20240228T223641Z
UID:2449-1731196800-1731283199@folsomhindutemple.org
SUMMARY:Subramania Swami Thirukalyanam
DESCRIPTION:
URL:https://folsomhindutemple.org/event/subramania-swami-thirukalyanam/
END:VEVENT
BEGIN:VEVENT
DTSTART;VALUE=DATE:20241107
DTEND;VALUE=DATE:20241108
DTSTAMP:20260420T203737
CREATED:20240228T224041Z
LAST-MODIFIED:20240228T224041Z
UID:2529-1730937600-1731023999@folsomhindutemple.org
SUMMARY:Shasti
DESCRIPTION:
URL:https://folsomhindutemple.org/event/shasti-13/
END:VEVENT
BEGIN:VEVENT
DTSTART;VALUE=DATE:20241106
DTEND;VALUE=DATE:20241107
DTSTAMP:20260420T203737
CREATED:20240228T223641Z
LAST-MODIFIED:20240228T223641Z
UID:2448-1730851200-1730937599@folsomhindutemple.org
SUMMARY:Soora Samharam
DESCRIPTION:
URL:https://folsomhindutemple.org/event/soora-samharam/
END:VEVENT
BEGIN:VEVENT
DTSTART;VALUE=DATE:20241103
DTEND;VALUE=DATE:20241104
DTSTAMP:20260420T203737
CREATED:20240228T224056Z
LAST-MODIFIED:20240228T224056Z
UID:2535-1730592000-1730678399@folsomhindutemple.org
SUMMARY:Anusham
DESCRIPTION:
URL:https://folsomhindutemple.org/event/anusham-23/
END:VEVENT
BEGIN:VEVENT
DTSTART;VALUE=DATE:20241101
DTEND;VALUE=DATE:20241102
DTSTAMP:20260420T203737
CREATED:20240228T223641Z
LAST-MODIFIED:20240228T223641Z
UID:2447-1730419200-1730505599@folsomhindutemple.org
SUMMARY:Skanda Shasti Begins
DESCRIPTION:
URL:https://folsomhindutemple.org/event/skanda-shasti-begins/
END:VEVENT
BEGIN:VEVENT
DTSTART;VALUE=DATE:20241031
DTEND;VALUE=DATE:20241101
DTSTAMP:20260420T203737
CREATED:20240228T224011Z
LAST-MODIFIED:20240228T224011Z
UID:2519-1730332800-1730419199@folsomhindutemple.org
SUMMARY:Amavasai
DESCRIPTION:
URL:https://folsomhindutemple.org/event/amavasai-9/
END:VEVENT
BEGIN:VEVENT
DTSTART;VALUE=DATE:20241031
DTEND;VALUE=DATE:20241101
DTSTAMP:20260420T203737
CREATED:20240228T223611Z
LAST-MODIFIED:20240228T223611Z
UID:2437-1730332800-1730419199@folsomhindutemple.org
SUMMARY:Diwali (North)
DESCRIPTION:
URL:https://folsomhindutemple.org/event/diwali-north/
END:VEVENT
BEGIN:VEVENT
DTSTART;VALUE=DATE:20241030
DTEND;VALUE=DATE:20241031
DTSTAMP:20260420T203737
CREATED:20240228T223611Z
LAST-MODIFIED:20240228T223611Z
UID:2436-1730246400-1730332799@folsomhindutemple.org
SUMMARY:Diwali (South)
DESCRIPTION:
URL:https://folsomhindutemple.org/event/diwali-south/
END:VEVENT
BEGIN:VEVENT
DTSTART;VALUE=DATE:20241029
DTEND;VALUE=DATE:20241030
DTSTAMP:20260420T203737
CREATED:20240228T223557Z
LAST-MODIFIED:20240228T223557Z
UID:2435-1730160000-1730246399@folsomhindutemple.org
SUMMARY:Pradosham
DESCRIPTION:
URL:https://folsomhindutemple.org/event/pradosham-39/
END:VEVENT
BEGIN:VEVENT
DTSTART;VALUE=DATE:20241027
DTEND;VALUE=DATE:20241028
DTSTAMP:20260420T203737
CREATED:20240228T224011Z
LAST-MODIFIED:20240228T224011Z
UID:2518-1729987200-1730073599@folsomhindutemple.org
SUMMARY:Ekadasi
DESCRIPTION:
URL:https://folsomhindutemple.org/event/ekadasi-35/
END:VEVENT
BEGIN:VEVENT
DTSTART;VALUE=DATE:20241022
DTEND;VALUE=DATE:20241023
DTSTAMP:20260420T203737
CREATED:20240228T224011Z
LAST-MODIFIED:20240228T224011Z
UID:2517-1729555200-1729641599@folsomhindutemple.org
SUMMARY:Shasti
DESCRIPTION:
URL:https://folsomhindutemple.org/event/shasti-10/
END:VEVENT
BEGIN:VEVENT
DTSTART;VALUE=DATE:20241020
DTEND;VALUE=DATE:20241021
DTSTAMP:20260420T203737
CREATED:20241017T174440Z
LAST-MODIFIED:20241017T174440Z
UID:2597-1729382400-1729468799@folsomhindutemple.org
SUMMARY:Chandi Homam
DESCRIPTION:
URL:https://folsomhindutemple.org/event/chandi-homam-2/
END:VEVENT
BEGIN:VEVENT
DTSTART;VALUE=DATE:20241020
DTEND;VALUE=DATE:20241021
DTSTAMP:20260420T203737
CREATED:20240228T223556Z
LAST-MODIFIED:20240228T223556Z
UID:2434-1729382400-1729468799@folsomhindutemple.org
SUMMARY:Sankatahara Chathurthi
DESCRIPTION:
URL:https://folsomhindutemple.org/event/sankatahara-chathurthi-20/
END:VEVENT
BEGIN:VEVENT
DTSTART;VALUE=DATE:20241019
DTEND;VALUE=DATE:20241020
DTSTAMP:20260420T203737
CREATED:20240228T224026Z
LAST-MODIFIED:20240228T224026Z
UID:2521-1729296000-1729382399@folsomhindutemple.org
SUMMARY:Kirthigai
DESCRIPTION:
URL:https://folsomhindutemple.org/event/kirthigai-6/
END:VEVENT
BEGIN:VEVENT
DTSTART;VALUE=DATE:20241017
DTEND;VALUE=DATE:20241018
DTSTAMP:20260420T203737
CREATED:20240228T223556Z
LAST-MODIFIED:20240228T223556Z
UID:2433-1729123200-1729209599@folsomhindutemple.org
SUMMARY:Sankaramanam
DESCRIPTION:
URL:https://folsomhindutemple.org/event/sankaramanam-5/
END:VEVENT
BEGIN:VEVENT
DTSTART;VALUE=DATE:20241016
DTEND;VALUE=DATE:20241017
DTSTAMP:20260420T203737
CREATED:20240228T224011Z
LAST-MODIFIED:20240228T224011Z
UID:2516-1729036800-1729123199@folsomhindutemple.org
SUMMARY:Pournami
DESCRIPTION:
URL:https://folsomhindutemple.org/event/pournami-20/
END:VEVENT
BEGIN:VEVENT
DTSTART;VALUE=DATE:20241014
DTEND;VALUE=DATE:20241015
DTSTAMP:20260420T203737
CREATED:20240228T223556Z
LAST-MODIFIED:20240228T223556Z
UID:2432-1728864000-1728950399@folsomhindutemple.org
SUMMARY:Pradosham
DESCRIPTION:
URL:https://folsomhindutemple.org/event/pradosham-38/
END:VEVENT
BEGIN:VEVENT
DTSTART;VALUE=DATE:20241013
DTEND;VALUE=DATE:20241014
DTSTAMP:20260420T203737
CREATED:20240228T223956Z
LAST-MODIFIED:20240228T223956Z
UID:2515-1728777600-1728863999@folsomhindutemple.org
SUMMARY:Ekadasi
DESCRIPTION:
URL:https://folsomhindutemple.org/event/ekadasi-34/
END:VEVENT
BEGIN:VEVENT
DTSTART;VALUE=DATE:20241012
DTEND;VALUE=DATE:20241013
DTSTAMP:20260420T203737
CREATED:20240228T223556Z
LAST-MODIFIED:20240228T223556Z
UID:2431-1728691200-1728777599@folsomhindutemple.org
SUMMARY:Sri Venkateswara Jayanthi
DESCRIPTION:
URL:https://folsomhindutemple.org/event/sri-venkateswara-jayanthi/
END:VEVENT
BEGIN:VEVENT
DTSTART;VALUE=DATE:20241012
DTEND;VALUE=DATE:20241013
DTSTAMP:20260420T203737
CREATED:20240228T223542Z
LAST-MODIFIED:20240228T223542Z
UID:2430-1728691200-1728777599@folsomhindutemple.org
SUMMARY:Vijaya Dasami
DESCRIPTION:
URL:https://folsomhindutemple.org/event/vijaya-dasami/
END:VEVENT
BEGIN:VEVENT
DTSTART;VALUE=DATE:20241011
DTEND;VALUE=DATE:20241012
DTSTAMP:20260420T203737
CREATED:20240228T223541Z
LAST-MODIFIED:20240228T223541Z
UID:2429-1728604800-1728691199@folsomhindutemple.org
SUMMARY:Ayutha / Saraswathi Puja
DESCRIPTION:
URL:https://folsomhindutemple.org/event/ayutha-saraswathi-puja/
END:VEVENT
BEGIN:VEVENT
DTSTART;VALUE=DATE:20241008
DTEND;VALUE=DATE:20241009
DTSTAMP:20260420T203737
CREATED:20240228T223956Z
LAST-MODIFIED:20240228T223956Z
UID:2514-1728345600-1728431999@folsomhindutemple.org
SUMMARY:Shasti
DESCRIPTION:
URL:https://folsomhindutemple.org/event/shasti-9/
END:VEVENT
BEGIN:VEVENT
DTSTART;VALUE=DATE:20241007
DTEND;VALUE=DATE:20241008
DTSTAMP:20260420T203737
CREATED:20240228T224011Z
LAST-MODIFIED:20240228T224011Z
UID:2520-1728259200-1728345599@folsomhindutemple.org
SUMMARY:Anusham
DESCRIPTION:
URL:https://folsomhindutemple.org/event/anusham-21/
END:VEVENT
BEGIN:VEVENT
DTSTART;VALUE=DATE:20241003
DTEND;VALUE=DATE:20241004
DTSTAMP:20260420T203737
CREATED:20240228T223541Z
LAST-MODIFIED:20240228T223541Z
UID:2428-1727913600-1727999999@folsomhindutemple.org
SUMMARY:Navarathri Begins
DESCRIPTION:
URL:https://folsomhindutemple.org/event/navarathri-begins-2/
END:VEVENT
BEGIN:VEVENT
DTSTART;VALUE=DATE:20241001
DTEND;VALUE=DATE:20241002
DTSTAMP:20260420T203737
CREATED:20240228T223541Z
LAST-MODIFIED:20240228T223541Z
UID:2427-1727740800-1727827199@folsomhindutemple.org
SUMMARY:Mahalaya Amavasai
DESCRIPTION:
URL:https://folsomhindutemple.org/event/mahalaya-amavasai/
END:VEVENT
BEGIN:VEVENT
DTSTART;VALUE=DATE:20240929
DTEND;VALUE=DATE:20240930
DTSTAMP:20260420T203737
CREATED:20240228T223526Z
LAST-MODIFIED:20240228T223526Z
UID:2422-1727568000-1727654399@folsomhindutemple.org
SUMMARY:Pradosham
DESCRIPTION:
URL:https://folsomhindutemple.org/event/pradosham-36/
END:VEVENT
BEGIN:VEVENT
DTSTART;VALUE=DATE:20240927
DTEND;VALUE=DATE:20240928
DTSTAMP:20260420T203737
CREATED:20240228T223926Z
LAST-MODIFIED:20240228T223926Z
UID:2502-1727395200-1727481599@folsomhindutemple.org
SUMMARY:Ekadasi
DESCRIPTION:
URL:https://folsomhindutemple.org/event/ekadasi-31/
END:VEVENT
BEGIN:VEVENT
DTSTART;VALUE=DATE:20240922
DTEND;VALUE=DATE:20240923
DTSTAMP:20260420T203737
CREATED:20240228T223926Z
LAST-MODIFIED:20240228T223926Z
UID:2503-1726963200-1727049599@folsomhindutemple.org
SUMMARY:Shasti
DESCRIPTION:
URL:https://folsomhindutemple.org/event/shasti-6/
END:VEVENT
END:VCALENDAR