BEGIN:VCALENDAR
VERSION:2.0
PRODID:-// - ECPv6.15.20//NONSGML v1.0//EN
CALSCALE:GREGORIAN
METHOD:PUBLISH
X-ORIGINAL-URL:https://folsomhindutemple.org
X-WR-CALDESC:Events for 
REFRESH-INTERVAL;VALUE=DURATION:PT1H
X-Robots-Tag:noindex
X-PUBLISHED-TTL:PT1H
BEGIN:VTIMEZONE
TZID:America/Los_Angeles
BEGIN:DAYLIGHT
TZOFFSETFROM:-0800
TZOFFSETTO:-0700
TZNAME:PDT
DTSTART:20240310T100000
END:DAYLIGHT
BEGIN:STANDARD
TZOFFSETFROM:-0700
TZOFFSETTO:-0800
TZNAME:PST
DTSTART:20241103T090000
END:STANDARD
BEGIN:DAYLIGHT
TZOFFSETFROM:-0800
TZOFFSETTO:-0700
TZNAME:PDT
DTSTART:20250309T100000
END:DAYLIGHT
BEGIN:STANDARD
TZOFFSETFROM:-0700
TZOFFSETTO:-0800
TZNAME:PST
DTSTART:20251102T090000
END:STANDARD
BEGIN:DAYLIGHT
TZOFFSETFROM:-0800
TZOFFSETTO:-0700
TZNAME:PDT
DTSTART:20260308T100000
END:DAYLIGHT
BEGIN:STANDARD
TZOFFSETFROM:-0700
TZOFFSETTO:-0800
TZNAME:PST
DTSTART:20261101T090000
END:STANDARD
END:VTIMEZONE
BEGIN:VEVENT
DTSTART;VALUE=DATE:20251001
DTEND;VALUE=DATE:20251002
DTSTAMP:20260420T000017
CREATED:20250115T002452Z
LAST-MODIFIED:20250115T002452Z
UID:2671-1759276800-1759363199@folsomhindutemple.org
SUMMARY:Vijaya Dasami / Sri Venkateswara Jayanthi
DESCRIPTION:
URL:https://folsomhindutemple.org/event/vijaya-dasami-sri-venkateswara-jayanthi/
END:VEVENT
BEGIN:VEVENT
DTSTART;VALUE=DATE:20250930
DTEND;VALUE=DATE:20251001
DTSTAMP:20260420T000017
CREATED:20250115T002422Z
LAST-MODIFIED:20250115T002422Z
UID:2660-1759190400-1759276799@folsomhindutemple.org
SUMMARY:Saraswathi Puja
DESCRIPTION:
URL:https://folsomhindutemple.org/event/saraswathi-puja/
END:VEVENT
BEGIN:VEVENT
DTSTART;VALUE=DATE:20250930
DTEND;VALUE=DATE:20251001
DTSTAMP:20260420T000017
CREATED:20250115T002408Z
LAST-MODIFIED:20250115T002408Z
UID:2659-1759190400-1759276799@folsomhindutemple.org
SUMMARY:Ayudha Puja
DESCRIPTION:
URL:https://folsomhindutemple.org/event/ayudha-puja/
END:VEVENT
BEGIN:VEVENT
DTSTART;VALUE=DATE:20250922
DTEND;VALUE=DATE:20250923
DTSTAMP:20260420T000017
CREATED:20250115T002408Z
LAST-MODIFIED:20250115T002408Z
UID:2658-1758499200-1758585599@folsomhindutemple.org
SUMMARY:Navarathri Begins
DESCRIPTION:
URL:https://folsomhindutemple.org/event/navarathri-begins-3/
END:VEVENT
BEGIN:VEVENT
DTSTART;VALUE=DATE:20250921
DTEND;VALUE=DATE:20250922
DTSTAMP:20260420T000017
CREATED:20250115T002352Z
LAST-MODIFIED:20250115T002352Z
UID:2650-1758412800-1758499199@folsomhindutemple.org
SUMMARY:Amavasai
DESCRIPTION:
URL:https://folsomhindutemple.org/event/amavasai-17/
END:VEVENT
BEGIN:VEVENT
DTSTART;VALUE=DATE:20250920
DTEND;VALUE=DATE:20250921
DTSTAMP:20260420T000017
CREATED:20250115T002407Z
LAST-MODIFIED:20250115T002407Z
UID:2657-1758326400-1758412799@folsomhindutemple.org
SUMMARY:Mahalaya Amavasai
DESCRIPTION:
URL:https://folsomhindutemple.org/event/mahalaya-amavasai-2/
END:VEVENT
BEGIN:VEVENT
DTSTART;VALUE=DATE:20250918
DTEND;VALUE=DATE:20250919
DTSTAMP:20260420T000017
CREATED:20250115T002407Z
LAST-MODIFIED:20250115T002407Z
UID:2656-1758153600-1758239999@folsomhindutemple.org
SUMMARY:Pradosham
DESCRIPTION:
URL:https://folsomhindutemple.org/event/pradosham-55/
END:VEVENT
BEGIN:VEVENT
DTSTART;VALUE=DATE:20250917
DTEND;VALUE=DATE:20250918
DTSTAMP:20260420T000017
CREATED:20250115T002407Z
LAST-MODIFIED:20250115T002407Z
UID:2655-1758067200-1758153599@folsomhindutemple.org
SUMMARY:Sankaramanam
DESCRIPTION:
URL:https://folsomhindutemple.org/event/sankaramanam-13/
END:VEVENT
BEGIN:VEVENT
DTSTART;VALUE=DATE:20250910
DTEND;VALUE=DATE:20250911
DTSTAMP:20260420T000017
CREATED:20250115T002353Z
LAST-MODIFIED:20250115T002353Z
UID:2654-1757462400-1757548799@folsomhindutemple.org
SUMMARY:Sankatahara Chathurthi
DESCRIPTION:
URL:https://folsomhindutemple.org/event/sankatahara-chathurthi-28/
END:VEVENT
BEGIN:VEVENT
DTSTART;VALUE=DATE:20250908
DTEND;VALUE=DATE:20250909
DTSTAMP:20260420T000017
CREATED:20250115T002353Z
LAST-MODIFIED:20250115T002353Z
UID:2653-1757289600-1757375999@folsomhindutemple.org
SUMMARY:Mahalaya Paksham begins
DESCRIPTION:
URL:https://folsomhindutemple.org/event/mahalaya-paksham-begins/
END:VEVENT
BEGIN:VEVENT
DTSTART;VALUE=DATE:20250907
DTEND;VALUE=DATE:20250908
DTSTAMP:20260420T000017
CREATED:20250115T002338Z
LAST-MODIFIED:20250115T002338Z
UID:2649-1757203200-1757289599@folsomhindutemple.org
SUMMARY:Pournami
DESCRIPTION:
URL:https://folsomhindutemple.org/event/pournami-28/
END:VEVENT
BEGIN:VEVENT
DTSTART;VALUE=DATE:20250905
DTEND;VALUE=DATE:20250906
DTSTAMP:20260420T000017
CREATED:20250115T002352Z
LAST-MODIFIED:20250115T002352Z
UID:2652-1757030400-1757116799@folsomhindutemple.org
SUMMARY:Onam
DESCRIPTION:
URL:https://folsomhindutemple.org/event/onam/
END:VEVENT
BEGIN:VEVENT
DTSTART;VALUE=DATE:20250904
DTEND;VALUE=DATE:20250905
DTSTAMP:20260420T000017
CREATED:20250115T002352Z
LAST-MODIFIED:20250115T002352Z
UID:2651-1756944000-1757030399@folsomhindutemple.org
SUMMARY:Pradosham
DESCRIPTION:
URL:https://folsomhindutemple.org/event/pradosham-54/
END:VEVENT
BEGIN:VEVENT
DTSTART;VALUE=DATE:20250828
DTEND;VALUE=DATE:20250829
DTSTAMP:20260420T000017
CREATED:20250115T002253Z
LAST-MODIFIED:20250115T002253Z
UID:2634-1756339200-1756425599@folsomhindutemple.org
SUMMARY:Samvatsara Alankara Utsavam begins
DESCRIPTION:
URL:https://folsomhindutemple.org/event/samvatsara-alankara-utsavam-begins/
END:VEVENT
BEGIN:VEVENT
DTSTART;VALUE=DATE:20250827
DTEND;VALUE=DATE:20250828
DTSTAMP:20260420T000017
CREATED:20250115T002253Z
LAST-MODIFIED:20250115T002253Z
UID:2633-1756252800-1756339199@folsomhindutemple.org
SUMMARY:Samvatsara Abhishekam
DESCRIPTION:
URL:https://folsomhindutemple.org/event/samvatsara-abhishekam/
END:VEVENT
BEGIN:VEVENT
DTSTART;VALUE=DATE:20250826
DTEND;VALUE=DATE:20250827
DTSTAMP:20260420T000017
CREATED:20250115T002253Z
LAST-MODIFIED:20250115T002253Z
UID:2632-1756166400-1756252799@folsomhindutemple.org
SUMMARY:Avani Avittam (Sama)
DESCRIPTION:
URL:https://folsomhindutemple.org/event/avani-avittam-sama/
END:VEVENT
BEGIN:VEVENT
DTSTART;VALUE=DATE:20250826
DTEND;VALUE=DATE:20250827
DTSTAMP:20260420T000017
CREATED:20250115T002252Z
LAST-MODIFIED:20250115T002252Z
UID:2631-1756166400-1756252799@folsomhindutemple.org
SUMMARY:Ganesh Chathurthi
DESCRIPTION:
URL:https://folsomhindutemple.org/event/ganesh-chathurthi-3/
END:VEVENT
BEGIN:VEVENT
DTSTART;VALUE=DATE:20250822
DTEND;VALUE=DATE:20250823
DTSTAMP:20260420T000017
CREATED:20250115T002307Z
LAST-MODIFIED:20250115T002307Z
UID:2636-1755820800-1755907199@folsomhindutemple.org
SUMMARY:Amavasai
DESCRIPTION:
URL:https://folsomhindutemple.org/event/amavasai-15/
END:VEVENT
BEGIN:VEVENT
DTSTART;VALUE=DATE:20250820
DTEND;VALUE=DATE:20250821
DTSTAMP:20260420T000017
CREATED:20250115T002252Z
LAST-MODIFIED:20250115T002252Z
UID:2630-1755648000-1755734399@folsomhindutemple.org
SUMMARY:Pradosham
DESCRIPTION:
URL:https://folsomhindutemple.org/event/pradosham-51/
END:VEVENT
BEGIN:VEVENT
DTSTART;VALUE=DATE:20250817
DTEND;VALUE=DATE:20250818
DTSTAMP:20260420T000017
CREATED:20250115T002237Z
LAST-MODIFIED:20250115T002237Z
UID:2629-1755388800-1755475199@folsomhindutemple.org
SUMMARY:Sankaramanam
DESCRIPTION:
URL:https://folsomhindutemple.org/event/sankaramanam-11/
END:VEVENT
BEGIN:VEVENT
DTSTART;VALUE=DATE:20250815
DTEND;VALUE=DATE:20250816
DTSTAMP:20260420T000017
CREATED:20250115T002237Z
LAST-MODIFIED:20250115T002237Z
UID:2628-1755216000-1755302399@folsomhindutemple.org
SUMMARY:Gokulashtami
DESCRIPTION:
URL:https://folsomhindutemple.org/event/gokulashtami-3/
END:VEVENT
BEGIN:VEVENT
DTSTART;VALUE=DATE:20250811
DTEND;VALUE=DATE:20250812
DTSTAMP:20260420T000017
CREATED:20250115T002237Z
LAST-MODIFIED:20250115T002237Z
UID:2627-1754870400-1754956799@folsomhindutemple.org
SUMMARY:Sankatahara Chathurthi
DESCRIPTION:
URL:https://folsomhindutemple.org/event/sankatahara-chathurthi-26/
END:VEVENT
BEGIN:VEVENT
DTSTART;VALUE=DATE:20250809
DTEND;VALUE=DATE:20250810
DTSTAMP:20260420T000017
CREATED:20250115T002236Z
LAST-MODIFIED:20250115T002236Z
UID:2625-1754697600-1754783999@folsomhindutemple.org
SUMMARY:Pudhu Periyavaa Jayanthi
DESCRIPTION:
URL:https://folsomhindutemple.org/event/pudhu-periyavaa-jayanthi/
END:VEVENT
BEGIN:VEVENT
DTSTART;VALUE=DATE:20250809
DTEND;VALUE=DATE:20250810
DTSTAMP:20260420T000017
CREATED:20250115T002236Z
LAST-MODIFIED:20250115T002236Z
UID:2626-1754697600-1754783999@folsomhindutemple.org
SUMMARY:Sri Venkateswara Swami Thirukalyanam
DESCRIPTION:
URL:https://folsomhindutemple.org/event/sri-venkateswara-swami-thirukalyanam/
END:VEVENT
BEGIN:VEVENT
DTSTART;VALUE=DATE:20250809
DTEND;VALUE=DATE:20250810
DTSTAMP:20260420T000017
CREATED:20250115T002235Z
LAST-MODIFIED:20250115T002235Z
UID:2624-1754697600-1754783999@folsomhindutemple.org
SUMMARY:Gayathri Japam
DESCRIPTION:
URL:https://folsomhindutemple.org/event/gayathri-japam-3/
END:VEVENT
BEGIN:VEVENT
DTSTART;VALUE=DATE:20250808
DTEND;VALUE=DATE:20250809
DTSTAMP:20260420T000017
CREATED:20250115T002307Z
LAST-MODIFIED:20250115T002307Z
UID:2635-1754611200-1754697599@folsomhindutemple.org
SUMMARY:Pournami
DESCRIPTION:
URL:https://folsomhindutemple.org/event/pournami-26/
END:VEVENT
BEGIN:VEVENT
DTSTART;VALUE=DATE:20250808
DTEND;VALUE=DATE:20250809
DTSTAMP:20260420T000017
CREATED:20250115T002234Z
LAST-MODIFIED:20250115T002234Z
UID:2622-1754611200-1754697599@folsomhindutemple.org
SUMMARY:Avani Avittam (Rig\, Yajur)
DESCRIPTION:
URL:https://folsomhindutemple.org/event/avani-avittam-rig-yajur/
END:VEVENT
BEGIN:VEVENT
DTSTART;VALUE=DATE:20250806
DTEND;VALUE=DATE:20250807
DTSTAMP:20260420T000017
CREATED:20250115T002234Z
LAST-MODIFIED:20250115T002234Z
UID:2621-1754438400-1754524799@folsomhindutemple.org
SUMMARY:Pradosham
DESCRIPTION:
URL:https://folsomhindutemple.org/event/pradosham-50/
END:VEVENT
BEGIN:VEVENT
DTSTART;VALUE=DATE:20250802
DTEND;VALUE=DATE:20250803
DTSTAMP:20260420T000017
CREATED:20250115T002234Z
LAST-MODIFIED:20250115T002234Z
UID:2620-1754092800-1754179199@folsomhindutemple.org
SUMMARY:Aadi Perukku
DESCRIPTION:
URL:https://folsomhindutemple.org/event/aadi-perukku-2/
END:VEVENT
BEGIN:VEVENT
DTSTART;VALUE=DATE:20250801
DTEND;VALUE=DATE:20250802
DTSTAMP:20260420T000017
CREATED:20250115T002235Z
LAST-MODIFIED:20250723T175523Z
UID:2623-1754006400-1754092799@folsomhindutemple.org
SUMMARY:Varalakshmi Vratham
DESCRIPTION:
URL:https://folsomhindutemple.org/event/varalakshmi-vratham/
END:VEVENT
END:VCALENDAR