BEGIN:VCALENDAR
VERSION:2.0
PRODID:-// - ECPv6.15.20//NONSGML v1.0//EN
CALSCALE:GREGORIAN
METHOD:PUBLISH
X-ORIGINAL-URL:https://folsomhindutemple.org
X-WR-CALDESC:Events for 
REFRESH-INTERVAL;VALUE=DURATION:PT1H
X-Robots-Tag:noindex
X-PUBLISHED-TTL:PT1H
BEGIN:VTIMEZONE
TZID:America/Los_Angeles
BEGIN:DAYLIGHT
TZOFFSETFROM:-0800
TZOFFSETTO:-0700
TZNAME:PDT
DTSTART:20240310T100000
END:DAYLIGHT
BEGIN:STANDARD
TZOFFSETFROM:-0700
TZOFFSETTO:-0800
TZNAME:PST
DTSTART:20241103T090000
END:STANDARD
BEGIN:DAYLIGHT
TZOFFSETFROM:-0800
TZOFFSETTO:-0700
TZNAME:PDT
DTSTART:20250309T100000
END:DAYLIGHT
BEGIN:STANDARD
TZOFFSETFROM:-0700
TZOFFSETTO:-0800
TZNAME:PST
DTSTART:20251102T090000
END:STANDARD
BEGIN:DAYLIGHT
TZOFFSETFROM:-0800
TZOFFSETTO:-0700
TZNAME:PDT
DTSTART:20260308T100000
END:DAYLIGHT
BEGIN:STANDARD
TZOFFSETFROM:-0700
TZOFFSETTO:-0800
TZNAME:PST
DTSTART:20261101T090000
END:STANDARD
BEGIN:DAYLIGHT
TZOFFSETFROM:-0800
TZOFFSETTO:-0700
TZNAME:PDT
DTSTART:20270314T100000
END:DAYLIGHT
BEGIN:STANDARD
TZOFFSETFROM:-0700
TZOFFSETTO:-0800
TZNAME:PST
DTSTART:20271107T090000
END:STANDARD
END:VTIMEZONE
BEGIN:VEVENT
DTSTART;VALUE=DATE:20251207
DTEND;VALUE=DATE:20251208
DTSTAMP:20260419T221312
CREATED:20250115T002653Z
LAST-MODIFIED:20250115T002653Z
UID:2713-1765065600-1765151999@folsomhindutemple.org
SUMMARY:Sankatahara Chathurthi
DESCRIPTION:
URL:https://folsomhindutemple.org/event/sankatahara-chathurthi-34/
END:VEVENT
BEGIN:VEVENT
DTSTART;VALUE=DATE:20251216
DTEND;VALUE=DATE:20251217
DTSTAMP:20260419T221312
CREATED:20250115T002653Z
LAST-MODIFIED:20250115T002653Z
UID:2714-1765843200-1765929599@folsomhindutemple.org
SUMMARY:Pradosham
DESCRIPTION:
URL:https://folsomhindutemple.org/event/pradosham-66/
END:VEVENT
BEGIN:VEVENT
DTSTART;VALUE=DATE:20251216
DTEND;VALUE=DATE:20251217
DTSTAMP:20260419T221312
CREATED:20250115T002707Z
LAST-MODIFIED:20250115T002707Z
UID:2715-1765843200-1765929599@folsomhindutemple.org
SUMMARY:Sankaramanam
DESCRIPTION:
URL:https://folsomhindutemple.org/event/sankaramanam-18/
END:VEVENT
BEGIN:VEVENT
DTSTART;VALUE=DATE:20251217
DTEND;VALUE=DATE:20251218
DTSTAMP:20260419T221312
CREATED:20250115T002707Z
LAST-MODIFIED:20250115T002707Z
UID:2716-1765929600-1766015999@folsomhindutemple.org
SUMMARY:Maha Periyavaa Aradhanai
DESCRIPTION:
URL:https://folsomhindutemple.org/event/maha-periyavaa-aradhanai/
END:VEVENT
BEGIN:VEVENT
DTSTART;VALUE=DATE:20251219
DTEND;VALUE=DATE:20251220
DTSTAMP:20260419T221312
CREATED:20250115T002652Z
LAST-MODIFIED:20250115T002652Z
UID:2710-1766102400-1766188799@folsomhindutemple.org
SUMMARY:Amavasai
DESCRIPTION:
URL:https://folsomhindutemple.org/event/amavasai-23/
END:VEVENT
BEGIN:VEVENT
DTSTART;VALUE=DATE:20251219
DTEND;VALUE=DATE:20251220
DTSTAMP:20260419T221312
CREATED:20250115T002708Z
LAST-MODIFIED:20250115T002708Z
UID:2717-1766102400-1766188799@folsomhindutemple.org
SUMMARY:Hanuman Jayanthi
DESCRIPTION:
URL:https://folsomhindutemple.org/event/hanuman-jayanthi/
END:VEVENT
BEGIN:VEVENT
DTSTART;VALUE=DATE:20251221
DTEND;VALUE=DATE:20251222
DTSTAMP:20260419T221312
CREATED:20250819T165853Z
LAST-MODIFIED:20250819T165853Z
UID:2781-1766275200-1766361599@folsomhindutemple.org
SUMMARY:Sri Sastha Preethi / Irumudi Pooja
DESCRIPTION:
URL:https://folsomhindutemple.org/event/sri-sastha-preethi-irumudi-pooja-2/
END:VEVENT
BEGIN:VEVENT
DTSTART;VALUE=DATE:20251230
DTEND;VALUE=DATE:20251231
DTSTAMP:20260419T221312
CREATED:20250115T002708Z
LAST-MODIFIED:20250115T002708Z
UID:2718-1767052800-1767139199@folsomhindutemple.org
SUMMARY:Vaikunta Ekadasi
DESCRIPTION:
URL:https://folsomhindutemple.org/event/vaikunta-ekadasi-2/
END:VEVENT
BEGIN:VEVENT
DTSTART;VALUE=DATE:20251231
DTEND;VALUE=DATE:20260101
DTSTAMP:20260419T221312
CREATED:20250115T002708Z
LAST-MODIFIED:20250115T002708Z
UID:2719-1767139200-1767225599@folsomhindutemple.org
SUMMARY:Pradosham
DESCRIPTION:
URL:https://folsomhindutemple.org/event/pradosham-67/
END:VEVENT
BEGIN:VEVENT
DTSTART;VALUE=DATE:20260106
DTEND;VALUE=DATE:20260107
DTSTAMP:20260419T221312
CREATED:20260104T204319Z
LAST-MODIFIED:20260104T204319Z
UID:2795-1767657600-1767743999@folsomhindutemple.org
SUMMARY:Sankatahara Chathurthi
DESCRIPTION:
URL:https://folsomhindutemple.org/event/sankatahara-chathurthi-38/
END:VEVENT
BEGIN:VEVENT
DTSTART;VALUE=DATE:20260113
DTEND;VALUE=DATE:20260114
DTSTAMP:20260419T221312
CREATED:20260104T204319Z
LAST-MODIFIED:20260104T204319Z
UID:2796-1768262400-1768348799@folsomhindutemple.org
SUMMARY:Bhoghi
DESCRIPTION:
URL:https://folsomhindutemple.org/event/bhoghi-2/
END:VEVENT
BEGIN:VEVENT
DTSTART;VALUE=DATE:20260113
DTEND;VALUE=DATE:20260114
DTSTAMP:20260419T221312
CREATED:20260104T204320Z
LAST-MODIFIED:20260104T204320Z
UID:2797-1768262400-1768348799@folsomhindutemple.org
SUMMARY:Ekadasi
DESCRIPTION:
URL:https://folsomhindutemple.org/event/ekadasi-45/
END:VEVENT
BEGIN:VEVENT
DTSTART;VALUE=DATE:20260114
DTEND;VALUE=DATE:20260115
DTSTAMP:20260419T221312
CREATED:20260104T204320Z
LAST-MODIFIED:20260104T204320Z
UID:2798-1768348800-1768435199@folsomhindutemple.org
SUMMARY:Makara Sankaranti / Pongal
DESCRIPTION:
URL:https://folsomhindutemple.org/event/makara-sankaranti-pongal/
END:VEVENT
BEGIN:VEVENT
DTSTART;VALUE=DATE:20260114
DTEND;VALUE=DATE:20260115
DTSTAMP:20260419T221312
CREATED:20260104T204320Z
LAST-MODIFIED:20260104T204320Z
UID:2799-1768348800-1768435199@folsomhindutemple.org
SUMMARY:Sankaramanam / Anusham / Makara Jyoti
DESCRIPTION:
URL:https://folsomhindutemple.org/event/sankaramanam-anusham-makara-jyoti/
END:VEVENT
BEGIN:VEVENT
DTSTART;VALUE=DATE:20260115
DTEND;VALUE=DATE:20260116
DTSTAMP:20260419T221312
CREATED:20260104T204321Z
LAST-MODIFIED:20260104T204321Z
UID:2800-1768435200-1768521599@folsomhindutemple.org
SUMMARY:Pradosham
DESCRIPTION:
URL:https://folsomhindutemple.org/event/pradosham-74/
END:VEVENT
BEGIN:VEVENT
DTSTART;VALUE=DATE:20260117
DTEND;VALUE=DATE:20260118
DTSTAMP:20260419T221312
CREATED:20260104T204321Z
LAST-MODIFIED:20260104T204321Z
UID:2801-1768608000-1768694399@folsomhindutemple.org
SUMMARY:Thai Amavasai
DESCRIPTION:
URL:https://folsomhindutemple.org/event/thai-amavasai/
END:VEVENT
BEGIN:VEVENT
DTSTART;VALUE=DATE:20260125
DTEND;VALUE=DATE:20260126
DTSTAMP:20260419T221312
CREATED:20260104T204321Z
LAST-MODIFIED:20260104T204321Z
UID:2802-1769299200-1769385599@folsomhindutemple.org
SUMMARY:Ratha Saptami
DESCRIPTION:
URL:https://folsomhindutemple.org/event/ratha-saptami-2/
END:VEVENT
BEGIN:VEVENT
DTSTART;VALUE=DATE:20260128
DTEND;VALUE=DATE:20260129
DTSTAMP:20260419T221312
CREATED:20260104T204321Z
LAST-MODIFIED:20260104T204321Z
UID:2803-1769558400-1769644799@folsomhindutemple.org
SUMMARY:Ekadasi
DESCRIPTION:
URL:https://folsomhindutemple.org/event/ekadasi-46/
END:VEVENT
BEGIN:VEVENT
DTSTART;VALUE=DATE:20260130
DTEND;VALUE=DATE:20260131
DTSTAMP:20260419T221312
CREATED:20260104T204321Z
LAST-MODIFIED:20260104T204321Z
UID:2804-1769731200-1769817599@folsomhindutemple.org
SUMMARY:Pradosham
DESCRIPTION:
URL:https://folsomhindutemple.org/event/pradosham-75/
END:VEVENT
BEGIN:VEVENT
DTSTART;VALUE=DATE:20260201
DTEND;VALUE=DATE:20260202
DTSTAMP:20260419T221312
CREATED:20260104T204336Z
LAST-MODIFIED:20260104T204336Z
UID:2805-1769904000-1769990399@folsomhindutemple.org
SUMMARY:Thai Poosam
DESCRIPTION:
URL:https://folsomhindutemple.org/event/thai-poosam-2/
END:VEVENT
BEGIN:VEVENT
DTSTART;VALUE=DATE:20260204
DTEND;VALUE=DATE:20260205
DTSTAMP:20260419T221312
CREATED:20260104T204336Z
LAST-MODIFIED:20260104T204336Z
UID:2806-1770163200-1770249599@folsomhindutemple.org
SUMMARY:Sankatahara Chathurthi
DESCRIPTION:
URL:https://folsomhindutemple.org/event/sankatahara-chathurthi-39/
END:VEVENT
BEGIN:VEVENT
DTSTART;VALUE=DATE:20260210
DTEND;VALUE=DATE:20260211
DTSTAMP:20260419T221312
CREATED:20260104T204337Z
LAST-MODIFIED:20260104T204337Z
UID:2807-1770681600-1770767999@folsomhindutemple.org
SUMMARY:Anusham
DESCRIPTION:
URL:https://folsomhindutemple.org/event/anusham-29/
END:VEVENT
BEGIN:VEVENT
DTSTART;VALUE=DATE:20260212
DTEND;VALUE=DATE:20260213
DTSTAMP:20260419T221312
CREATED:20260104T204337Z
LAST-MODIFIED:20260104T204337Z
UID:2808-1770854400-1770940799@folsomhindutemple.org
SUMMARY:Ekadasi
DESCRIPTION:
URL:https://folsomhindutemple.org/event/ekadasi-47/
END:VEVENT
BEGIN:VEVENT
DTSTART;VALUE=DATE:20260213
DTEND;VALUE=DATE:20260214
DTSTAMP:20260419T221312
CREATED:20260104T204337Z
LAST-MODIFIED:20260104T204337Z
UID:2809-1770940800-1771027199@folsomhindutemple.org
SUMMARY:Sankaramanam
DESCRIPTION:
URL:https://folsomhindutemple.org/event/sankaramanam-22/
END:VEVENT
BEGIN:VEVENT
DTSTART;VALUE=DATE:20260214
DTEND;VALUE=DATE:20260215
DTSTAMP:20260419T221312
CREATED:20260104T204351Z
LAST-MODIFIED:20260104T204351Z
UID:2810-1771027200-1771113599@folsomhindutemple.org
SUMMARY:Pradosham
DESCRIPTION:
URL:https://folsomhindutemple.org/event/pradosham-76/
END:VEVENT
BEGIN:VEVENT
DTSTART;VALUE=DATE:20260215
DTEND;VALUE=DATE:20260216
DTSTAMP:20260419T221312
CREATED:20260104T204352Z
LAST-MODIFIED:20260104T204352Z
UID:2811-1771113600-1771199999@folsomhindutemple.org
SUMMARY:Maha Shivarathri
DESCRIPTION:
URL:https://folsomhindutemple.org/event/maha-shivarathri-2/
END:VEVENT
BEGIN:VEVENT
DTSTART;VALUE=DATE:20260216
DTEND;VALUE=DATE:20260217
DTSTAMP:20260419T221312
CREATED:20260112T175906Z
LAST-MODIFIED:20260112T175906Z
UID:2941-1771200000-1771286399@folsomhindutemple.org
SUMMARY:Amavasai
DESCRIPTION:
URL:https://folsomhindutemple.org/event/amavasai-27/
END:VEVENT
BEGIN:VEVENT
DTSTART;VALUE=DATE:20260217
DTEND;VALUE=DATE:20260218
DTSTAMP:20260419T221312
CREATED:20260104T204352Z
LAST-MODIFIED:20260104T204352Z
UID:2812-1771286400-1771372799@folsomhindutemple.org
SUMMARY:Solar Eclipse
DESCRIPTION:
URL:https://folsomhindutemple.org/event/solar-eclipse/
END:VEVENT
BEGIN:VEVENT
DTSTART;VALUE=DATE:20260227
DTEND;VALUE=DATE:20260228
DTSTAMP:20260419T221312
CREATED:20260104T204352Z
LAST-MODIFIED:20260104T204352Z
UID:2813-1772150400-1772236799@folsomhindutemple.org
SUMMARY:Ekadasi
DESCRIPTION:
URL:https://folsomhindutemple.org/event/ekadasi-48/
END:VEVENT
BEGIN:VEVENT
DTSTART;VALUE=DATE:20260228
DTEND;VALUE=DATE:20260301
DTSTAMP:20260419T221312
CREATED:20260104T204352Z
LAST-MODIFIED:20260104T204352Z
UID:2814-1772236800-1772323199@folsomhindutemple.org
SUMMARY:Pradosham
DESCRIPTION:
URL:https://folsomhindutemple.org/event/pradosham-77/
END:VEVENT
END:VCALENDAR