BEGIN:VCALENDAR
VERSION:2.0
PRODID:-// - ECPv6.15.20//NONSGML v1.0//EN
CALSCALE:GREGORIAN
METHOD:PUBLISH
X-ORIGINAL-URL:https://folsomhindutemple.org
X-WR-CALDESC:Events for 
REFRESH-INTERVAL;VALUE=DURATION:PT1H
X-Robots-Tag:noindex
X-PUBLISHED-TTL:PT1H
BEGIN:VTIMEZONE
TZID:America/Los_Angeles
BEGIN:DAYLIGHT
TZOFFSETFROM:-0800
TZOFFSETTO:-0700
TZNAME:PDT
DTSTART:20210314T100000
END:DAYLIGHT
BEGIN:STANDARD
TZOFFSETFROM:-0700
TZOFFSETTO:-0800
TZNAME:PST
DTSTART:20211107T090000
END:STANDARD
BEGIN:DAYLIGHT
TZOFFSETFROM:-0800
TZOFFSETTO:-0700
TZNAME:PDT
DTSTART:20220313T100000
END:DAYLIGHT
BEGIN:STANDARD
TZOFFSETFROM:-0700
TZOFFSETTO:-0800
TZNAME:PST
DTSTART:20221106T090000
END:STANDARD
BEGIN:DAYLIGHT
TZOFFSETFROM:-0800
TZOFFSETTO:-0700
TZNAME:PDT
DTSTART:20230312T100000
END:DAYLIGHT
BEGIN:STANDARD
TZOFFSETFROM:-0700
TZOFFSETTO:-0800
TZNAME:PST
DTSTART:20231105T090000
END:STANDARD
END:VTIMEZONE
BEGIN:VEVENT
DTSTART;VALUE=DATE:20221106
DTEND;VALUE=DATE:20221107
DTSTAMP:20260421T174236
CREATED:20221020T181852Z
LAST-MODIFIED:20221020T182042Z
UID:2122-1667692800-1667779199@folsomhindutemple.org
SUMMARY:Sri Murugan Thirukalyanam
DESCRIPTION:
URL:https://folsomhindutemple.org/event/sri-murugan-thirukalyanam/
END:VEVENT
BEGIN:VEVENT
DTSTART;VALUE=DATE:20221105
DTEND;VALUE=DATE:20221106
DTSTAMP:20260421T174236
CREATED:20220922T173549Z
LAST-MODIFIED:20220922T173549Z
UID:2068-1667606400-1667692799@folsomhindutemple.org
SUMMARY:Pradosham
DESCRIPTION:
URL:https://folsomhindutemple.org/event/pradosham-5/
END:VEVENT
BEGIN:VEVENT
DTSTART;VALUE=DATE:20221103
DTEND;VALUE=DATE:20221104
DTSTAMP:20260421T174236
CREATED:20220922T173543Z
LAST-MODIFIED:20220922T173543Z
UID:2060-1667433600-1667519999@folsomhindutemple.org
SUMMARY:Ekadasi
DESCRIPTION:
URL:https://folsomhindutemple.org/event/ekadasi-5/
END:VEVENT
BEGIN:VEVENT
DTSTART;VALUE=DATE:20221027
DTEND;VALUE=DATE:20221028
DTSTAMP:20260421T174236
CREATED:20220922T173654Z
LAST-MODIFIED:20220922T173654Z
UID:2094-1666828800-1666915199@folsomhindutemple.org
SUMMARY:Anusham
DESCRIPTION:
URL:https://folsomhindutemple.org/event/anusham-3/
END:VEVENT
BEGIN:VEVENT
DTSTART;VALUE=DATE:20221027
DTEND;VALUE=DATE:20221028
DTSTAMP:20260421T174236
CREATED:20220922T173608Z
LAST-MODIFIED:20220922T173608Z
UID:2077-1666828800-1666915199@folsomhindutemple.org
SUMMARY:Chaturthi
DESCRIPTION:
URL:https://folsomhindutemple.org/event/chaturthi-2/
END:VEVENT
BEGIN:VEVENT
DTSTART;VALUE=DATE:20221025
DTEND;VALUE=DATE:20221031
DTSTAMP:20260421T174236
CREATED:20221020T181818Z
LAST-MODIFIED:20221020T182026Z
UID:2119-1666656000-1667174399@folsomhindutemple.org
SUMMARY:Skanda Sashti Celebration
DESCRIPTION:
URL:https://folsomhindutemple.org/event/skanda-sashti-celebrations/
END:VEVENT
BEGIN:VEVENT
DTSTART;VALUE=DATE:20221024
DTEND;VALUE=DATE:20221025
DTSTAMP:20260421T174236
CREATED:20221022T183821Z
LAST-MODIFIED:20221022T183821Z
UID:2127-1666569600-1666655999@folsomhindutemple.org
SUMMARY:Diwali / Deepavali / Lakshmi Pooja
DESCRIPTION:
URL:https://folsomhindutemple.org/event/diwali-deepavali-lakshmi-pooja/
END:VEVENT
BEGIN:VEVENT
DTSTART;VALUE=DATE:20221024
DTEND;VALUE=DATE:20221025
DTSTAMP:20260421T174236
CREATED:20220922T173553Z
LAST-MODIFIED:20220922T173553Z
UID:2073-1666569600-1666655999@folsomhindutemple.org
SUMMARY:Amavasai
DESCRIPTION:
URL:https://folsomhindutemple.org/event/amavasai-2/
END:VEVENT
BEGIN:VEVENT
DTSTART;VALUE=DATE:20221022
DTEND;VALUE=DATE:20221023
DTSTAMP:20260421T174236
CREATED:20220922T173549Z
LAST-MODIFIED:20220922T173549Z
UID:2067-1666396800-1666483199@folsomhindutemple.org
SUMMARY:Pradosham
DESCRIPTION:
URL:https://folsomhindutemple.org/event/pradosham-4/
END:VEVENT
BEGIN:VEVENT
DTSTART;VALUE=DATE:20221020
DTEND;VALUE=DATE:20221021
DTSTAMP:20260421T174236
CREATED:20220922T173543Z
LAST-MODIFIED:20220922T173543Z
UID:2059-1666224000-1666310399@folsomhindutemple.org
SUMMARY:Ekadasi
DESCRIPTION:
URL:https://folsomhindutemple.org/event/ekadasi-4/
END:VEVENT
BEGIN:VEVENT
DTSTART;VALUE=DATE:20221012
DTEND;VALUE=DATE:20221013
DTSTAMP:20260421T174236
CREATED:20220922T173639Z
LAST-MODIFIED:20220922T173639Z
UID:2089-1665532800-1665619199@folsomhindutemple.org
SUMMARY:Kirtigai
DESCRIPTION:
URL:https://folsomhindutemple.org/event/kirtigai-2/
END:VEVENT
BEGIN:VEVENT
DTSTART;VALUE=DATE:20221012
DTEND;VALUE=DATE:20221013
DTSTAMP:20260421T174236
CREATED:20220922T173624Z
LAST-MODIFIED:20220922T173624Z
UID:2085-1665532800-1665619199@folsomhindutemple.org
SUMMARY:Sankatahara Chathurthi
DESCRIPTION:
URL:https://folsomhindutemple.org/event/sankatahara-chathurthi-2/
END:VEVENT
BEGIN:VEVENT
DTSTART;VALUE=DATE:20221008
DTEND;VALUE=DATE:20221009
DTSTAMP:20260421T174236
CREATED:20220922T173623Z
LAST-MODIFIED:20220922T173623Z
UID:2081-1665187200-1665273599@folsomhindutemple.org
SUMMARY:Pournami
DESCRIPTION:
URL:https://folsomhindutemple.org/event/pournami-2/
END:VEVENT
BEGIN:VEVENT
DTSTART;VALUE=DATE:20221006
DTEND;VALUE=DATE:20221007
DTSTAMP:20260421T174236
CREATED:20220922T173549Z
LAST-MODIFIED:20220922T173549Z
UID:2066-1665014400-1665100799@folsomhindutemple.org
SUMMARY:Pradosham
DESCRIPTION:
URL:https://folsomhindutemple.org/event/pradosham-3/
END:VEVENT
BEGIN:VEVENT
DTSTART;VALUE=DATE:20221005
DTEND;VALUE=DATE:20221006
DTSTAMP:20260421T174236
CREATED:20220922T173543Z
LAST-MODIFIED:20220922T173543Z
UID:2058-1664928000-1665014399@folsomhindutemple.org
SUMMARY:Ekadasi
DESCRIPTION:
URL:https://folsomhindutemple.org/event/ekadasi-3/
END:VEVENT
BEGIN:VEVENT
DTSTART;VALUE=DATE:20221002
DTEND;VALUE=DATE:20221003
DTSTAMP:20260421T174236
CREATED:20220922T175537Z
LAST-MODIFIED:20220922T175537Z
UID:2100-1664668800-1664755199@folsomhindutemple.org
SUMMARY:Chandi Homam
DESCRIPTION:Homam starts at 7 AM \nSuvasini Pooja\, Sri Durga Abhishegam
URL:https://folsomhindutemple.org/event/chandi-homam/
END:VEVENT
BEGIN:VEVENT
DTSTART;VALUE=DATE:20220930
DTEND;VALUE=DATE:20221001
DTSTAMP:20260421T174236
CREATED:20220922T173654Z
LAST-MODIFIED:20220922T173654Z
UID:2093-1664496000-1664582399@folsomhindutemple.org
SUMMARY:Anusham
DESCRIPTION:
URL:https://folsomhindutemple.org/event/anusham-2/
END:VEVENT
BEGIN:VEVENT
DTSTART;VALUE=DATE:20220929
DTEND;VALUE=DATE:20220930
DTSTAMP:20260421T174236
CREATED:20220922T175634Z
LAST-MODIFIED:20220927T180353Z
UID:2102-1664409600-1664495999@folsomhindutemple.org
SUMMARY:Bathukamma Festival
DESCRIPTION:Starts at 6 PM
URL:https://folsomhindutemple.org/event/bathukamma-festival/
END:VEVENT
BEGIN:VEVENT
DTSTART;VALUE=DATE:20220927
DTEND;VALUE=DATE:20220928
DTSTAMP:20260421T174236
CREATED:20220922T173608Z
LAST-MODIFIED:20220922T173608Z
UID:2076-1664236800-1664323199@folsomhindutemple.org
SUMMARY:Chaturthi
DESCRIPTION:
URL:https://folsomhindutemple.org/event/chaturthi/
END:VEVENT
BEGIN:VEVENT
DTSTART;VALUE=DATE:20220926
DTEND;VALUE=DATE:20221006
DTSTAMP:20260421T174236
CREATED:20220922T175241Z
LAST-MODIFIED:20220922T175409Z
UID:2097-1664150400-1665014399@folsomhindutemple.org
SUMMARY:Navarthri 2022
DESCRIPTION:10 AM – Sri Durga Abhishegam\n6:30 PM – Sri Lalitha Sahasranama Parayanam\n7:00 PM – Oonjal Seva
URL:https://folsomhindutemple.org/event/navarthri-2022/
END:VEVENT
BEGIN:VEVENT
DTSTART;VALUE=DATE:20220924
DTEND;VALUE=DATE:20220925
DTSTAMP:20260421T174236
CREATED:20220922T173553Z
LAST-MODIFIED:20220922T173553Z
UID:2072-1663977600-1664063999@folsomhindutemple.org
SUMMARY:Amavasai
DESCRIPTION:
URL:https://folsomhindutemple.org/event/amavasai/
END:VEVENT
BEGIN:VEVENT
DTSTART;VALUE=DATE:20220922
DTEND;VALUE=DATE:20220923
DTSTAMP:20260421T174236
CREATED:20220922T173547Z
LAST-MODIFIED:20220922T173547Z
UID:2065-1663804800-1663891199@folsomhindutemple.org
SUMMARY:Pradosham
DESCRIPTION:
URL:https://folsomhindutemple.org/event/pradosham-2/
END:VEVENT
BEGIN:VEVENT
DTSTART;VALUE=DATE:20220920
DTEND;VALUE=DATE:20220921
DTSTAMP:20260421T174236
CREATED:20220922T173543Z
LAST-MODIFIED:20220922T173543Z
UID:2057-1663632000-1663718399@folsomhindutemple.org
SUMMARY:Ekadasi
DESCRIPTION:
URL:https://folsomhindutemple.org/event/ekadasi-2/
END:VEVENT
BEGIN:VEVENT
DTSTART;VALUE=DATE:20220915
DTEND;VALUE=DATE:20220916
DTSTAMP:20260421T174236
CREATED:20220922T173639Z
LAST-MODIFIED:20220922T173639Z
UID:2088-1663200000-1663286399@folsomhindutemple.org
SUMMARY:Kirtigai
DESCRIPTION:
URL:https://folsomhindutemple.org/event/kirtigai/
END:VEVENT
BEGIN:VEVENT
DTSTART;VALUE=DATE:20220913
DTEND;VALUE=DATE:20220914
DTSTAMP:20260421T174236
CREATED:20220922T173624Z
LAST-MODIFIED:20220922T173624Z
UID:2084-1663027200-1663113599@folsomhindutemple.org
SUMMARY:Sankatahara Chathurthi
DESCRIPTION:
URL:https://folsomhindutemple.org/event/sankatahara-chathurthi/
END:VEVENT
BEGIN:VEVENT
DTSTART;VALUE=DATE:20220909
DTEND;VALUE=DATE:20220910
DTSTAMP:20260421T174236
CREATED:20220922T173609Z
LAST-MODIFIED:20220922T173609Z
UID:2080-1662681600-1662767999@folsomhindutemple.org
SUMMARY:Pournami
DESCRIPTION:
URL:https://folsomhindutemple.org/event/pournami/
END:VEVENT
BEGIN:VEVENT
DTSTART;VALUE=DATE:20220907
DTEND;VALUE=DATE:20220908
DTSTAMP:20260421T174236
CREATED:20220922T173547Z
LAST-MODIFIED:20220922T173547Z
UID:2064-1662508800-1662595199@folsomhindutemple.org
SUMMARY:Pradosham
DESCRIPTION:
URL:https://folsomhindutemple.org/event/pradosham/
END:VEVENT
BEGIN:VEVENT
DTSTART;VALUE=DATE:20220905
DTEND;VALUE=DATE:20220906
DTSTAMP:20260421T174236
CREATED:20220922T173543Z
LAST-MODIFIED:20220922T173543Z
UID:2056-1662336000-1662422399@folsomhindutemple.org
SUMMARY:Ekadasi
DESCRIPTION:
URL:https://folsomhindutemple.org/event/ekadasi/
END:VEVENT
BEGIN:VEVENT
DTSTART;VALUE=DATE:20220903
DTEND;VALUE=DATE:20220904
DTSTAMP:20260421T174236
CREATED:20220922T173653Z
LAST-MODIFIED:20220922T173653Z
UID:2092-1662163200-1662249599@folsomhindutemple.org
SUMMARY:Anusham
DESCRIPTION:
URL:https://folsomhindutemple.org/event/anusham/
END:VEVENT
END:VCALENDAR