BEGIN:VCALENDAR
VERSION:2.0
PRODID:-// - ECPv6.15.20//NONSGML v1.0//EN
CALSCALE:GREGORIAN
METHOD:PUBLISH
X-ORIGINAL-URL:https://folsomhindutemple.org
X-WR-CALDESC:Events for 
REFRESH-INTERVAL;VALUE=DURATION:PT1H
X-Robots-Tag:noindex
X-PUBLISHED-TTL:PT1H
BEGIN:VTIMEZONE
TZID:America/Los_Angeles
BEGIN:DAYLIGHT
TZOFFSETFROM:-0800
TZOFFSETTO:-0700
TZNAME:PDT
DTSTART:20250309T100000
END:DAYLIGHT
BEGIN:STANDARD
TZOFFSETFROM:-0700
TZOFFSETTO:-0800
TZNAME:PST
DTSTART:20251102T090000
END:STANDARD
BEGIN:DAYLIGHT
TZOFFSETFROM:-0800
TZOFFSETTO:-0700
TZNAME:PDT
DTSTART:20260308T100000
END:DAYLIGHT
BEGIN:STANDARD
TZOFFSETFROM:-0700
TZOFFSETTO:-0800
TZNAME:PST
DTSTART:20261101T090000
END:STANDARD
BEGIN:DAYLIGHT
TZOFFSETFROM:-0800
TZOFFSETTO:-0700
TZNAME:PDT
DTSTART:20270314T100000
END:DAYLIGHT
BEGIN:STANDARD
TZOFFSETFROM:-0700
TZOFFSETTO:-0800
TZNAME:PST
DTSTART:20271107T090000
END:STANDARD
END:VTIMEZONE
BEGIN:VEVENT
DTSTART;VALUE=DATE:20260626
DTEND;VALUE=DATE:20260627
DTSTAMP:20260419T165054
CREATED:20260104T205943Z
LAST-MODIFIED:20260104T205943Z
UID:2860-1782432000-1782518399@folsomhindutemple.org
SUMMARY:Anusham
DESCRIPTION:
URL:https://folsomhindutemple.org/event/anusham-33/
END:VEVENT
BEGIN:VEVENT
DTSTART;VALUE=DATE:20260626
DTEND;VALUE=DATE:20260627
DTSTAMP:20260419T165054
CREATED:20260104T205943Z
LAST-MODIFIED:20260104T205943Z
UID:2861-1782432000-1782518399@folsomhindutemple.org
SUMMARY:Pradosham
DESCRIPTION:
URL:https://folsomhindutemple.org/event/pradosham-85/
END:VEVENT
BEGIN:VEVENT
DTSTART;VALUE=DATE:20260703
DTEND;VALUE=DATE:20260704
DTSTAMP:20260419T165054
CREATED:20260104T205944Z
LAST-MODIFIED:20260104T205944Z
UID:2863-1783036800-1783123199@folsomhindutemple.org
SUMMARY:Sankatahara Chathurthi
DESCRIPTION:
URL:https://folsomhindutemple.org/event/sankatahara-chathurthi-44/
END:VEVENT
BEGIN:VEVENT
DTSTART;VALUE=DATE:20260710
DTEND;VALUE=DATE:20260711
DTSTAMP:20260419T165054
CREATED:20260104T205944Z
LAST-MODIFIED:20260104T205944Z
UID:2864-1783641600-1783727999@folsomhindutemple.org
SUMMARY:Ekadasi
DESCRIPTION:
URL:https://folsomhindutemple.org/event/ekadasi-57/
END:VEVENT
BEGIN:VEVENT
DTSTART;VALUE=DATE:20260711
DTEND;VALUE=DATE:20260712
DTSTAMP:20260419T165054
CREATED:20260104T210040Z
LAST-MODIFIED:20260104T210040Z
UID:2865-1783728000-1783814399@folsomhindutemple.org
SUMMARY:Pradosham
DESCRIPTION:
URL:https://folsomhindutemple.org/event/pradosham-86/
END:VEVENT
BEGIN:VEVENT
DTSTART;VALUE=DATE:20260713
DTEND;VALUE=DATE:20260714
DTSTAMP:20260419T165054
CREATED:20260112T175913Z
LAST-MODIFIED:20260112T175913Z
UID:2946-1783900800-1783987199@folsomhindutemple.org
SUMMARY:Amavasai
DESCRIPTION:
URL:https://folsomhindutemple.org/event/amavasai-32/
END:VEVENT
BEGIN:VEVENT
DTSTART;VALUE=DATE:20260716
DTEND;VALUE=DATE:20260717
DTSTAMP:20260419T165054
CREATED:20260104T210040Z
LAST-MODIFIED:20260104T210040Z
UID:2866-1784160000-1784246399@folsomhindutemple.org
SUMMARY:Dakshinayanam / Sankaramanam
DESCRIPTION:
URL:https://folsomhindutemple.org/event/dakshinayanam-sankaramanam/
END:VEVENT
BEGIN:VEVENT
DTSTART;VALUE=DATE:20260724
DTEND;VALUE=DATE:20260725
DTSTAMP:20260419T165054
CREATED:20260104T210041Z
LAST-MODIFIED:20260104T210041Z
UID:2867-1784851200-1784937599@folsomhindutemple.org
SUMMARY:Anusham
DESCRIPTION:
URL:https://folsomhindutemple.org/event/anusham-34/
END:VEVENT
BEGIN:VEVENT
DTSTART;VALUE=DATE:20260724
DTEND;VALUE=DATE:20260725
DTSTAMP:20260419T165054
CREATED:20260104T210041Z
LAST-MODIFIED:20260104T210041Z
UID:2868-1784851200-1784937599@folsomhindutemple.org
SUMMARY:Ekadasi
DESCRIPTION:
URL:https://folsomhindutemple.org/event/ekadasi-58/
END:VEVENT
BEGIN:VEVENT
DTSTART;VALUE=DATE:20260726
DTEND;VALUE=DATE:20260727
DTSTAMP:20260419T165054
CREATED:20260104T210041Z
LAST-MODIFIED:20260104T210041Z
UID:2869-1785024000-1785110399@folsomhindutemple.org
SUMMARY:Pradosham
DESCRIPTION:
URL:https://folsomhindutemple.org/event/pradosham-87/
END:VEVENT
BEGIN:VEVENT
DTSTART;VALUE=DATE:20260728
DTEND;VALUE=DATE:20260729
DTSTAMP:20260419T165054
CREATED:20260104T210055Z
LAST-MODIFIED:20260104T210055Z
UID:2870-1785196800-1785283199@folsomhindutemple.org
SUMMARY:Guru Purnima
DESCRIPTION:
URL:https://folsomhindutemple.org/event/guru-purnima-2/
END:VEVENT
BEGIN:VEVENT
DTSTART;VALUE=DATE:20260728
DTEND;VALUE=DATE:20260729
DTSTAMP:20260419T165054
CREATED:20260104T210055Z
LAST-MODIFIED:20260104T210055Z
UID:2871-1785196800-1785283199@folsomhindutemple.org
SUMMARY:Yajur Bodhayana Upakarma
DESCRIPTION:
URL:https://folsomhindutemple.org/event/yajur-bodhayana-upakarma/
END:VEVENT
BEGIN:VEVENT
DTSTART;VALUE=DATE:20260730
DTEND;VALUE=DATE:20260731
DTSTAMP:20260419T165054
CREATED:20260104T210055Z
LAST-MODIFIED:20260104T210055Z
UID:2872-1785369600-1785455999@folsomhindutemple.org
SUMMARY:Sri Jayendra Saraswathi Swamigal Jayanthi
DESCRIPTION:
URL:https://folsomhindutemple.org/event/sri-jayendra-saraswathi-swamigal-jayanthi/
END:VEVENT
BEGIN:VEVENT
DTSTART;VALUE=DATE:20260801
DTEND;VALUE=DATE:20260802
DTSTAMP:20260419T165054
CREATED:20260104T210056Z
LAST-MODIFIED:20260104T210056Z
UID:2873-1785542400-1785628799@folsomhindutemple.org
SUMMARY:Sankatahara Chathurthi
DESCRIPTION:
URL:https://folsomhindutemple.org/event/sankatahara-chathurthi-45/
END:VEVENT
BEGIN:VEVENT
DTSTART;VALUE=DATE:20260803
DTEND;VALUE=DATE:20260804
DTSTAMP:20260419T165054
CREATED:20260104T210056Z
LAST-MODIFIED:20260104T210056Z
UID:2874-1785715200-1785801599@folsomhindutemple.org
SUMMARY:Aadi Perukku
DESCRIPTION:
URL:https://folsomhindutemple.org/event/aadi-perukku-3/
END:VEVENT
BEGIN:VEVENT
DTSTART;VALUE=DATE:20260808
DTEND;VALUE=DATE:20260809
DTSTAMP:20260419T165054
CREATED:20260104T210255Z
LAST-MODIFIED:20260104T210255Z
UID:2875-1786147200-1786233599@folsomhindutemple.org
SUMMARY:Ekadasi
DESCRIPTION:
URL:https://folsomhindutemple.org/event/ekadasi-59/
END:VEVENT
BEGIN:VEVENT
DTSTART;VALUE=DATE:20260809
DTEND;VALUE=DATE:20260810
DTSTAMP:20260419T165054
CREATED:20260104T210255Z
LAST-MODIFIED:20260104T210255Z
UID:2876-1786233600-1786319999@folsomhindutemple.org
SUMMARY:Pradosham
DESCRIPTION:
URL:https://folsomhindutemple.org/event/pradosham-88/
END:VEVENT
BEGIN:VEVENT
DTSTART;VALUE=DATE:20260811
DTEND;VALUE=DATE:20260812
DTSTAMP:20260419T165054
CREATED:20260104T210256Z
LAST-MODIFIED:20260104T210256Z
UID:2877-1786406400-1786492799@folsomhindutemple.org
SUMMARY:Aadi Amavasai
DESCRIPTION:
URL:https://folsomhindutemple.org/event/aadi-amavasai/
END:VEVENT
BEGIN:VEVENT
DTSTART;VALUE=DATE:20260811
DTEND;VALUE=DATE:20260812
DTSTAMP:20260419T165054
CREATED:20260112T175914Z
LAST-MODIFIED:20260112T175914Z
UID:2947-1786406400-1786492799@folsomhindutemple.org
SUMMARY:Amavasai
DESCRIPTION:
URL:https://folsomhindutemple.org/event/amavasai-33/
END:VEVENT
BEGIN:VEVENT
DTSTART;VALUE=DATE:20260812
DTEND;VALUE=DATE:20260813
DTSTAMP:20260419T165054
CREATED:20260104T210256Z
LAST-MODIFIED:20260104T210256Z
UID:2878-1786492800-1786579199@folsomhindutemple.org
SUMMARY:Solar Eclipse
DESCRIPTION:
URL:https://folsomhindutemple.org/event/solar-eclipse-2/
END:VEVENT
BEGIN:VEVENT
DTSTART;VALUE=DATE:20260814
DTEND;VALUE=DATE:20260815
DTSTAMP:20260419T165054
CREATED:20260104T210256Z
LAST-MODIFIED:20260104T210256Z
UID:2879-1786665600-1786751999@folsomhindutemple.org
SUMMARY:Aandal Jayanthi / Aadi Pooram
DESCRIPTION:
URL:https://folsomhindutemple.org/event/aandal-jayanthi-aadi-pooram/
END:VEVENT
BEGIN:VEVENT
DTSTART;VALUE=DATE:20260817
DTEND;VALUE=DATE:20260818
DTSTAMP:20260419T165054
CREATED:20260104T210331Z
LAST-MODIFIED:20260104T210331Z
UID:2880-1786924800-1787011199@folsomhindutemple.org
SUMMARY:Sankaramanam
DESCRIPTION:
URL:https://folsomhindutemple.org/event/sankaramanam-27/
END:VEVENT
BEGIN:VEVENT
DTSTART;VALUE=DATE:20260820
DTEND;VALUE=DATE:20260821
DTSTAMP:20260419T165054
CREATED:20260104T210332Z
LAST-MODIFIED:20260104T210332Z
UID:2881-1787184000-1787270399@folsomhindutemple.org
SUMMARY:Anusham
DESCRIPTION:
URL:https://folsomhindutemple.org/event/anusham-35/
END:VEVENT
BEGIN:VEVENT
DTSTART;VALUE=DATE:20260821
DTEND;VALUE=DATE:20260822
DTSTAMP:20260419T165054
CREATED:20260104T210332Z
LAST-MODIFIED:20260104T210332Z
UID:2882-1787270400-1787356799@folsomhindutemple.org
SUMMARY:Varalakshmi Vratam
DESCRIPTION:
URL:https://folsomhindutemple.org/event/varalakshmi-vratam-2/
END:VEVENT
BEGIN:VEVENT
DTSTART;VALUE=DATE:20260823
DTEND;VALUE=DATE:20260824
DTSTAMP:20260419T165054
CREATED:20260104T210332Z
LAST-MODIFIED:20260104T210332Z
UID:2883-1787443200-1787529599@folsomhindutemple.org
SUMMARY:Ekadasi
DESCRIPTION:
URL:https://folsomhindutemple.org/event/ekadasi-60/
END:VEVENT
BEGIN:VEVENT
DTSTART;VALUE=DATE:20260824
DTEND;VALUE=DATE:20260825
DTSTAMP:20260419T165054
CREATED:20260104T210332Z
LAST-MODIFIED:20260104T210332Z
UID:2884-1787529600-1787615999@folsomhindutemple.org
SUMMARY:Pradosham
DESCRIPTION:
URL:https://folsomhindutemple.org/event/pradosham-89/
END:VEVENT
BEGIN:VEVENT
DTSTART;VALUE=DATE:20260826
DTEND;VALUE=DATE:20260827
DTSTAMP:20260419T165054
CREATED:20260104T210346Z
LAST-MODIFIED:20260104T210346Z
UID:2885-1787702400-1787788799@folsomhindutemple.org
SUMMARY:Rig Upakarma
DESCRIPTION:
URL:https://folsomhindutemple.org/event/rig-upakarma-2/
END:VEVENT
BEGIN:VEVENT
DTSTART;VALUE=DATE:20260826
DTEND;VALUE=DATE:20260827
DTSTAMP:20260419T165054
CREATED:20260104T210346Z
LAST-MODIFIED:20260104T210346Z
UID:2886-1787702400-1787788799@folsomhindutemple.org
SUMMARY:Onam
DESCRIPTION:
URL:https://folsomhindutemple.org/event/onam-2/
END:VEVENT
BEGIN:VEVENT
DTSTART;VALUE=DATE:20260827
DTEND;VALUE=DATE:20260828
DTSTAMP:20260419T165054
CREATED:20260104T210347Z
LAST-MODIFIED:20260104T210347Z
UID:2887-1787788800-1787875199@folsomhindutemple.org
SUMMARY:Lunar Eclipse
DESCRIPTION:
URL:https://folsomhindutemple.org/event/lunar-eclipse-2/
END:VEVENT
BEGIN:VEVENT
DTSTART;VALUE=DATE:20260828
DTEND;VALUE=DATE:20260829
DTSTAMP:20260419T165054
CREATED:20260104T210347Z
LAST-MODIFIED:20260104T210347Z
UID:2888-1787875200-1787961599@folsomhindutemple.org
SUMMARY:Gayathri Japam
DESCRIPTION:
URL:https://folsomhindutemple.org/event/gayathri-japam-4/
END:VEVENT
END:VCALENDAR