BEGIN:VCALENDAR
VERSION:2.0
PRODID:-// - ECPv6.15.20//NONSGML v1.0//EN
CALSCALE:GREGORIAN
METHOD:PUBLISH
X-ORIGINAL-URL:https://folsomhindutemple.org
X-WR-CALDESC:Events for 
REFRESH-INTERVAL;VALUE=DURATION:PT1H
X-Robots-Tag:noindex
X-PUBLISHED-TTL:PT1H
BEGIN:VTIMEZONE
TZID:America/Los_Angeles
BEGIN:DAYLIGHT
TZOFFSETFROM:-0800
TZOFFSETTO:-0700
TZNAME:PDT
DTSTART:20240310T100000
END:DAYLIGHT
BEGIN:STANDARD
TZOFFSETFROM:-0700
TZOFFSETTO:-0800
TZNAME:PST
DTSTART:20241103T090000
END:STANDARD
BEGIN:DAYLIGHT
TZOFFSETFROM:-0800
TZOFFSETTO:-0700
TZNAME:PDT
DTSTART:20250309T100000
END:DAYLIGHT
BEGIN:STANDARD
TZOFFSETFROM:-0700
TZOFFSETTO:-0800
TZNAME:PST
DTSTART:20251102T090000
END:STANDARD
BEGIN:DAYLIGHT
TZOFFSETFROM:-0800
TZOFFSETTO:-0700
TZNAME:PDT
DTSTART:20260308T100000
END:DAYLIGHT
BEGIN:STANDARD
TZOFFSETFROM:-0700
TZOFFSETTO:-0800
TZNAME:PST
DTSTART:20261101T090000
END:STANDARD
END:VTIMEZONE
BEGIN:VEVENT
DTSTART;VALUE=DATE:20250427
DTEND;VALUE=DATE:20250428
DTSTAMP:20260420T084240
CREATED:20250115T002607Z
LAST-MODIFIED:20250115T002607Z
UID:2697-1745712000-1745798399@folsomhindutemple.org
SUMMARY:Amavasai
DESCRIPTION:
URL:https://folsomhindutemple.org/event/amavasai-22/
END:VEVENT
BEGIN:VEVENT
DTSTART;VALUE=DATE:20250424
DTEND;VALUE=DATE:20250425
DTSTAMP:20260420T084240
CREATED:20250115T002637Z
LAST-MODIFIED:20250115T002637Z
UID:2707-1745452800-1745539199@folsomhindutemple.org
SUMMARY:Pradosham
DESCRIPTION:
URL:https://folsomhindutemple.org/event/pradosham-64/
END:VEVENT
BEGIN:VEVENT
DTSTART;VALUE=DATE:20250415
DTEND;VALUE=DATE:20250416
DTSTAMP:20260420T084240
CREATED:20250115T002637Z
LAST-MODIFIED:20250115T002637Z
UID:2706-1744675200-1744761599@folsomhindutemple.org
SUMMARY:Sankatahara Chathurthi
DESCRIPTION:
URL:https://folsomhindutemple.org/event/sankatahara-chathurthi-33/
END:VEVENT
BEGIN:VEVENT
DTSTART;VALUE=DATE:20250414
DTEND;VALUE=DATE:20250415
DTSTAMP:20260420T084240
CREATED:20250115T002637Z
LAST-MODIFIED:20250115T002637Z
UID:2705-1744588800-1744675199@folsomhindutemple.org
SUMMARY:Vishu
DESCRIPTION:
URL:https://folsomhindutemple.org/event/vishu-2/
END:VEVENT
BEGIN:VEVENT
DTSTART;VALUE=DATE:20250413
DTEND;VALUE=DATE:20250414
DTSTAMP:20260420T084240
CREATED:20250115T002624Z
LAST-MODIFIED:20250115T002624Z
UID:2704-1744502400-1744588799@folsomhindutemple.org
SUMMARY:Sankaramanam
DESCRIPTION:
URL:https://folsomhindutemple.org/event/sankaramanam-17/
END:VEVENT
BEGIN:VEVENT
DTSTART;VALUE=DATE:20250413
DTEND;VALUE=DATE:20250414
DTSTAMP:20260420T084240
CREATED:20250115T002623Z
LAST-MODIFIED:20250115T002623Z
UID:2703-1744502400-1744588799@folsomhindutemple.org
SUMMARY:Sankaranti / Tamil New Year
DESCRIPTION:
URL:https://folsomhindutemple.org/event/sankaranti-tamil-new-year/
END:VEVENT
BEGIN:VEVENT
DTSTART;VALUE=DATE:20250412
DTEND;VALUE=DATE:20250413
DTSTAMP:20260420T084240
CREATED:20250115T002623Z
LAST-MODIFIED:20250115T002623Z
UID:2702-1744416000-1744502399@folsomhindutemple.org
SUMMARY:Hanuman Jayanthi (North India)
DESCRIPTION:
URL:https://folsomhindutemple.org/event/hanuman-jayanthi-north-india/
END:VEVENT
BEGIN:VEVENT
DTSTART;VALUE=DATE:20250412
DTEND;VALUE=DATE:20250413
DTSTAMP:20260420T084240
CREATED:20250115T002607Z
LAST-MODIFIED:20250115T002607Z
UID:2696-1744416000-1744502399@folsomhindutemple.org
SUMMARY:Pournami
DESCRIPTION:
URL:https://folsomhindutemple.org/event/pournami-33/
END:VEVENT
BEGIN:VEVENT
DTSTART;VALUE=DATE:20250410
DTEND;VALUE=DATE:20250411
DTSTAMP:20260420T084240
CREATED:20250115T002623Z
LAST-MODIFIED:20250115T002623Z
UID:2701-1744243200-1744329599@folsomhindutemple.org
SUMMARY:Panguni Uthiram
DESCRIPTION:
URL:https://folsomhindutemple.org/event/panguni-uthiram-3/
END:VEVENT
BEGIN:VEVENT
DTSTART;VALUE=DATE:20250409
DTEND;VALUE=DATE:20250410
DTSTAMP:20260420T084240
CREATED:20250115T002623Z
LAST-MODIFIED:20250115T002623Z
UID:2700-1744156800-1744243199@folsomhindutemple.org
SUMMARY:Pradosham
DESCRIPTION:
URL:https://folsomhindutemple.org/event/pradosham-63/
END:VEVENT
BEGIN:VEVENT
DTSTART;VALUE=DATE:20250406
DTEND;VALUE=DATE:20250407
DTSTAMP:20260420T084240
CREATED:20250115T002608Z
LAST-MODIFIED:20250115T002608Z
UID:2699-1743897600-1743983999@folsomhindutemple.org
SUMMARY:Rama Navami
DESCRIPTION:
URL:https://folsomhindutemple.org/event/rama-navami-3/
END:VEVENT
BEGIN:VEVENT
DTSTART;VALUE=DATE:20250405
DTEND;VALUE=DATE:20250406
DTSTAMP:20260420T084240
CREATED:20250115T002608Z
LAST-MODIFIED:20250115T002608Z
UID:2698-1743811200-1743897599@folsomhindutemple.org
SUMMARY:Rama Navami
DESCRIPTION:
URL:https://folsomhindutemple.org/event/rama-navami-2/
END:VEVENT
BEGIN:VEVENT
DTSTART;VALUE=DATE:20250329
DTEND;VALUE=DATE:20250330
DTSTAMP:20260420T084240
CREATED:20250115T002738Z
LAST-MODIFIED:20250115T002738Z
UID:2728-1743206400-1743292799@folsomhindutemple.org
SUMMARY:Ugadi / Gudi Padwa
DESCRIPTION:
URL:https://folsomhindutemple.org/event/ugadi-gudi-padwa-2/
END:VEVENT
BEGIN:VEVENT
DTSTART;VALUE=DATE:20250328
DTEND;VALUE=DATE:20250329
DTSTAMP:20260420T084240
CREATED:20250115T002722Z
LAST-MODIFIED:20250115T002722Z
UID:2721-1743120000-1743206399@folsomhindutemple.org
SUMMARY:Amavasai
DESCRIPTION:
URL:https://folsomhindutemple.org/event/amavasai-24/
END:VEVENT
BEGIN:VEVENT
DTSTART;VALUE=DATE:20250326
DTEND;VALUE=DATE:20250327
DTSTAMP:20260420T084240
CREATED:20250115T002738Z
LAST-MODIFIED:20250115T002738Z
UID:2727-1742947200-1743033599@folsomhindutemple.org
SUMMARY:Pradosham
DESCRIPTION:
URL:https://folsomhindutemple.org/event/pradosham-69/
END:VEVENT
BEGIN:VEVENT
DTSTART;VALUE=DATE:20250317
DTEND;VALUE=DATE:20250318
DTSTAMP:20260420T084240
CREATED:20250115T002737Z
LAST-MODIFIED:20250115T002737Z
UID:2726-1742169600-1742255999@folsomhindutemple.org
SUMMARY:Sankatahara Chathurthi
DESCRIPTION:
URL:https://folsomhindutemple.org/event/sankatahara-chathurthi-35/
END:VEVENT
BEGIN:VEVENT
DTSTART;VALUE=DATE:20250314
DTEND;VALUE=DATE:20250315
DTSTAMP:20260420T084240
CREATED:20250115T002737Z
LAST-MODIFIED:20250115T002737Z
UID:2725-1741910400-1741996799@folsomhindutemple.org
SUMMARY:Sankaramanam
DESCRIPTION:
URL:https://folsomhindutemple.org/event/sankaramanam-19/
END:VEVENT
BEGIN:VEVENT
DTSTART;VALUE=DATE:20250314
DTEND;VALUE=DATE:20250315
DTSTAMP:20260420T084240
CREATED:20250115T002723Z
LAST-MODIFIED:20250115T002723Z
UID:2724-1741910400-1741996799@folsomhindutemple.org
SUMMARY:Holi / Karadayan Nonbu (6:29 AM)
DESCRIPTION:
URL:https://folsomhindutemple.org/event/holi-karadayan-nonbu-629-am/
END:VEVENT
BEGIN:VEVENT
DTSTART;VALUE=DATE:20250313
DTEND;VALUE=DATE:20250314
DTSTAMP:20260420T084240
CREATED:20250115T002722Z
LAST-MODIFIED:20250115T002722Z
UID:2720-1741824000-1741910399@folsomhindutemple.org
SUMMARY:Pournami
DESCRIPTION:
URL:https://folsomhindutemple.org/event/pournami-35/
END:VEVENT
BEGIN:VEVENT
DTSTART;VALUE=DATE:20250312
DTEND;VALUE=DATE:20250313
DTSTAMP:20260420T084240
CREATED:20250115T002723Z
LAST-MODIFIED:20250115T002723Z
UID:2723-1741737600-1741823999@folsomhindutemple.org
SUMMARY:Maasi Magam
DESCRIPTION:
URL:https://folsomhindutemple.org/event/maasi-magam/
END:VEVENT
BEGIN:VEVENT
DTSTART;VALUE=DATE:20250311
DTEND;VALUE=DATE:20250312
DTSTAMP:20260420T084240
CREATED:20250115T002722Z
LAST-MODIFIED:20250115T002722Z
UID:2722-1741651200-1741737599@folsomhindutemple.org
SUMMARY:Pradosham
DESCRIPTION:
URL:https://folsomhindutemple.org/event/pradosham-68/
END:VEVENT
BEGIN:VEVENT
DTSTART;VALUE=DATE:20250227
DTEND;VALUE=DATE:20250228
DTSTAMP:20260420T084240
CREATED:20250115T002752Z
LAST-MODIFIED:20250115T002752Z
UID:2730-1740614400-1740700799@folsomhindutemple.org
SUMMARY:Amavasai
DESCRIPTION:
URL:https://folsomhindutemple.org/event/amavasai-25/
END:VEVENT
BEGIN:VEVENT
DTSTART;VALUE=DATE:20250225
DTEND;VALUE=DATE:20250226
DTSTAMP:20260420T084240
CREATED:20250115T002808Z
LAST-MODIFIED:20250115T002808Z
UID:2738-1740441600-1740527999@folsomhindutemple.org
SUMMARY:Pradosham
DESCRIPTION:
URL:https://folsomhindutemple.org/event/pradosham-71/
END:VEVENT
BEGIN:VEVENT
DTSTART;VALUE=DATE:20250225
DTEND;VALUE=DATE:20250226
DTSTAMP:20260420T084240
CREATED:20250115T002808Z
LAST-MODIFIED:20250115T002808Z
UID:2739-1740441600-1740527999@folsomhindutemple.org
SUMMARY:Maha Shivarathri
DESCRIPTION:
URL:https://folsomhindutemple.org/event/maha-shivarathri/
END:VEVENT
BEGIN:VEVENT
DTSTART;VALUE=DATE:20250215
DTEND;VALUE=DATE:20250216
DTSTAMP:20260420T084240
CREATED:20250115T002808Z
LAST-MODIFIED:20250115T002808Z
UID:2737-1739577600-1739663999@folsomhindutemple.org
SUMMARY:Sankatahara Chathurthi
DESCRIPTION:
URL:https://folsomhindutemple.org/event/sankatahara-chathurthi-36/
END:VEVENT
BEGIN:VEVENT
DTSTART;VALUE=DATE:20250212
DTEND;VALUE=DATE:20250213
DTSTAMP:20260420T084240
CREATED:20250115T002807Z
LAST-MODIFIED:20250115T002807Z
UID:2736-1739318400-1739404799@folsomhindutemple.org
SUMMARY:Sankaramanam
DESCRIPTION:
URL:https://folsomhindutemple.org/event/sankaramanam-20/
END:VEVENT
BEGIN:VEVENT
DTSTART;VALUE=DATE:20250211
DTEND;VALUE=DATE:20250212
DTSTAMP:20260420T084240
CREATED:20250115T002738Z
LAST-MODIFIED:20250115T002738Z
UID:2729-1739232000-1739318399@folsomhindutemple.org
SUMMARY:Pournami
DESCRIPTION:
URL:https://folsomhindutemple.org/event/pournami-36/
END:VEVENT
BEGIN:VEVENT
DTSTART;VALUE=DATE:20250210
DTEND;VALUE=DATE:20250211
DTSTAMP:20260420T084240
CREATED:20250115T002807Z
LAST-MODIFIED:20250115T002807Z
UID:2735-1739145600-1739231999@folsomhindutemple.org
SUMMARY:Thai Poosam
DESCRIPTION:
URL:https://folsomhindutemple.org/event/thai-poosam/
END:VEVENT
BEGIN:VEVENT
DTSTART;VALUE=DATE:20250209
DTEND;VALUE=DATE:20250210
DTSTAMP:20260420T084240
CREATED:20250115T002753Z
LAST-MODIFIED:20250115T002753Z
UID:2733-1739059200-1739145599@folsomhindutemple.org
SUMMARY:Pradosham
DESCRIPTION:
URL:https://folsomhindutemple.org/event/pradosham-70/
END:VEVENT
BEGIN:VEVENT
DTSTART;VALUE=DATE:20250209
DTEND;VALUE=DATE:20250210
DTSTAMP:20260420T084240
CREATED:20250115T002753Z
LAST-MODIFIED:20250115T002753Z
UID:2734-1739059200-1739145599@folsomhindutemple.org
SUMMARY:Thai Poosa Pada Yatra
DESCRIPTION:
URL:https://folsomhindutemple.org/event/thai-poosa-pada-yatra/
END:VEVENT
END:VCALENDAR