BEGIN:VCALENDAR
VERSION:2.0
PRODID:-// - ECPv6.15.20//NONSGML v1.0//EN
CALSCALE:GREGORIAN
METHOD:PUBLISH
X-ORIGINAL-URL:https://folsomhindutemple.org
X-WR-CALDESC:Events for 
REFRESH-INTERVAL;VALUE=DURATION:PT1H
X-Robots-Tag:noindex
X-PUBLISHED-TTL:PT1H
BEGIN:VTIMEZONE
TZID:America/Los_Angeles
BEGIN:DAYLIGHT
TZOFFSETFROM:-0800
TZOFFSETTO:-0700
TZNAME:PDT
DTSTART:20220313T100000
END:DAYLIGHT
BEGIN:STANDARD
TZOFFSETFROM:-0700
TZOFFSETTO:-0800
TZNAME:PST
DTSTART:20221106T090000
END:STANDARD
BEGIN:DAYLIGHT
TZOFFSETFROM:-0800
TZOFFSETTO:-0700
TZNAME:PDT
DTSTART:20230312T100000
END:DAYLIGHT
BEGIN:STANDARD
TZOFFSETFROM:-0700
TZOFFSETTO:-0800
TZNAME:PST
DTSTART:20231105T090000
END:STANDARD
BEGIN:DAYLIGHT
TZOFFSETFROM:-0800
TZOFFSETTO:-0700
TZNAME:PDT
DTSTART:20240310T100000
END:DAYLIGHT
BEGIN:STANDARD
TZOFFSETFROM:-0700
TZOFFSETTO:-0800
TZNAME:PST
DTSTART:20241103T090000
END:STANDARD
END:VTIMEZONE
BEGIN:VEVENT
DTSTART;VALUE=DATE:20231031
DTEND;VALUE=DATE:20231101
DTSTAMP:20260422T011238
CREATED:20230223T174822Z
LAST-MODIFIED:20230223T174822Z
UID:2188-1698710400-1698796799@folsomhindutemple.org
SUMMARY:Sankatahara Chathurthi
DESCRIPTION:
URL:https://folsomhindutemple.org/event/sankatahara-chathurthi-13/
END:VEVENT
BEGIN:VEVENT
DTSTART;VALUE=DATE:20231108
DTEND;VALUE=DATE:20231109
DTSTAMP:20260422T011238
CREATED:20230223T174922Z
LAST-MODIFIED:20230223T174922Z
UID:2204-1699401600-1699487999@folsomhindutemple.org
SUMMARY:Ekadasi
DESCRIPTION:
URL:https://folsomhindutemple.org/event/ekadasi-22/
END:VEVENT
BEGIN:VEVENT
DTSTART;VALUE=DATE:20231110
DTEND;VALUE=DATE:20231111
DTSTAMP:20260422T011238
CREATED:20230223T175022Z
LAST-MODIFIED:20230223T175022Z
UID:2224-1699574400-1699660799@folsomhindutemple.org
SUMMARY:Pradosham
DESCRIPTION:
URL:https://folsomhindutemple.org/event/pradosham-26/
END:VEVENT
BEGIN:VEVENT
DTSTART;VALUE=DATE:20231111
DTEND;VALUE=DATE:20231112
DTSTAMP:20260422T011238
CREATED:20230223T182434Z
LAST-MODIFIED:20230223T182434Z
UID:2315-1699660800-1699747199@folsomhindutemple.org
SUMMARY:Diwali / Deepavali
DESCRIPTION:
URL:https://folsomhindutemple.org/event/diwali-deepavali/
END:VEVENT
BEGIN:VEVENT
DTSTART;VALUE=DATE:20231112
DTEND;VALUE=DATE:20231113
DTSTAMP:20260422T011238
CREATED:20230223T175052Z
LAST-MODIFIED:20230223T175052Z
UID:2236-1699747200-1699833599@folsomhindutemple.org
SUMMARY:Amavasya
DESCRIPTION:
URL:https://folsomhindutemple.org/event/amavasya-9/
END:VEVENT
BEGIN:VEVENT
DTSTART;VALUE=DATE:20231113
DTEND;VALUE=DATE:20231114
DTSTAMP:20260422T011238
CREATED:20230223T175252Z
LAST-MODIFIED:20230223T175252Z
UID:2278-1699833600-1699919999@folsomhindutemple.org
SUMMARY:Anusham
DESCRIPTION:
URL:https://folsomhindutemple.org/event/anusham-15/
END:VEVENT
BEGIN:VEVENT
DTSTART;VALUE=DATE:20231116
DTEND;VALUE=DATE:20231117
DTSTAMP:20260422T011238
CREATED:20230223T175122Z
LAST-MODIFIED:20230223T175122Z
UID:2246-1700092800-1700179199@folsomhindutemple.org
SUMMARY:Chathurthi
DESCRIPTION:
URL:https://folsomhindutemple.org/event/chathurthi-9/
END:VEVENT
BEGIN:VEVENT
DTSTART;VALUE=DATE:20231116
DTEND;VALUE=DATE:20231117
DTSTAMP:20260422T011238
CREATED:20230223T175152Z
LAST-MODIFIED:20230223T175152Z
UID:2256-1700092800-1700179199@folsomhindutemple.org
SUMMARY:Maasa Pirappu (Month Begins)
DESCRIPTION:
URL:https://folsomhindutemple.org/event/maasa-pirappu-month-begins-9/
END:VEVENT
BEGIN:VEVENT
DTSTART;VALUE=DATE:20231118
DTEND;VALUE=DATE:20231119
DTSTAMP:20260422T011238
CREATED:20230223T182522Z
LAST-MODIFIED:20230223T182522Z
UID:2317-1700265600-1700351999@folsomhindutemple.org
SUMMARY:Skanda Sashti
DESCRIPTION:
URL:https://folsomhindutemple.org/event/skanda-sashti/
END:VEVENT
BEGIN:VEVENT
DTSTART;VALUE=DATE:20231122
DTEND;VALUE=DATE:20231123
DTSTAMP:20260422T011238
CREATED:20230223T174922Z
LAST-MODIFIED:20230223T174922Z
UID:2205-1700611200-1700697599@folsomhindutemple.org
SUMMARY:Ekadasi
DESCRIPTION:
URL:https://folsomhindutemple.org/event/ekadasi-23/
END:VEVENT
BEGIN:VEVENT
DTSTART;VALUE=DATE:20231124
DTEND;VALUE=DATE:20231125
DTSTAMP:20260422T011238
CREATED:20230223T175022Z
LAST-MODIFIED:20230223T175022Z
UID:2225-1700784000-1700870399@folsomhindutemple.org
SUMMARY:Pradosham
DESCRIPTION:
URL:https://folsomhindutemple.org/event/pradosham-27/
END:VEVENT
BEGIN:VEVENT
DTSTART;VALUE=DATE:20231126
DTEND;VALUE=DATE:20231127
DTSTAMP:20260422T011238
CREATED:20230223T174806Z
LAST-MODIFIED:20230223T174806Z
UID:2178-1700956800-1701043199@folsomhindutemple.org
SUMMARY:Pournami
DESCRIPTION:
URL:https://folsomhindutemple.org/event/pournami-14/
END:VEVENT
BEGIN:VEVENT
DTSTART;VALUE=DATE:20231126
DTEND;VALUE=DATE:20231127
DTSTAMP:20260422T011238
CREATED:20230223T175222Z
LAST-MODIFIED:20230223T175222Z
UID:2267-1700956800-1701043199@folsomhindutemple.org
SUMMARY:Krithigai
DESCRIPTION:
URL:https://folsomhindutemple.org/event/krithigai-10/
END:VEVENT
BEGIN:VEVENT
DTSTART;VALUE=DATE:20231130
DTEND;VALUE=DATE:20231201
DTSTAMP:20260422T011238
CREATED:20230223T174837Z
LAST-MODIFIED:20230223T174837Z
UID:2189-1701302400-1701388799@folsomhindutemple.org
SUMMARY:Sankatahara Chathurthi
DESCRIPTION:
URL:https://folsomhindutemple.org/event/sankatahara-chathurthi-14/
END:VEVENT
BEGIN:VEVENT
DTSTART;VALUE=DATE:20231208
DTEND;VALUE=DATE:20231209
DTSTAMP:20260422T011238
CREATED:20230223T174922Z
LAST-MODIFIED:20230223T174922Z
UID:2206-1701993600-1702079999@folsomhindutemple.org
SUMMARY:Ekadasi
DESCRIPTION:
URL:https://folsomhindutemple.org/event/ekadasi-24/
END:VEVENT
BEGIN:VEVENT
DTSTART;VALUE=DATE:20231210
DTEND;VALUE=DATE:20231211
DTSTAMP:20260422T011238
CREATED:20230223T175022Z
LAST-MODIFIED:20230223T175022Z
UID:2226-1702166400-1702252799@folsomhindutemple.org
SUMMARY:Pradosham
DESCRIPTION:
URL:https://folsomhindutemple.org/event/pradosham-28/
END:VEVENT
BEGIN:VEVENT
DTSTART;VALUE=DATE:20231210
DTEND;VALUE=DATE:20231211
DTSTAMP:20260422T011238
CREATED:20230808T161336Z
LAST-MODIFIED:20231102T035049Z
UID:2358-1702166400-1702252799@folsomhindutemple.org
SUMMARY:Shastha Preethi / Irumudi Pooja
DESCRIPTION:
URL:https://folsomhindutemple.org/event/shastha-preethi/
END:VEVENT
BEGIN:VEVENT
DTSTART;VALUE=DATE:20231211
DTEND;VALUE=DATE:20231212
DTSTAMP:20260422T011238
CREATED:20230223T175307Z
LAST-MODIFIED:20230223T175307Z
UID:2279-1702252800-1702339199@folsomhindutemple.org
SUMMARY:Anusham
DESCRIPTION:
URL:https://folsomhindutemple.org/event/anusham-16/
END:VEVENT
BEGIN:VEVENT
DTSTART;VALUE=DATE:20231212
DTEND;VALUE=DATE:20231213
DTSTAMP:20260422T011238
CREATED:20230223T175052Z
LAST-MODIFIED:20230223T175052Z
UID:2237-1702339200-1702425599@folsomhindutemple.org
SUMMARY:Amavasya
DESCRIPTION:
URL:https://folsomhindutemple.org/event/amavasya-10/
END:VEVENT
BEGIN:VEVENT
DTSTART;VALUE=DATE:20231215
DTEND;VALUE=DATE:20231216
DTSTAMP:20260422T011238
CREATED:20230223T175122Z
LAST-MODIFIED:20230223T175122Z
UID:2247-1702598400-1702684799@folsomhindutemple.org
SUMMARY:Chathurthi
DESCRIPTION:
URL:https://folsomhindutemple.org/event/chathurthi-10/
END:VEVENT
BEGIN:VEVENT
DTSTART;VALUE=DATE:20231216
DTEND;VALUE=DATE:20231217
DTSTAMP:20260422T011238
CREATED:20230223T175152Z
LAST-MODIFIED:20230223T175152Z
UID:2257-1702684800-1702771199@folsomhindutemple.org
SUMMARY:Maasa Pirappu (Month Begins)
DESCRIPTION:
URL:https://folsomhindutemple.org/event/maasa-pirappu-month-begins-10/
END:VEVENT
BEGIN:VEVENT
DTSTART;VALUE=DATE:20231216
DTEND;VALUE=DATE:20231217
DTSTAMP:20260422T011238
CREATED:20230223T182617Z
LAST-MODIFIED:20230223T182617Z
UID:2319-1702684800-1702771199@folsomhindutemple.org
SUMMARY:Dhanur Masa begins
DESCRIPTION:
URL:https://folsomhindutemple.org/event/dhanur-masa-begins/
END:VEVENT
BEGIN:VEVENT
DTSTART;VALUE=DATE:20231217
DTEND;VALUE=DATE:20231218
DTSTAMP:20260422T011238
CREATED:20231215T193845Z
LAST-MODIFIED:20231215T193845Z
UID:2380-1702771200-1702857599@folsomhindutemple.org
SUMMARY:SubbarayaShasti
DESCRIPTION:Subramania Swami Abhishegam – 8 AM
URL:https://folsomhindutemple.org/event/subbarayashasti/
END:VEVENT
BEGIN:VEVENT
DTSTART;VALUE=DATE:20231220
DTEND;VALUE=DATE:20231221
DTSTAMP:20260422T011238
CREATED:20231215T193949Z
LAST-MODIFIED:20231215T193949Z
UID:2382-1703030400-1703116799@folsomhindutemple.org
SUMMARY:Sani (Saturn) Peryarchi
DESCRIPTION:Sani Peryarchi Homam and Abhishegam – 8:30 AM
URL:https://folsomhindutemple.org/event/sani-saturn-peryarchi/
END:VEVENT
BEGIN:VEVENT
DTSTART;VALUE=DATE:20231222
DTEND;VALUE=DATE:20231223
DTSTAMP:20260422T011238
CREATED:20230223T182731Z
LAST-MODIFIED:20230223T182731Z
UID:2322-1703203200-1703289599@folsomhindutemple.org
SUMMARY:Vaikunta Ekadasi
DESCRIPTION:
URL:https://folsomhindutemple.org/event/vaikunta-ekadasi/
END:VEVENT
BEGIN:VEVENT
DTSTART;VALUE=DATE:20231223
DTEND;VALUE=DATE:20231224
DTSTAMP:20260422T011238
CREATED:20230223T175022Z
LAST-MODIFIED:20230223T175022Z
UID:2227-1703289600-1703375999@folsomhindutemple.org
SUMMARY:Pradosham
DESCRIPTION:
URL:https://folsomhindutemple.org/event/pradosham-29/
END:VEVENT
BEGIN:VEVENT
DTSTART;VALUE=DATE:20231223
DTEND;VALUE=DATE:20231224
DTSTAMP:20260422T011238
CREATED:20230223T175222Z
LAST-MODIFIED:20230223T175222Z
UID:2268-1703289600-1703375999@folsomhindutemple.org
SUMMARY:Krithigai
DESCRIPTION:
URL:https://folsomhindutemple.org/event/krithigai-11/
END:VEVENT
BEGIN:VEVENT
DTSTART;VALUE=DATE:20231225
DTEND;VALUE=DATE:20231226
DTSTAMP:20260422T011238
CREATED:20230223T174808Z
LAST-MODIFIED:20230223T174808Z
UID:2179-1703462400-1703548799@folsomhindutemple.org
SUMMARY:Pournami
DESCRIPTION:
URL:https://folsomhindutemple.org/event/pournami-15/
END:VEVENT
BEGIN:VEVENT
DTSTART;VALUE=DATE:20231227
DTEND;VALUE=DATE:20231228
DTSTAMP:20260422T011238
CREATED:20231215T194037Z
LAST-MODIFIED:20231215T194037Z
UID:2384-1703635200-1703721599@folsomhindutemple.org
SUMMARY:Arudra Darshan
DESCRIPTION:Darshan at 8 AM
URL:https://folsomhindutemple.org/event/arudra-darshan/
END:VEVENT
BEGIN:VEVENT
DTSTART;VALUE=DATE:20231230
DTEND;VALUE=DATE:20231231
DTSTAMP:20260422T011238
CREATED:20230223T174837Z
LAST-MODIFIED:20230223T174837Z
UID:2190-1703894400-1703980799@folsomhindutemple.org
SUMMARY:Sankatahara Chathurthi
DESCRIPTION:
URL:https://folsomhindutemple.org/event/sankatahara-chathurthi-15/
END:VEVENT
END:VCALENDAR