BEGIN:VCALENDAR
VERSION:2.0
PRODID:-// - ECPv6.15.20//NONSGML v1.0//EN
CALSCALE:GREGORIAN
METHOD:PUBLISH
X-ORIGINAL-URL:https://folsomhindutemple.org
X-WR-CALDESC:Events for 
REFRESH-INTERVAL;VALUE=DURATION:PT1H
X-Robots-Tag:noindex
X-PUBLISHED-TTL:PT1H
BEGIN:VTIMEZONE
TZID:America/Los_Angeles
BEGIN:DAYLIGHT
TZOFFSETFROM:-0800
TZOFFSETTO:-0700
TZNAME:PDT
DTSTART:20250309T100000
END:DAYLIGHT
BEGIN:STANDARD
TZOFFSETFROM:-0700
TZOFFSETTO:-0800
TZNAME:PST
DTSTART:20251102T090000
END:STANDARD
BEGIN:DAYLIGHT
TZOFFSETFROM:-0800
TZOFFSETTO:-0700
TZNAME:PDT
DTSTART:20260308T100000
END:DAYLIGHT
BEGIN:STANDARD
TZOFFSETFROM:-0700
TZOFFSETTO:-0800
TZNAME:PST
DTSTART:20261101T090000
END:STANDARD
BEGIN:DAYLIGHT
TZOFFSETFROM:-0800
TZOFFSETTO:-0700
TZNAME:PDT
DTSTART:20270314T100000
END:DAYLIGHT
BEGIN:STANDARD
TZOFFSETFROM:-0700
TZOFFSETTO:-0800
TZNAME:PST
DTSTART:20271107T090000
END:STANDARD
END:VTIMEZONE
BEGIN:VEVENT
DTSTART;VALUE=DATE:20260906
DTEND;VALUE=DATE:20260907
DTSTAMP:20260419T215438
CREATED:20260104T210547Z
LAST-MODIFIED:20260104T210547Z
UID:2891-1788652800-1788739199@folsomhindutemple.org
SUMMARY:Ekadasi
DESCRIPTION:
URL:https://folsomhindutemple.org/event/ekadasi-61/
END:VEVENT
BEGIN:VEVENT
DTSTART;VALUE=DATE:20260908
DTEND;VALUE=DATE:20260909
DTSTAMP:20260419T215438
CREATED:20260104T210547Z
LAST-MODIFIED:20260104T210547Z
UID:2892-1788825600-1788911999@folsomhindutemple.org
SUMMARY:Pradosham
DESCRIPTION:
URL:https://folsomhindutemple.org/event/pradosham-90/
END:VEVENT
BEGIN:VEVENT
DTSTART;VALUE=DATE:20260910
DTEND;VALUE=DATE:20260911
DTSTAMP:20260419T215438
CREATED:20260112T175915Z
LAST-MODIFIED:20260112T175915Z
UID:2948-1788998400-1789084799@folsomhindutemple.org
SUMMARY:Amavasai
DESCRIPTION:
URL:https://folsomhindutemple.org/event/amavasai-34/
END:VEVENT
BEGIN:VEVENT
DTSTART;VALUE=DATE:20260912
DTEND;VALUE=DATE:20260913
DTSTAMP:20260419T215438
CREATED:20260104T210547Z
LAST-MODIFIED:20260104T210547Z
UID:2893-1789171200-1789257599@folsomhindutemple.org
SUMMARY:Sama Upakarma
DESCRIPTION:
URL:https://folsomhindutemple.org/event/sama-upakarma-2/
END:VEVENT
BEGIN:VEVENT
DTSTART;VALUE=DATE:20260913
DTEND;VALUE=DATE:20260914
DTSTAMP:20260419T215438
CREATED:20260104T210747Z
LAST-MODIFIED:20260104T210747Z
UID:2896-1789257600-1789343999@folsomhindutemple.org
SUMMARY:Samvatsara Abhishekam
DESCRIPTION:
URL:https://folsomhindutemple.org/event/samvatsara-abhishekam-2/
END:VEVENT
BEGIN:VEVENT
DTSTART;VALUE=DATE:20260914
DTEND;VALUE=DATE:20260915
DTSTAMP:20260419T215438
CREATED:20260104T210547Z
LAST-MODIFIED:20260104T210547Z
UID:2894-1789344000-1789430399@folsomhindutemple.org
SUMMARY:Ganesh Chaturthi
DESCRIPTION:
URL:https://folsomhindutemple.org/event/ganesh-chaturthi/
END:VEVENT
BEGIN:VEVENT
DTSTART;VALUE=DATE:20260914
DTEND;VALUE=DATE:20260915
DTSTAMP:20260419T215438
CREATED:20260104T210746Z
LAST-MODIFIED:20260104T210746Z
UID:2895-1789344000-1789430399@folsomhindutemple.org
SUMMARY:Samvatsara Alankara Utsavam Begins
DESCRIPTION:
URL:https://folsomhindutemple.org/event/samvatsara-alankara-utsavam-begins-2/
END:VEVENT
BEGIN:VEVENT
DTSTART;VALUE=DATE:20260916
DTEND;VALUE=DATE:20260917
DTSTAMP:20260419T215438
CREATED:20260104T210747Z
LAST-MODIFIED:20260104T210747Z
UID:2897-1789516800-1789603199@folsomhindutemple.org
SUMMARY:Anusham
DESCRIPTION:
URL:https://folsomhindutemple.org/event/anusham-36/
END:VEVENT
BEGIN:VEVENT
DTSTART;VALUE=DATE:20260917
DTEND;VALUE=DATE:20260918
DTSTAMP:20260419T215438
CREATED:20260104T210747Z
LAST-MODIFIED:20260104T210747Z
UID:2898-1789603200-1789689599@folsomhindutemple.org
SUMMARY:Sankaramanam
DESCRIPTION:
URL:https://folsomhindutemple.org/event/sankaramanam-28/
END:VEVENT
BEGIN:VEVENT
DTSTART;VALUE=DATE:20260921
DTEND;VALUE=DATE:20260922
DTSTAMP:20260419T215438
CREATED:20260104T210747Z
LAST-MODIFIED:20260104T210747Z
UID:2899-1789948800-1790035199@folsomhindutemple.org
SUMMARY:Ekadasi
DESCRIPTION:
URL:https://folsomhindutemple.org/event/ekadasi-62/
END:VEVENT
BEGIN:VEVENT
DTSTART;VALUE=DATE:20260923
DTEND;VALUE=DATE:20260924
DTSTAMP:20260419T215438
CREATED:20260104T210946Z
LAST-MODIFIED:20260104T210946Z
UID:2900-1790121600-1790207999@folsomhindutemple.org
SUMMARY:Pradosham
DESCRIPTION:
URL:https://folsomhindutemple.org/event/pradosham-91/
END:VEVENT
BEGIN:VEVENT
DTSTART;VALUE=DATE:20260926
DTEND;VALUE=DATE:20260927
DTSTAMP:20260419T215438
CREATED:20260104T210947Z
LAST-MODIFIED:20260104T210947Z
UID:2902-1790380800-1790467199@folsomhindutemple.org
SUMMARY:Apastamba Yajur Upakarma
DESCRIPTION:
URL:https://folsomhindutemple.org/event/apastamba-yajur-upakarma/
END:VEVENT
BEGIN:VEVENT
DTSTART;VALUE=DATE:20260926
DTEND;VALUE=DATE:20260927
DTSTAMP:20260419T215438
CREATED:20260104T210947Z
LAST-MODIFIED:20260104T210947Z
UID:2901-1790380800-1790467199@folsomhindutemple.org
SUMMARY:Mahalayapaksha begins
DESCRIPTION:
URL:https://folsomhindutemple.org/event/mahalayapaksha-begins/
END:VEVENT
BEGIN:VEVENT
DTSTART;VALUE=DATE:20260929
DTEND;VALUE=DATE:20260930
DTSTAMP:20260419T215438
CREATED:20260104T210947Z
LAST-MODIFIED:20260104T210947Z
UID:2903-1790640000-1790726399@folsomhindutemple.org
SUMMARY:Sankatahara Chathurthi
DESCRIPTION:
URL:https://folsomhindutemple.org/event/sankatahara-chathurthi-47/
END:VEVENT
BEGIN:VEVENT
DTSTART;VALUE=DATE:20261006
DTEND;VALUE=DATE:20261007
DTSTAMP:20260419T215438
CREATED:20260104T210947Z
LAST-MODIFIED:20260104T210947Z
UID:2904-1791244800-1791331199@folsomhindutemple.org
SUMMARY:Ekadasi
DESCRIPTION:
URL:https://folsomhindutemple.org/event/ekadasi-63/
END:VEVENT
BEGIN:VEVENT
DTSTART;VALUE=DATE:20261007
DTEND;VALUE=DATE:20261008
DTSTAMP:20260419T215438
CREATED:20260104T211146Z
LAST-MODIFIED:20260104T211146Z
UID:2905-1791331200-1791417599@folsomhindutemple.org
SUMMARY:Pradosham
DESCRIPTION:
URL:https://folsomhindutemple.org/event/pradosham-92/
END:VEVENT
BEGIN:VEVENT
DTSTART;VALUE=DATE:20261009
DTEND;VALUE=DATE:20261010
DTSTAMP:20260419T215438
CREATED:20260104T211147Z
LAST-MODIFIED:20260104T211147Z
UID:2906-1791504000-1791590399@folsomhindutemple.org
SUMMARY:Mahalaya Amavasai
DESCRIPTION:
URL:https://folsomhindutemple.org/event/mahalaya-amavasai-3/
END:VEVENT
BEGIN:VEVENT
DTSTART;VALUE=DATE:20261010
DTEND;VALUE=DATE:20261011
DTSTAMP:20260419T215438
CREATED:20260112T175915Z
LAST-MODIFIED:20260112T175915Z
UID:2949-1791590400-1791676799@folsomhindutemple.org
SUMMARY:Amavasai
DESCRIPTION:
URL:https://folsomhindutemple.org/event/amavasai-35/
END:VEVENT
BEGIN:VEVENT
DTSTART;VALUE=DATE:20261011
DTEND;VALUE=DATE:20261012
DTSTAMP:20260419T215438
CREATED:20260104T211147Z
LAST-MODIFIED:20260104T211147Z
UID:2907-1791676800-1791763199@folsomhindutemple.org
SUMMARY:Navathri begins
DESCRIPTION:
URL:https://folsomhindutemple.org/event/navathri-begins/
END:VEVENT
BEGIN:VEVENT
DTSTART;VALUE=DATE:20261014
DTEND;VALUE=DATE:20261015
DTSTAMP:20260419T215438
CREATED:20260104T211147Z
LAST-MODIFIED:20260104T211147Z
UID:2908-1791936000-1792022399@folsomhindutemple.org
SUMMARY:Anusham
DESCRIPTION:
URL:https://folsomhindutemple.org/event/anusham-37/
END:VEVENT
BEGIN:VEVENT
DTSTART;VALUE=DATE:20261017
DTEND;VALUE=DATE:20261018
DTSTAMP:20260419T215438
CREATED:20260104T211148Z
LAST-MODIFIED:20260104T211148Z
UID:2909-1792195200-1792281599@folsomhindutemple.org
SUMMARY:Sankaramanam
DESCRIPTION:
URL:https://folsomhindutemple.org/event/sankaramanam-29/
END:VEVENT
BEGIN:VEVENT
DTSTART;VALUE=DATE:20261019
DTEND;VALUE=DATE:20261020
DTSTAMP:20260419T215438
CREATED:20260104T211346Z
LAST-MODIFIED:20260104T211346Z
UID:2910-1792368000-1792454399@folsomhindutemple.org
SUMMARY:Ayutha / Saraswathi Pooja
DESCRIPTION:
URL:https://folsomhindutemple.org/event/ayutha-saraswathi-pooja/
END:VEVENT
BEGIN:VEVENT
DTSTART;VALUE=DATE:20261020
DTEND;VALUE=DATE:20261021
DTSTAMP:20260419T215438
CREATED:20260104T211347Z
LAST-MODIFIED:20260104T211347Z
UID:2911-1792454400-1792540799@folsomhindutemple.org
SUMMARY:Vijayadasami
DESCRIPTION:
URL:https://folsomhindutemple.org/event/vijayadasami-2/
END:VEVENT
BEGIN:VEVENT
DTSTART;VALUE=DATE:20261021
DTEND;VALUE=DATE:20261022
DTSTAMP:20260419T215438
CREATED:20260104T211347Z
LAST-MODIFIED:20260104T211347Z
UID:2912-1792540800-1792627199@folsomhindutemple.org
SUMMARY:Ekadasi
DESCRIPTION:
URL:https://folsomhindutemple.org/event/ekadasi-64/
END:VEVENT
BEGIN:VEVENT
DTSTART;VALUE=DATE:20261023
DTEND;VALUE=DATE:20261024
DTSTAMP:20260419T215438
CREATED:20260104T211347Z
LAST-MODIFIED:20260104T211347Z
UID:2913-1792713600-1792799999@folsomhindutemple.org
SUMMARY:Pradosham
DESCRIPTION:
URL:https://folsomhindutemple.org/event/pradosham-93/
END:VEVENT
BEGIN:VEVENT
DTSTART;VALUE=DATE:20261024
DTEND;VALUE=DATE:20261026
DTSTAMP:20260419T215438
CREATED:20260104T214115Z
LAST-MODIFIED:20260104T214115Z
UID:2915-1792800000-1792972799@folsomhindutemple.org
SUMMARY:Chandi Homam
DESCRIPTION:
URL:https://folsomhindutemple.org/event/chandi-homam-4/
END:VEVENT
BEGIN:VEVENT
DTSTART;VALUE=DATE:20261028
DTEND;VALUE=DATE:20261029
DTSTAMP:20260419T215438
CREATED:20260104T211347Z
LAST-MODIFIED:20260104T211347Z
UID:2914-1793145600-1793231999@folsomhindutemple.org
SUMMARY:Sankatahara Chathurthi
DESCRIPTION:
URL:https://folsomhindutemple.org/event/sankatahara-chathurthi-48/
END:VEVENT
BEGIN:VEVENT
DTSTART;VALUE=DATE:20261104
DTEND;VALUE=DATE:20261105
DTSTAMP:20260419T215438
CREATED:20260104T214116Z
LAST-MODIFIED:20260104T214116Z
UID:2916-1793750400-1793836799@folsomhindutemple.org
SUMMARY:Ekadasi
DESCRIPTION:
URL:https://folsomhindutemple.org/event/ekadasi-65/
END:VEVENT
BEGIN:VEVENT
DTSTART;VALUE=DATE:20261106
DTEND;VALUE=DATE:20261107
DTSTAMP:20260419T215438
CREATED:20260104T214116Z
LAST-MODIFIED:20260104T214116Z
UID:2917-1793923200-1794009599@folsomhindutemple.org
SUMMARY:Pradosham
DESCRIPTION:
URL:https://folsomhindutemple.org/event/pradosham-94/
END:VEVENT
BEGIN:VEVENT
DTSTART;VALUE=DATE:20261107
DTEND;VALUE=DATE:20261108
DTSTAMP:20260419T215438
CREATED:20260104T214116Z
LAST-MODIFIED:20260104T214116Z
UID:2918-1794009600-1794095999@folsomhindutemple.org
SUMMARY:Deepavali
DESCRIPTION:
URL:https://folsomhindutemple.org/event/deepavali/
END:VEVENT
END:VCALENDAR