BEGIN:VCALENDAR
VERSION:2.0
PRODID:-// - ECPv6.15.20//NONSGML v1.0//EN
CALSCALE:GREGORIAN
METHOD:PUBLISH
X-ORIGINAL-URL:https://folsomhindutemple.org
X-WR-CALDESC:Events for 
REFRESH-INTERVAL;VALUE=DURATION:PT1H
X-Robots-Tag:noindex
X-PUBLISHED-TTL:PT1H
BEGIN:VTIMEZONE
TZID:America/Los_Angeles
BEGIN:DAYLIGHT
TZOFFSETFROM:-0800
TZOFFSETTO:-0700
TZNAME:PDT
DTSTART:20240310T100000
END:DAYLIGHT
BEGIN:STANDARD
TZOFFSETFROM:-0700
TZOFFSETTO:-0800
TZNAME:PST
DTSTART:20241103T090000
END:STANDARD
BEGIN:DAYLIGHT
TZOFFSETFROM:-0800
TZOFFSETTO:-0700
TZNAME:PDT
DTSTART:20250309T100000
END:DAYLIGHT
BEGIN:STANDARD
TZOFFSETFROM:-0700
TZOFFSETTO:-0800
TZNAME:PST
DTSTART:20251102T090000
END:STANDARD
BEGIN:DAYLIGHT
TZOFFSETFROM:-0800
TZOFFSETTO:-0700
TZNAME:PDT
DTSTART:20260308T100000
END:DAYLIGHT
BEGIN:STANDARD
TZOFFSETFROM:-0700
TZOFFSETTO:-0800
TZNAME:PST
DTSTART:20261101T090000
END:STANDARD
END:VTIMEZONE
BEGIN:VEVENT
DTSTART;VALUE=DATE:20250729
DTEND;VALUE=DATE:20250730
DTSTAMP:20260420T044053
CREATED:20250115T002338Z
LAST-MODIFIED:20250115T002338Z
UID:2648-1753747200-1753833599@folsomhindutemple.org
SUMMARY:Garuda Panjami
DESCRIPTION:
URL:https://folsomhindutemple.org/event/garuda-panjami/
END:VEVENT
BEGIN:VEVENT
DTSTART;VALUE=DATE:20250727
DTEND;VALUE=DATE:20250728
DTSTAMP:20260420T044053
CREATED:20250115T002338Z
LAST-MODIFIED:20250115T002338Z
UID:2647-1753574400-1753660799@folsomhindutemple.org
SUMMARY:Andal Jayanthi
DESCRIPTION:
URL:https://folsomhindutemple.org/event/andal-jayanthi/
END:VEVENT
BEGIN:VEVENT
DTSTART;VALUE=DATE:20250727
DTEND;VALUE=DATE:20250728
DTSTAMP:20260420T044053
CREATED:20250115T002337Z
LAST-MODIFIED:20250115T002337Z
UID:2646-1753574400-1753660799@folsomhindutemple.org
SUMMARY:Aadi Pooram
DESCRIPTION:
URL:https://folsomhindutemple.org/event/aadi-pooram/
END:VEVENT
BEGIN:VEVENT
DTSTART;VALUE=DATE:20250724
DTEND;VALUE=DATE:20250725
DTSTAMP:20260420T044053
CREATED:20250115T002323Z
LAST-MODIFIED:20250115T002323Z
UID:2644-1753315200-1753401599@folsomhindutemple.org
SUMMARY:Amavasai
DESCRIPTION:
URL:https://folsomhindutemple.org/event/amavasai-16/
END:VEVENT
BEGIN:VEVENT
DTSTART;VALUE=DATE:20250721
DTEND;VALUE=DATE:20250722
DTSTAMP:20260420T044053
CREATED:20250115T002323Z
LAST-MODIFIED:20250115T002323Z
UID:2643-1753056000-1753142399@folsomhindutemple.org
SUMMARY:Pradosham
DESCRIPTION:
URL:https://folsomhindutemple.org/event/pradosham-53/
END:VEVENT
BEGIN:VEVENT
DTSTART;VALUE=DATE:20250720
DTEND;VALUE=DATE:20250721
DTSTAMP:20260420T044053
CREATED:20250115T002323Z
LAST-MODIFIED:20250115T002323Z
UID:2642-1752969600-1753055999@folsomhindutemple.org
SUMMARY:Aadi Kritigai
DESCRIPTION:
URL:https://folsomhindutemple.org/event/aadi-kritigai/
END:VEVENT
BEGIN:VEVENT
DTSTART;VALUE=DATE:20250715
DTEND;VALUE=DATE:20250716
DTSTAMP:20260420T044053
CREATED:20250115T002322Z
LAST-MODIFIED:20250115T002322Z
UID:2641-1752537600-1752623999@folsomhindutemple.org
SUMMARY:Sankaramanam
DESCRIPTION:
URL:https://folsomhindutemple.org/event/sankaramanam-12/
END:VEVENT
BEGIN:VEVENT
DTSTART;VALUE=DATE:20250713
DTEND;VALUE=DATE:20250714
DTSTAMP:20260420T044053
CREATED:20250115T002322Z
LAST-MODIFIED:20250115T002322Z
UID:2640-1752364800-1752451199@folsomhindutemple.org
SUMMARY:Sankatahara Chathurthi
DESCRIPTION:
URL:https://folsomhindutemple.org/event/sankatahara-chathurthi-27/
END:VEVENT
BEGIN:VEVENT
DTSTART;VALUE=DATE:20250710
DTEND;VALUE=DATE:20250711
DTSTAMP:20260420T044053
CREATED:20250115T002337Z
LAST-MODIFIED:20250115T002337Z
UID:2645-1752105600-1752191999@folsomhindutemple.org
SUMMARY:Pournami
DESCRIPTION:
URL:https://folsomhindutemple.org/event/pournami-27/
END:VEVENT
BEGIN:VEVENT
DTSTART;VALUE=DATE:20250710
DTEND;VALUE=DATE:20250711
DTSTAMP:20260420T044053
CREATED:20250115T002308Z
LAST-MODIFIED:20250115T002308Z
UID:2639-1752105600-1752191999@folsomhindutemple.org
SUMMARY:Guru Poornima
DESCRIPTION:
URL:https://folsomhindutemple.org/event/guru-poornima/
END:VEVENT
BEGIN:VEVENT
DTSTART;VALUE=DATE:20250707
DTEND;VALUE=DATE:20250708
DTSTAMP:20260420T044053
CREATED:20250115T002308Z
LAST-MODIFIED:20250115T002308Z
UID:2638-1751846400-1751932799@folsomhindutemple.org
SUMMARY:Pradosham
DESCRIPTION:
URL:https://folsomhindutemple.org/event/pradosham-52/
END:VEVENT
BEGIN:VEVENT
DTSTART;VALUE=DATE:20250701
DTEND;VALUE=DATE:20250702
DTSTAMP:20260420T044053
CREATED:20250115T002307Z
LAST-MODIFIED:20250115T002307Z
UID:2637-1751328000-1751414399@folsomhindutemple.org
SUMMARY:Aani Thirumanjanam
DESCRIPTION:
URL:https://folsomhindutemple.org/event/aani-thirumanjanam-2/
END:VEVENT
BEGIN:VEVENT
DTSTART;VALUE=DATE:20250624
DTEND;VALUE=DATE:20250625
DTSTAMP:20260420T044053
CREATED:20250115T002423Z
LAST-MODIFIED:20250115T002423Z
UID:2662-1750723200-1750809599@folsomhindutemple.org
SUMMARY:Amavasai
DESCRIPTION:
URL:https://folsomhindutemple.org/event/amavasai-18/
END:VEVENT
BEGIN:VEVENT
DTSTART;VALUE=DATE:20250622
DTEND;VALUE=DATE:20250623
DTSTAMP:20260420T044053
CREATED:20250115T002437Z
LAST-MODIFIED:20250115T002437Z
UID:2668-1750550400-1750636799@folsomhindutemple.org
SUMMARY:Pradosham
DESCRIPTION:
URL:https://folsomhindutemple.org/event/pradosham-57/
END:VEVENT
BEGIN:VEVENT
DTSTART;VALUE=DATE:20250614
DTEND;VALUE=DATE:20250615
DTSTAMP:20260420T044053
CREATED:20250115T002437Z
LAST-MODIFIED:20250115T002437Z
UID:2666-1749859200-1749945599@folsomhindutemple.org
SUMMARY:Sankaramanam
DESCRIPTION:
URL:https://folsomhindutemple.org/event/sankaramanam-14/
END:VEVENT
BEGIN:VEVENT
DTSTART;VALUE=DATE:20250614
DTEND;VALUE=DATE:20250615
DTSTAMP:20260420T044053
CREATED:20250115T002437Z
LAST-MODIFIED:20250115T002437Z
UID:2667-1749859200-1749945599@folsomhindutemple.org
SUMMARY:Sankatahara Chathurthi
DESCRIPTION:
URL:https://folsomhindutemple.org/event/sankatahara-chathurthi-29/
END:VEVENT
BEGIN:VEVENT
DTSTART;VALUE=DATE:20250610
DTEND;VALUE=DATE:20250611
DTSTAMP:20260420T044053
CREATED:20250115T002422Z
LAST-MODIFIED:20250115T002422Z
UID:2661-1749513600-1749599999@folsomhindutemple.org
SUMMARY:Pournami
DESCRIPTION:
URL:https://folsomhindutemple.org/event/pournami-29/
END:VEVENT
BEGIN:VEVENT
DTSTART;VALUE=DATE:20250609
DTEND;VALUE=DATE:20250610
DTSTAMP:20260420T044053
CREATED:20250115T002437Z
LAST-MODIFIED:20250115T002437Z
UID:2665-1749427200-1749513599@folsomhindutemple.org
SUMMARY:Maha Periyavaa Jayanthi / Siva Parvathi Kalyanam
DESCRIPTION:
URL:https://folsomhindutemple.org/event/maha-periyavaa-jayanthi-siva-parvathi-kalyanam/
END:VEVENT
BEGIN:VEVENT
DTSTART;VALUE=DATE:20250608
DTEND;VALUE=DATE:20250609
DTSTAMP:20260420T044053
CREATED:20250115T002423Z
LAST-MODIFIED:20250115T002423Z
UID:2664-1749340800-1749427199@folsomhindutemple.org
SUMMARY:Vaikasi Visakam
DESCRIPTION:
URL:https://folsomhindutemple.org/event/vaikasi-visakam-3/
END:VEVENT
BEGIN:VEVENT
DTSTART;VALUE=DATE:20250607
DTEND;VALUE=DATE:20250608
DTSTAMP:20260420T044053
CREATED:20250115T002423Z
LAST-MODIFIED:20250115T002423Z
UID:2663-1749254400-1749340799@folsomhindutemple.org
SUMMARY:Pradosham
DESCRIPTION:
URL:https://folsomhindutemple.org/event/pradosham-56/
END:VEVENT
BEGIN:VEVENT
DTSTART;VALUE=DATE:20250526
DTEND;VALUE=DATE:20250527
DTSTAMP:20260420T044053
CREATED:20250115T002523Z
LAST-MODIFIED:20250115T002523Z
UID:2681-1748217600-1748303999@folsomhindutemple.org
SUMMARY:Amavasai
DESCRIPTION:
URL:https://folsomhindutemple.org/event/amavasai-20/
END:VEVENT
BEGIN:VEVENT
DTSTART;VALUE=DATE:20250524
DTEND;VALUE=DATE:20250525
DTSTAMP:20260420T044053
CREATED:20250115T002538Z
LAST-MODIFIED:20250115T002538Z
UID:2688-1748044800-1748131199@folsomhindutemple.org
SUMMARY:Pradosham
DESCRIPTION:
URL:https://folsomhindutemple.org/event/pradosham-61/
END:VEVENT
BEGIN:VEVENT
DTSTART;VALUE=DATE:20250522
DTEND;VALUE=DATE:20250523
DTSTAMP:20260420T044053
CREATED:20250115T002537Z
LAST-MODIFIED:20250115T002537Z
UID:2687-1747872000-1747958399@folsomhindutemple.org
SUMMARY:Hanuman Jayanthi (Andhra)
DESCRIPTION:
URL:https://folsomhindutemple.org/event/hanuman-jayanthi-andhra/
END:VEVENT
BEGIN:VEVENT
DTSTART;VALUE=DATE:20250515
DTEND;VALUE=DATE:20250516
DTSTAMP:20260420T044053
CREATED:20250115T002537Z
LAST-MODIFIED:20250115T002537Z
UID:2686-1747267200-1747353599@folsomhindutemple.org
SUMMARY:Sankatahara Chathurthi
DESCRIPTION:
URL:https://folsomhindutemple.org/event/sankatahara-chathurthi-31/
END:VEVENT
BEGIN:VEVENT
DTSTART;VALUE=DATE:20250514
DTEND;VALUE=DATE:20250515
DTSTAMP:20260420T044053
CREATED:20250115T002537Z
LAST-MODIFIED:20250115T002537Z
UID:2685-1747180800-1747267199@folsomhindutemple.org
SUMMARY:Sankaramanam
DESCRIPTION:
URL:https://folsomhindutemple.org/event/sankaramanam-16/
END:VEVENT
BEGIN:VEVENT
DTSTART;VALUE=DATE:20250512
DTEND;VALUE=DATE:20250513
DTSTAMP:20260420T044053
CREATED:20250115T002523Z
LAST-MODIFIED:20250115T002523Z
UID:2684-1747008000-1747094399@folsomhindutemple.org
SUMMARY:Chitra Pournami
DESCRIPTION:
URL:https://folsomhindutemple.org/event/chitra-pournami/
END:VEVENT
BEGIN:VEVENT
DTSTART;VALUE=DATE:20250512
DTEND;VALUE=DATE:20250513
DTSTAMP:20260420T044053
CREATED:20250115T002522Z
LAST-MODIFIED:20250115T002522Z
UID:2680-1747008000-1747094399@folsomhindutemple.org
SUMMARY:Pournami
DESCRIPTION:
URL:https://folsomhindutemple.org/event/pournami-31/
END:VEVENT
BEGIN:VEVENT
DTSTART;VALUE=DATE:20250509
DTEND;VALUE=DATE:20250510
DTSTAMP:20260420T044053
CREATED:20250115T002523Z
LAST-MODIFIED:20250115T002523Z
UID:2683-1746748800-1746835199@folsomhindutemple.org
SUMMARY:Pradosham
DESCRIPTION:
URL:https://folsomhindutemple.org/event/pradosham-60/
END:VEVENT
BEGIN:VEVENT
DTSTART;VALUE=DATE:20250501
DTEND;VALUE=DATE:20250502
DTSTAMP:20260420T044053
CREATED:20250115T002523Z
LAST-MODIFIED:20250115T002523Z
UID:2682-1746057600-1746143999@folsomhindutemple.org
SUMMARY:Sankara and Ramanuja Jayanthi
DESCRIPTION:
URL:https://folsomhindutemple.org/event/sankara-and-ramanuja-jayanthi/
END:VEVENT
BEGIN:VEVENT
DTSTART;VALUE=DATE:20250429
DTEND;VALUE=DATE:20250430
DTSTAMP:20260420T044053
CREATED:20250115T002638Z
LAST-MODIFIED:20250115T002638Z
UID:2708-1745884800-1745971199@folsomhindutemple.org
SUMMARY:Akshaya Trithiyai
DESCRIPTION:
URL:https://folsomhindutemple.org/event/akshaya-trithiyai-2/
END:VEVENT
END:VCALENDAR