BEGIN:VCALENDAR
VERSION:2.0
PRODID:-// - ECPv6.15.20//NONSGML v1.0//EN
CALSCALE:GREGORIAN
METHOD:PUBLISH
X-ORIGINAL-URL:https://folsomhindutemple.org
X-WR-CALDESC:Events for 
REFRESH-INTERVAL;VALUE=DURATION:PT1H
X-Robots-Tag:noindex
X-PUBLISHED-TTL:PT1H
BEGIN:VTIMEZONE
TZID:America/Los_Angeles
BEGIN:DAYLIGHT
TZOFFSETFROM:-0800
TZOFFSETTO:-0700
TZNAME:PDT
DTSTART:20230312T100000
END:DAYLIGHT
BEGIN:STANDARD
TZOFFSETFROM:-0700
TZOFFSETTO:-0800
TZNAME:PST
DTSTART:20231105T090000
END:STANDARD
BEGIN:DAYLIGHT
TZOFFSETFROM:-0800
TZOFFSETTO:-0700
TZNAME:PDT
DTSTART:20240310T100000
END:DAYLIGHT
BEGIN:STANDARD
TZOFFSETFROM:-0700
TZOFFSETTO:-0800
TZNAME:PST
DTSTART:20241103T090000
END:STANDARD
BEGIN:DAYLIGHT
TZOFFSETFROM:-0800
TZOFFSETTO:-0700
TZNAME:PDT
DTSTART:20250309T100000
END:DAYLIGHT
BEGIN:STANDARD
TZOFFSETFROM:-0700
TZOFFSETTO:-0800
TZNAME:PST
DTSTART:20251102T090000
END:STANDARD
END:VTIMEZONE
BEGIN:VEVENT
DTSTART;VALUE=DATE:20240820
DTEND;VALUE=DATE:20240821
DTSTAMP:20260422T160721
CREATED:20240228T223425Z
LAST-MODIFIED:20240228T223425Z
UID:2404-1724112000-1724198399@folsomhindutemple.org
SUMMARY:Gayathri Japam
DESCRIPTION:
URL:https://folsomhindutemple.org/event/gayathri-japam-2/
END:VEVENT
BEGIN:VEVENT
DTSTART;VALUE=DATE:20240822
DTEND;VALUE=DATE:20240823
DTSTAMP:20260422T160721
CREATED:20240228T223425Z
LAST-MODIFIED:20240228T223425Z
UID:2405-1724284800-1724371199@folsomhindutemple.org
SUMMARY:Sankatahara Chathurthi
DESCRIPTION:
URL:https://folsomhindutemple.org/event/sankatahara-chathurthi-16/
END:VEVENT
BEGIN:VEVENT
DTSTART;VALUE=DATE:20240824
DTEND;VALUE=DATE:20240825
DTSTAMP:20260422T160721
CREATED:20240228T223826Z
LAST-MODIFIED:20240228T223826Z
UID:2483-1724457600-1724543999@folsomhindutemple.org
SUMMARY:Shasti
DESCRIPTION:
URL:https://folsomhindutemple.org/event/shasti-2/
END:VEVENT
BEGIN:VEVENT
DTSTART;VALUE=DATE:20240826
DTEND;VALUE=DATE:20240827
DTSTAMP:20260422T160721
CREATED:20240228T223441Z
LAST-MODIFIED:20240228T223441Z
UID:2406-1724630400-1724716799@folsomhindutemple.org
SUMMARY:Gokulashtami
DESCRIPTION:
URL:https://folsomhindutemple.org/event/gokulashtami-2/
END:VEVENT
BEGIN:VEVENT
DTSTART;VALUE=DATE:20240826
DTEND;VALUE=DATE:20240827
DTSTAMP:20260422T160721
CREATED:20240228T223841Z
LAST-MODIFIED:20240228T223841Z
UID:2487-1724630400-1724716799@folsomhindutemple.org
SUMMARY:Kirthigai
DESCRIPTION:
URL:https://folsomhindutemple.org/event/kirthigai/
END:VEVENT
BEGIN:VEVENT
DTSTART;VALUE=DATE:20240829
DTEND;VALUE=DATE:20240830
DTSTAMP:20260422T160721
CREATED:20240228T223826Z
LAST-MODIFIED:20240228T223826Z
UID:2485-1724889600-1724975999@folsomhindutemple.org
SUMMARY:Ekadasi
DESCRIPTION:
URL:https://folsomhindutemple.org/event/ekadasi-26/
END:VEVENT
BEGIN:VEVENT
DTSTART;VALUE=DATE:20240830
DTEND;VALUE=DATE:20240831
DTSTAMP:20260422T160721
CREATED:20240228T223441Z
LAST-MODIFIED:20240228T223441Z
UID:2407-1724976000-1725062399@folsomhindutemple.org
SUMMARY:Pradosham
DESCRIPTION:
URL:https://folsomhindutemple.org/event/pradosham-32/
END:VEVENT
BEGIN:VEVENT
DTSTART;VALUE=DATE:20240902
DTEND;VALUE=DATE:20240903
DTSTAMP:20260422T160721
CREATED:20240228T223911Z
LAST-MODIFIED:20240228T223911Z
UID:2498-1725235200-1725321599@folsomhindutemple.org
SUMMARY:Amavasai
DESCRIPTION:
URL:https://folsomhindutemple.org/event/amavasai-7/
END:VEVENT
BEGIN:VEVENT
DTSTART;VALUE=DATE:20240905
DTEND;VALUE=DATE:20240906
DTSTAMP:20260422T160721
CREATED:20240228T223457Z
LAST-MODIFIED:20240228T223457Z
UID:2414-1725494400-1725580799@folsomhindutemple.org
SUMMARY:Avani Avittam - Sama Veda
DESCRIPTION:
URL:https://folsomhindutemple.org/event/avani-avittam-sama-veda/
END:VEVENT
BEGIN:VEVENT
DTSTART;VALUE=DATE:20240906
DTEND;VALUE=DATE:20240907
DTSTAMP:20260422T160721
CREATED:20240228T223457Z
LAST-MODIFIED:20240228T223457Z
UID:2415-1725580800-1725667199@folsomhindutemple.org
SUMMARY:Ganesh Chathurthi
DESCRIPTION:
URL:https://folsomhindutemple.org/event/ganesh-chathurthi-2/
END:VEVENT
BEGIN:VEVENT
DTSTART;VALUE=DATE:20240906
DTEND;VALUE=DATE:20240922
DTSTAMP:20260422T160721
CREATED:20240228T223511Z
LAST-MODIFIED:20240726T164327Z
UID:2416-1725580800-1726963199@folsomhindutemple.org
SUMMARY:Samvatsara Alankara Mahotsavam
DESCRIPTION:
URL:https://folsomhindutemple.org/event/samvatsara-alankara-mahotsavam/
END:VEVENT
BEGIN:VEVENT
DTSTART;VALUE=DATE:20240908
DTEND;VALUE=DATE:20240909
DTSTAMP:20260422T160721
CREATED:20240228T223911Z
LAST-MODIFIED:20240228T223911Z
UID:2499-1725753600-1725839999@folsomhindutemple.org
SUMMARY:Shasti
DESCRIPTION:
URL:https://folsomhindutemple.org/event/shasti-5/
END:VEVENT
BEGIN:VEVENT
DTSTART;VALUE=DATE:20240909
DTEND;VALUE=DATE:20240910
DTSTAMP:20260422T160721
CREATED:20240228T223926Z
LAST-MODIFIED:20240228T223926Z
UID:2504-1725840000-1725926399@folsomhindutemple.org
SUMMARY:Anusham
DESCRIPTION:
URL:https://folsomhindutemple.org/event/anusham-19/
END:VEVENT
BEGIN:VEVENT
DTSTART;VALUE=DATE:20240913
DTEND;VALUE=DATE:20240914
DTSTAMP:20260422T160721
CREATED:20240228T223911Z
LAST-MODIFIED:20240228T223911Z
UID:2500-1726185600-1726271999@folsomhindutemple.org
SUMMARY:Ekadasi
DESCRIPTION:
URL:https://folsomhindutemple.org/event/ekadasi-30/
END:VEVENT
BEGIN:VEVENT
DTSTART;VALUE=DATE:20240915
DTEND;VALUE=DATE:20240916
DTSTAMP:20260422T160721
CREATED:20240228T223511Z
LAST-MODIFIED:20240228T223511Z
UID:2417-1726358400-1726444799@folsomhindutemple.org
SUMMARY:Pradosham
DESCRIPTION:
URL:https://folsomhindutemple.org/event/pradosham-35/
END:VEVENT
BEGIN:VEVENT
DTSTART;VALUE=DATE:20240916
DTEND;VALUE=DATE:20240917
DTSTAMP:20260422T160721
CREATED:20240228T223511Z
LAST-MODIFIED:20240228T223511Z
UID:2418-1726444800-1726531199@folsomhindutemple.org
SUMMARY:Anantha Chaturdasi
DESCRIPTION:
URL:https://folsomhindutemple.org/event/anantha-chaturdasi/
END:VEVENT
BEGIN:VEVENT
DTSTART;VALUE=DATE:20240917
DTEND;VALUE=DATE:20240918
DTSTAMP:20260422T160721
CREATED:20240228T223511Z
LAST-MODIFIED:20240228T223511Z
UID:2419-1726531200-1726617599@folsomhindutemple.org
SUMMARY:Sankaramanam
DESCRIPTION:
URL:https://folsomhindutemple.org/event/sankaramanam-3/
END:VEVENT
BEGIN:VEVENT
DTSTART;VALUE=DATE:20240917
DTEND;VALUE=DATE:20240918
DTSTAMP:20260422T160721
CREATED:20240228T223926Z
LAST-MODIFIED:20240228T223926Z
UID:2501-1726531200-1726617599@folsomhindutemple.org
SUMMARY:Pournami
DESCRIPTION:
URL:https://folsomhindutemple.org/event/pournami-18/
END:VEVENT
BEGIN:VEVENT
DTSTART;VALUE=DATE:20240918
DTEND;VALUE=DATE:20240919
DTSTAMP:20260422T160721
CREATED:20240228T223512Z
LAST-MODIFIED:20240228T223512Z
UID:2420-1726617600-1726703999@folsomhindutemple.org
SUMMARY:Mahalayam begins
DESCRIPTION:
URL:https://folsomhindutemple.org/event/mahalayam-begins/
END:VEVENT
BEGIN:VEVENT
DTSTART;VALUE=DATE:20240920
DTEND;VALUE=DATE:20240921
DTSTAMP:20260422T160721
CREATED:20240228T223526Z
LAST-MODIFIED:20240228T223526Z
UID:2421-1726790400-1726876799@folsomhindutemple.org
SUMMARY:Sankatahara Chathurthi
DESCRIPTION:
URL:https://folsomhindutemple.org/event/sankatahara-chathurthi-18/
END:VEVENT
BEGIN:VEVENT
DTSTART;VALUE=DATE:20240922
DTEND;VALUE=DATE:20240923
DTSTAMP:20260422T160721
CREATED:20240228T223926Z
LAST-MODIFIED:20240228T223926Z
UID:2503-1726963200-1727049599@folsomhindutemple.org
SUMMARY:Shasti
DESCRIPTION:
URL:https://folsomhindutemple.org/event/shasti-6/
END:VEVENT
BEGIN:VEVENT
DTSTART;VALUE=DATE:20240922
DTEND;VALUE=DATE:20240923
DTSTAMP:20260422T160721
CREATED:20240228T223926Z
LAST-MODIFIED:20240228T223926Z
UID:2505-1726963200-1727049599@folsomhindutemple.org
SUMMARY:Kirthigai
DESCRIPTION:
URL:https://folsomhindutemple.org/event/kirthigai-4/
END:VEVENT
BEGIN:VEVENT
DTSTART;VALUE=DATE:20240927
DTEND;VALUE=DATE:20240928
DTSTAMP:20260422T160721
CREATED:20240228T223926Z
LAST-MODIFIED:20240228T223926Z
UID:2502-1727395200-1727481599@folsomhindutemple.org
SUMMARY:Ekadasi
DESCRIPTION:
URL:https://folsomhindutemple.org/event/ekadasi-31/
END:VEVENT
BEGIN:VEVENT
DTSTART;VALUE=DATE:20240929
DTEND;VALUE=DATE:20240930
DTSTAMP:20260422T160721
CREATED:20240228T223526Z
LAST-MODIFIED:20240228T223526Z
UID:2422-1727568000-1727654399@folsomhindutemple.org
SUMMARY:Pradosham
DESCRIPTION:
URL:https://folsomhindutemple.org/event/pradosham-36/
END:VEVENT
BEGIN:VEVENT
DTSTART;VALUE=DATE:20241001
DTEND;VALUE=DATE:20241002
DTSTAMP:20260422T160721
CREATED:20240228T223541Z
LAST-MODIFIED:20240228T223541Z
UID:2427-1727740800-1727827199@folsomhindutemple.org
SUMMARY:Mahalaya Amavasai
DESCRIPTION:
URL:https://folsomhindutemple.org/event/mahalaya-amavasai/
END:VEVENT
BEGIN:VEVENT
DTSTART;VALUE=DATE:20241003
DTEND;VALUE=DATE:20241004
DTSTAMP:20260422T160721
CREATED:20240228T223541Z
LAST-MODIFIED:20240228T223541Z
UID:2428-1727913600-1727999999@folsomhindutemple.org
SUMMARY:Navarathri Begins
DESCRIPTION:
URL:https://folsomhindutemple.org/event/navarathri-begins-2/
END:VEVENT
BEGIN:VEVENT
DTSTART;VALUE=DATE:20241007
DTEND;VALUE=DATE:20241008
DTSTAMP:20260422T160721
CREATED:20240228T224011Z
LAST-MODIFIED:20240228T224011Z
UID:2520-1728259200-1728345599@folsomhindutemple.org
SUMMARY:Anusham
DESCRIPTION:
URL:https://folsomhindutemple.org/event/anusham-21/
END:VEVENT
BEGIN:VEVENT
DTSTART;VALUE=DATE:20241008
DTEND;VALUE=DATE:20241009
DTSTAMP:20260422T160721
CREATED:20240228T223956Z
LAST-MODIFIED:20240228T223956Z
UID:2514-1728345600-1728431999@folsomhindutemple.org
SUMMARY:Shasti
DESCRIPTION:
URL:https://folsomhindutemple.org/event/shasti-9/
END:VEVENT
BEGIN:VEVENT
DTSTART;VALUE=DATE:20241011
DTEND;VALUE=DATE:20241012
DTSTAMP:20260422T160721
CREATED:20240228T223541Z
LAST-MODIFIED:20240228T223541Z
UID:2429-1728604800-1728691199@folsomhindutemple.org
SUMMARY:Ayutha / Saraswathi Puja
DESCRIPTION:
URL:https://folsomhindutemple.org/event/ayutha-saraswathi-puja/
END:VEVENT
BEGIN:VEVENT
DTSTART;VALUE=DATE:20241012
DTEND;VALUE=DATE:20241013
DTSTAMP:20260422T160721
CREATED:20240228T223542Z
LAST-MODIFIED:20240228T223542Z
UID:2430-1728691200-1728777599@folsomhindutemple.org
SUMMARY:Vijaya Dasami
DESCRIPTION:
URL:https://folsomhindutemple.org/event/vijaya-dasami/
END:VEVENT
END:VCALENDAR