BEGIN:VCALENDAR
VERSION:2.0
PRODID:-// - ECPv6.15.20//NONSGML v1.0//EN
CALSCALE:GREGORIAN
METHOD:PUBLISH
X-ORIGINAL-URL:https://folsomhindutemple.org
X-WR-CALDESC:Events for 
REFRESH-INTERVAL;VALUE=DURATION:PT1H
X-Robots-Tag:noindex
X-PUBLISHED-TTL:PT1H
BEGIN:VTIMEZONE
TZID:America/Los_Angeles
BEGIN:DAYLIGHT
TZOFFSETFROM:-0800
TZOFFSETTO:-0700
TZNAME:PDT
DTSTART:20230312T100000
END:DAYLIGHT
BEGIN:STANDARD
TZOFFSETFROM:-0700
TZOFFSETTO:-0800
TZNAME:PST
DTSTART:20231105T090000
END:STANDARD
BEGIN:DAYLIGHT
TZOFFSETFROM:-0800
TZOFFSETTO:-0700
TZNAME:PDT
DTSTART:20240310T100000
END:DAYLIGHT
BEGIN:STANDARD
TZOFFSETFROM:-0700
TZOFFSETTO:-0800
TZNAME:PST
DTSTART:20241103T090000
END:STANDARD
BEGIN:DAYLIGHT
TZOFFSETFROM:-0800
TZOFFSETTO:-0700
TZNAME:PDT
DTSTART:20250309T100000
END:DAYLIGHT
BEGIN:STANDARD
TZOFFSETFROM:-0700
TZOFFSETTO:-0800
TZNAME:PST
DTSTART:20251102T090000
END:STANDARD
END:VTIMEZONE
BEGIN:VEVENT
DTSTART;VALUE=DATE:20241218
DTEND;VALUE=DATE:20241219
DTSTAMP:20260420T170842
CREATED:20240228T223741Z
LAST-MODIFIED:20240228T223741Z
UID:2469-1734480000-1734566399@folsomhindutemple.org
SUMMARY:Sankatahara Chathurthi
DESCRIPTION:
URL:https://folsomhindutemple.org/event/sankatahara-chathurthi-24/
END:VEVENT
BEGIN:VEVENT
DTSTART;VALUE=DATE:20241216
DTEND;VALUE=DATE:20241217
DTSTAMP:20260420T170842
CREATED:20240228T223741Z
LAST-MODIFIED:20240228T223741Z
UID:2468-1734307200-1734393599@folsomhindutemple.org
SUMMARY:Sankaramanam
DESCRIPTION:
URL:https://folsomhindutemple.org/event/sankaramanam-9/
END:VEVENT
BEGIN:VEVENT
DTSTART;VALUE=DATE:20241214
DTEND;VALUE=DATE:20241215
DTSTAMP:20260420T170842
CREATED:20240228T224141Z
LAST-MODIFIED:20240228T224141Z
UID:2548-1734134400-1734220799@folsomhindutemple.org
SUMMARY:Pournami
DESCRIPTION:
URL:https://folsomhindutemple.org/event/pournami-24/
END:VEVENT
BEGIN:VEVENT
DTSTART;VALUE=DATE:20241213
DTEND;VALUE=DATE:20241214
DTSTAMP:20260420T170842
CREATED:20240228T224156Z
LAST-MODIFIED:20240228T224156Z
UID:2552-1734048000-1734134399@folsomhindutemple.org
SUMMARY:Kirthigai
DESCRIPTION:
URL:https://folsomhindutemple.org/event/kirthigai-10/
END:VEVENT
BEGIN:VEVENT
DTSTART;VALUE=DATE:20241213
DTEND;VALUE=DATE:20241214
DTSTAMP:20260420T170842
CREATED:20240228T223741Z
LAST-MODIFIED:20240228T223741Z
UID:2467-1734048000-1734134399@folsomhindutemple.org
SUMMARY:Karthigai Deepam
DESCRIPTION:
URL:https://folsomhindutemple.org/event/karthigai-deepam/
END:VEVENT
BEGIN:VEVENT
DTSTART;VALUE=DATE:20241212
DTEND;VALUE=DATE:20241213
DTSTAMP:20260420T170842
CREATED:20240228T223741Z
LAST-MODIFIED:20240228T223741Z
UID:2466-1733961600-1734047999@folsomhindutemple.org
SUMMARY:Pradosham
DESCRIPTION:
URL:https://folsomhindutemple.org/event/pradosham-46/
END:VEVENT
BEGIN:VEVENT
DTSTART;VALUE=DATE:20241211
DTEND;VALUE=DATE:20241212
DTSTAMP:20260420T170842
CREATED:20240228T224141Z
LAST-MODIFIED:20240228T224141Z
UID:2547-1733875200-1733961599@folsomhindutemple.org
SUMMARY:Ekadasi
DESCRIPTION:
URL:https://folsomhindutemple.org/event/ekadasi-41/
END:VEVENT
BEGIN:VEVENT
DTSTART;VALUE=DATE:20241206
DTEND;VALUE=DATE:20241207
DTSTAMP:20260420T170842
CREATED:20240228T224141Z
LAST-MODIFIED:20240228T224141Z
UID:2546-1733443200-1733529599@folsomhindutemple.org
SUMMARY:Shasti
DESCRIPTION:
URL:https://folsomhindutemple.org/event/shasti-17/
END:VEVENT
BEGIN:VEVENT
DTSTART;VALUE=DATE:20241201
DTEND;VALUE=DATE:20241202
DTSTAMP:20260420T170842
CREATED:20241017T174536Z
LAST-MODIFIED:20241017T174536Z
UID:2599-1733011200-1733097599@folsomhindutemple.org
SUMMARY:Sri Sastha Preethi / Irumudi Pooja
DESCRIPTION:
URL:https://folsomhindutemple.org/event/sri-sastha-preethi-irumudi-pooja/
END:VEVENT
BEGIN:VEVENT
DTSTART;VALUE=DATE:20241130
DTEND;VALUE=DATE:20241201
DTSTAMP:20260420T170842
CREATED:20240228T224111Z
LAST-MODIFIED:20240228T224111Z
UID:2537-1732924800-1733011199@folsomhindutemple.org
SUMMARY:Anusham
DESCRIPTION:
URL:https://folsomhindutemple.org/event/anusham-24/
END:VEVENT
BEGIN:VEVENT
DTSTART;VALUE=DATE:20241130
DTEND;VALUE=DATE:20241201
DTSTAMP:20260420T170842
CREATED:20240228T224056Z
LAST-MODIFIED:20240228T224056Z
UID:2534-1732924800-1733011199@folsomhindutemple.org
SUMMARY:Amavasai
DESCRIPTION:
URL:https://folsomhindutemple.org/event/amavasai-11/
END:VEVENT
BEGIN:VEVENT
DTSTART;VALUE=DATE:20241127
DTEND;VALUE=DATE:20241128
DTSTAMP:20260420T170842
CREATED:20240228T223656Z
LAST-MODIFIED:20240228T223656Z
UID:2455-1732665600-1732751999@folsomhindutemple.org
SUMMARY:Pradosham
DESCRIPTION:
URL:https://folsomhindutemple.org/event/pradosham-43/
END:VEVENT
BEGIN:VEVENT
DTSTART;VALUE=DATE:20241126
DTEND;VALUE=DATE:20241127
DTSTAMP:20260420T170842
CREATED:20240228T224056Z
LAST-MODIFIED:20240228T224056Z
UID:2533-1732579200-1732665599@folsomhindutemple.org
SUMMARY:Ekadasi
DESCRIPTION:
URL:https://folsomhindutemple.org/event/ekadasi-38/
END:VEVENT
BEGIN:VEVENT
DTSTART;VALUE=DATE:20241121
DTEND;VALUE=DATE:20241122
DTSTAMP:20260420T170842
CREATED:20240228T224056Z
LAST-MODIFIED:20240228T224056Z
UID:2532-1732147200-1732233599@folsomhindutemple.org
SUMMARY:Shasti
DESCRIPTION:
URL:https://folsomhindutemple.org/event/shasti-14/
END:VEVENT
BEGIN:VEVENT
DTSTART;VALUE=DATE:20241116
DTEND;VALUE=DATE:20241117
DTSTAMP:20260420T170842
CREATED:20240228T223656Z
LAST-MODIFIED:20240228T223656Z
UID:2452-1731715200-1731801599@folsomhindutemple.org
SUMMARY:Sankaramanam
DESCRIPTION:
URL:https://folsomhindutemple.org/event/sankaramanam-7/
END:VEVENT
BEGIN:VEVENT
DTSTART;VALUE=DATE:20241116
DTEND;VALUE=DATE:20241117
DTSTAMP:20260420T170842
CREATED:20240228T223656Z
LAST-MODIFIED:20240228T223656Z
UID:2453-1731715200-1731801599@folsomhindutemple.org
SUMMARY:Sankatahara Chathurthi
DESCRIPTION:
URL:https://folsomhindutemple.org/event/sankatahara-chathurthi-22/
END:VEVENT
BEGIN:VEVENT
DTSTART;VALUE=DATE:20241116
DTEND;VALUE=DATE:20241117
DTSTAMP:20260420T170842
CREATED:20240228T223656Z
LAST-MODIFIED:20240228T223656Z
UID:2454-1731715200-1731801599@folsomhindutemple.org
SUMMARY:Mandalam Begins
DESCRIPTION:
URL:https://folsomhindutemple.org/event/mandalam-begins-2/
END:VEVENT
BEGIN:VEVENT
DTSTART;VALUE=DATE:20241115
DTEND;VALUE=DATE:20241116
DTSTAMP:20260420T170842
CREATED:20240228T224111Z
LAST-MODIFIED:20240228T224111Z
UID:2536-1731628800-1731715199@folsomhindutemple.org
SUMMARY:Kirthigai
DESCRIPTION:
URL:https://folsomhindutemple.org/event/kirthigai-8/
END:VEVENT
BEGIN:VEVENT
DTSTART;VALUE=DATE:20241115
DTEND;VALUE=DATE:20241116
DTSTAMP:20260420T170842
CREATED:20240228T224056Z
LAST-MODIFIED:20240228T224056Z
UID:2531-1731628800-1731715199@folsomhindutemple.org
SUMMARY:Pournami
DESCRIPTION:
URL:https://folsomhindutemple.org/event/pournami-22/
END:VEVENT
BEGIN:VEVENT
DTSTART;VALUE=DATE:20241114
DTEND;VALUE=DATE:20241115
DTSTAMP:20260420T170842
CREATED:20240228T223656Z
LAST-MODIFIED:20240228T223656Z
UID:2451-1731542400-1731628799@folsomhindutemple.org
SUMMARY:Karthika Purnima
DESCRIPTION:
URL:https://folsomhindutemple.org/event/karthika-purnima/
END:VEVENT
BEGIN:VEVENT
DTSTART;VALUE=DATE:20241113
DTEND;VALUE=DATE:20241114
DTSTAMP:20260420T170842
CREATED:20240228T223641Z
LAST-MODIFIED:20240228T223641Z
UID:2450-1731456000-1731542399@folsomhindutemple.org
SUMMARY:Pradosham
DESCRIPTION:
URL:https://folsomhindutemple.org/event/pradosham-42/
END:VEVENT
BEGIN:VEVENT
DTSTART;VALUE=DATE:20241111
DTEND;VALUE=DATE:20241112
DTSTAMP:20260420T170842
CREATED:20240228T224041Z
LAST-MODIFIED:20240228T224041Z
UID:2530-1731283200-1731369599@folsomhindutemple.org
SUMMARY:Ekadasi
DESCRIPTION:
URL:https://folsomhindutemple.org/event/ekadasi-37/
END:VEVENT
BEGIN:VEVENT
DTSTART;VALUE=DATE:20241110
DTEND;VALUE=DATE:20241111
DTSTAMP:20260420T170842
CREATED:20240228T223641Z
LAST-MODIFIED:20240228T223641Z
UID:2449-1731196800-1731283199@folsomhindutemple.org
SUMMARY:Subramania Swami Thirukalyanam
DESCRIPTION:
URL:https://folsomhindutemple.org/event/subramania-swami-thirukalyanam/
END:VEVENT
BEGIN:VEVENT
DTSTART;VALUE=DATE:20241107
DTEND;VALUE=DATE:20241108
DTSTAMP:20260420T170842
CREATED:20240228T224041Z
LAST-MODIFIED:20240228T224041Z
UID:2529-1730937600-1731023999@folsomhindutemple.org
SUMMARY:Shasti
DESCRIPTION:
URL:https://folsomhindutemple.org/event/shasti-13/
END:VEVENT
BEGIN:VEVENT
DTSTART;VALUE=DATE:20241106
DTEND;VALUE=DATE:20241107
DTSTAMP:20260420T170842
CREATED:20240228T223641Z
LAST-MODIFIED:20240228T223641Z
UID:2448-1730851200-1730937599@folsomhindutemple.org
SUMMARY:Soora Samharam
DESCRIPTION:
URL:https://folsomhindutemple.org/event/soora-samharam/
END:VEVENT
BEGIN:VEVENT
DTSTART;VALUE=DATE:20241103
DTEND;VALUE=DATE:20241104
DTSTAMP:20260420T170842
CREATED:20240228T224056Z
LAST-MODIFIED:20240228T224056Z
UID:2535-1730592000-1730678399@folsomhindutemple.org
SUMMARY:Anusham
DESCRIPTION:
URL:https://folsomhindutemple.org/event/anusham-23/
END:VEVENT
BEGIN:VEVENT
DTSTART;VALUE=DATE:20241101
DTEND;VALUE=DATE:20241102
DTSTAMP:20260420T170842
CREATED:20240228T223641Z
LAST-MODIFIED:20240228T223641Z
UID:2447-1730419200-1730505599@folsomhindutemple.org
SUMMARY:Skanda Shasti Begins
DESCRIPTION:
URL:https://folsomhindutemple.org/event/skanda-shasti-begins/
END:VEVENT
BEGIN:VEVENT
DTSTART;VALUE=DATE:20241031
DTEND;VALUE=DATE:20241101
DTSTAMP:20260420T170842
CREATED:20240228T224011Z
LAST-MODIFIED:20240228T224011Z
UID:2519-1730332800-1730419199@folsomhindutemple.org
SUMMARY:Amavasai
DESCRIPTION:
URL:https://folsomhindutemple.org/event/amavasai-9/
END:VEVENT
BEGIN:VEVENT
DTSTART;VALUE=DATE:20241031
DTEND;VALUE=DATE:20241101
DTSTAMP:20260420T170842
CREATED:20240228T223611Z
LAST-MODIFIED:20240228T223611Z
UID:2437-1730332800-1730419199@folsomhindutemple.org
SUMMARY:Diwali (North)
DESCRIPTION:
URL:https://folsomhindutemple.org/event/diwali-north/
END:VEVENT
BEGIN:VEVENT
DTSTART;VALUE=DATE:20241030
DTEND;VALUE=DATE:20241031
DTSTAMP:20260420T170842
CREATED:20240228T223611Z
LAST-MODIFIED:20240228T223611Z
UID:2436-1730246400-1730332799@folsomhindutemple.org
SUMMARY:Diwali (South)
DESCRIPTION:
URL:https://folsomhindutemple.org/event/diwali-south/
END:VEVENT
END:VCALENDAR