BEGIN:VCALENDAR
VERSION:2.0
PRODID:-// - ECPv6.15.20//NONSGML v1.0//EN
CALSCALE:GREGORIAN
METHOD:PUBLISH
X-ORIGINAL-URL:https://folsomhindutemple.org
X-WR-CALDESC:Events for 
REFRESH-INTERVAL;VALUE=DURATION:PT1H
X-Robots-Tag:noindex
X-PUBLISHED-TTL:PT1H
BEGIN:VTIMEZONE
TZID:America/Los_Angeles
BEGIN:DAYLIGHT
TZOFFSETFROM:-0800
TZOFFSETTO:-0700
TZNAME:PDT
DTSTART:20220313T100000
END:DAYLIGHT
BEGIN:STANDARD
TZOFFSETFROM:-0700
TZOFFSETTO:-0800
TZNAME:PST
DTSTART:20221106T090000
END:STANDARD
BEGIN:DAYLIGHT
TZOFFSETFROM:-0800
TZOFFSETTO:-0700
TZNAME:PDT
DTSTART:20230312T100000
END:DAYLIGHT
BEGIN:STANDARD
TZOFFSETFROM:-0700
TZOFFSETTO:-0800
TZNAME:PST
DTSTART:20231105T090000
END:STANDARD
BEGIN:DAYLIGHT
TZOFFSETFROM:-0800
TZOFFSETTO:-0700
TZNAME:PDT
DTSTART:20240310T100000
END:DAYLIGHT
BEGIN:STANDARD
TZOFFSETFROM:-0700
TZOFFSETTO:-0800
TZNAME:PST
DTSTART:20241103T090000
END:STANDARD
END:VTIMEZONE
BEGIN:VEVENT
DTSTART;VALUE=DATE:20230304
DTEND;VALUE=DATE:20230305
DTSTAMP:20260421T070101
CREATED:20230223T174922Z
LAST-MODIFIED:20230223T174922Z
UID:2207-1677888000-1677974399@folsomhindutemple.org
SUMMARY:Pradosham
DESCRIPTION:
URL:https://folsomhindutemple.org/event/pradosham-9/
END:VEVENT
BEGIN:VEVENT
DTSTART;VALUE=DATE:20230305
DTEND;VALUE=DATE:20230306
DTSTAMP:20260421T070101
CREATED:20230223T175952Z
LAST-MODIFIED:20230223T175952Z
UID:2280-1677974400-1678060799@folsomhindutemple.org
SUMMARY:Maasi Makam
DESCRIPTION:
URL:https://folsomhindutemple.org/event/maasi-makam/
END:VEVENT
BEGIN:VEVENT
DTSTART;VALUE=DATE:20230306
DTEND;VALUE=DATE:20230307
DTSTAMP:20260421T070101
CREATED:20230223T174803Z
LAST-MODIFIED:20230223T174803Z
UID:2169-1678060800-1678147199@folsomhindutemple.org
SUMMARY:Pournami
DESCRIPTION:
URL:https://folsomhindutemple.org/event/pournami-5/
END:VEVENT
BEGIN:VEVENT
DTSTART;VALUE=DATE:20230310
DTEND;VALUE=DATE:20230311
DTSTAMP:20260421T070101
CREATED:20230223T174808Z
LAST-MODIFIED:20230223T174808Z
UID:2180-1678406400-1678492799@folsomhindutemple.org
SUMMARY:Sankatahara Chathurthi
DESCRIPTION:
URL:https://folsomhindutemple.org/event/sankatahara-chathurthi-5/
END:VEVENT
BEGIN:VEVENT
DTSTART;VALUE=DATE:20230313
DTEND;VALUE=DATE:20230314
DTSTAMP:20260421T070101
CREATED:20230223T175237Z
LAST-MODIFIED:20230223T175237Z
UID:2269-1678665600-1678751999@folsomhindutemple.org
SUMMARY:Anusham
DESCRIPTION:
URL:https://folsomhindutemple.org/event/anusham-6/
END:VEVENT
BEGIN:VEVENT
DTSTART;VALUE=DATE:20230314
DTEND;VALUE=DATE:20230315
DTSTAMP:20260421T070101
CREATED:20230223T175122Z
LAST-MODIFIED:20230223T175122Z
UID:2248-1678752000-1678838399@folsomhindutemple.org
SUMMARY:Maasa Pirappu (Month Begins)
DESCRIPTION:
URL:https://folsomhindutemple.org/event/maasa-pirappu-month-begins/
END:VEVENT
BEGIN:VEVENT
DTSTART;VALUE=DATE:20230314
DTEND;VALUE=DATE:20230315
DTSTAMP:20260421T070101
CREATED:20230223T180034Z
LAST-MODIFIED:20230223T180034Z
UID:2282-1678752000-1678838399@folsomhindutemple.org
SUMMARY:Karadayan Nonbu
DESCRIPTION:
URL:https://folsomhindutemple.org/event/karadayan-nonbu/
END:VEVENT
BEGIN:VEVENT
DTSTART;VALUE=DATE:20230317
DTEND;VALUE=DATE:20230318
DTSTAMP:20260421T070101
CREATED:20230223T174837Z
LAST-MODIFIED:20230223T174837Z
UID:2191-1679011200-1679097599@folsomhindutemple.org
SUMMARY:Ekadasi
DESCRIPTION:
URL:https://folsomhindutemple.org/event/ekadasi-9/
END:VEVENT
BEGIN:VEVENT
DTSTART;VALUE=DATE:20230319
DTEND;VALUE=DATE:20230320
DTSTAMP:20260421T070101
CREATED:20230223T174922Z
LAST-MODIFIED:20230223T174922Z
UID:2208-1679184000-1679270399@folsomhindutemple.org
SUMMARY:Pradosham
DESCRIPTION:
URL:https://folsomhindutemple.org/event/pradosham-10/
END:VEVENT
BEGIN:VEVENT
DTSTART;VALUE=DATE:20230320
DTEND;VALUE=DATE:20230321
DTSTAMP:20260421T070101
CREATED:20230223T175022Z
LAST-MODIFIED:20230223T175022Z
UID:2228-1679270400-1679356799@folsomhindutemple.org
SUMMARY:Amavasya
DESCRIPTION:
URL:https://folsomhindutemple.org/event/amavasya/
END:VEVENT
BEGIN:VEVENT
DTSTART;VALUE=DATE:20230322
DTEND;VALUE=DATE:20230323
DTSTAMP:20260421T070101
CREATED:20230223T180114Z
LAST-MODIFIED:20230223T180114Z
UID:2284-1679443200-1679529599@folsomhindutemple.org
SUMMARY:Vasanta Navarathri Begins
DESCRIPTION:
URL:https://folsomhindutemple.org/event/vasanta-navarathri-begins/
END:VEVENT
BEGIN:VEVENT
DTSTART;VALUE=DATE:20230324
DTEND;VALUE=DATE:20230325
DTSTAMP:20260421T070101
CREATED:20230223T175052Z
LAST-MODIFIED:20230223T175052Z
UID:2238-1679616000-1679702399@folsomhindutemple.org
SUMMARY:Chathurthi
DESCRIPTION:
URL:https://folsomhindutemple.org/event/chathurthi/
END:VEVENT
BEGIN:VEVENT
DTSTART;VALUE=DATE:20230325
DTEND;VALUE=DATE:20230326
DTSTAMP:20260421T070101
CREATED:20230223T175152Z
LAST-MODIFIED:20230223T175152Z
UID:2258-1679702400-1679788799@folsomhindutemple.org
SUMMARY:Krithigai
DESCRIPTION:
URL:https://folsomhindutemple.org/event/krithigai/
END:VEVENT
BEGIN:VEVENT
DTSTART;VALUE=DATE:20230329
DTEND;VALUE=DATE:20230330
DTSTAMP:20260421T070101
CREATED:20230223T180242Z
LAST-MODIFIED:20230223T180242Z
UID:2288-1680048000-1680134399@folsomhindutemple.org
SUMMARY:Sri Rama Navami
DESCRIPTION:
URL:https://folsomhindutemple.org/event/sri-rama-navami/
END:VEVENT
END:VCALENDAR