BEGIN:VCALENDAR
VERSION:2.0
PRODID:-// - ECPv6.15.20//NONSGML v1.0//EN
CALSCALE:GREGORIAN
METHOD:PUBLISH
X-ORIGINAL-URL:https://folsomhindutemple.org
X-WR-CALDESC:Events for 
REFRESH-INTERVAL;VALUE=DURATION:PT1H
X-Robots-Tag:noindex
X-PUBLISHED-TTL:PT1H
BEGIN:VTIMEZONE
TZID:America/Los_Angeles
BEGIN:DAYLIGHT
TZOFFSETFROM:-0800
TZOFFSETTO:-0700
TZNAME:PDT
DTSTART:20220313T100000
END:DAYLIGHT
BEGIN:STANDARD
TZOFFSETFROM:-0700
TZOFFSETTO:-0800
TZNAME:PST
DTSTART:20221106T090000
END:STANDARD
BEGIN:DAYLIGHT
TZOFFSETFROM:-0800
TZOFFSETTO:-0700
TZNAME:PDT
DTSTART:20230312T100000
END:DAYLIGHT
BEGIN:STANDARD
TZOFFSETFROM:-0700
TZOFFSETTO:-0800
TZNAME:PST
DTSTART:20231105T090000
END:STANDARD
BEGIN:DAYLIGHT
TZOFFSETFROM:-0800
TZOFFSETTO:-0700
TZNAME:PDT
DTSTART:20240310T100000
END:DAYLIGHT
BEGIN:STANDARD
TZOFFSETFROM:-0700
TZOFFSETTO:-0800
TZNAME:PST
DTSTART:20241103T090000
END:STANDARD
END:VTIMEZONE
BEGIN:VEVENT
DTSTART;VALUE=DATE:20231001
DTEND;VALUE=DATE:20231002
DTSTAMP:20260421T191009
CREATED:20230223T174822Z
LAST-MODIFIED:20230223T174822Z
UID:2187-1696118400-1696204799@folsomhindutemple.org
SUMMARY:Sankatahara Chathurthi
DESCRIPTION:
URL:https://folsomhindutemple.org/event/sankatahara-chathurthi-12/
END:VEVENT
BEGIN:VEVENT
DTSTART;VALUE=DATE:20231002
DTEND;VALUE=DATE:20231003
DTSTAMP:20260421T191009
CREATED:20230223T175222Z
LAST-MODIFIED:20230223T175222Z
UID:2265-1696204800-1696291199@folsomhindutemple.org
SUMMARY:Krithigai
DESCRIPTION:
URL:https://folsomhindutemple.org/event/krithigai-8/
END:VEVENT
BEGIN:VEVENT
DTSTART;VALUE=DATE:20231009
DTEND;VALUE=DATE:20231010
DTSTAMP:20260421T191009
CREATED:20230223T174907Z
LAST-MODIFIED:20230223T174907Z
UID:2202-1696809600-1696895999@folsomhindutemple.org
SUMMARY:Ekadasi
DESCRIPTION:
URL:https://folsomhindutemple.org/event/ekadasi-20/
END:VEVENT
BEGIN:VEVENT
DTSTART;VALUE=DATE:20231011
DTEND;VALUE=DATE:20231012
DTSTAMP:20260421T191009
CREATED:20230223T175007Z
LAST-MODIFIED:20230223T175007Z
UID:2222-1696982400-1697068799@folsomhindutemple.org
SUMMARY:Pradosham
DESCRIPTION:
URL:https://folsomhindutemple.org/event/pradosham-24/
END:VEVENT
BEGIN:VEVENT
DTSTART;VALUE=DATE:20231013
DTEND;VALUE=DATE:20231014
DTSTAMP:20260421T191009
CREATED:20230223T175052Z
LAST-MODIFIED:20230223T182019Z
UID:2235-1697155200-1697241599@folsomhindutemple.org
SUMMARY:Mahalaya Amavasya
DESCRIPTION:
URL:https://folsomhindutemple.org/event/amavasya-8/
END:VEVENT
BEGIN:VEVENT
DTSTART;VALUE=DATE:20231015
DTEND;VALUE=DATE:20231016
DTSTAMP:20260421T191009
CREATED:20230223T182235Z
LAST-MODIFIED:20230223T182235Z
UID:2309-1697328000-1697414399@folsomhindutemple.org
SUMMARY:Navarathri Begins
DESCRIPTION:
URL:https://folsomhindutemple.org/event/navarathri-begins/
END:VEVENT
BEGIN:VEVENT
DTSTART;VALUE=DATE:20231017
DTEND;VALUE=DATE:20231018
DTSTAMP:20260421T191009
CREATED:20230223T175122Z
LAST-MODIFIED:20230223T175122Z
UID:2245-1697500800-1697587199@folsomhindutemple.org
SUMMARY:Chathurthi
DESCRIPTION:
URL:https://folsomhindutemple.org/event/chathurthi-8/
END:VEVENT
BEGIN:VEVENT
DTSTART;VALUE=DATE:20231017
DTEND;VALUE=DATE:20231018
DTSTAMP:20260421T191009
CREATED:20230223T175152Z
LAST-MODIFIED:20230223T175152Z
UID:2255-1697500800-1697587199@folsomhindutemple.org
SUMMARY:Maasa Pirappu (Month Begins)
DESCRIPTION:
URL:https://folsomhindutemple.org/event/maasa-pirappu-month-begins-8/
END:VEVENT
BEGIN:VEVENT
DTSTART;VALUE=DATE:20231017
DTEND;VALUE=DATE:20231018
DTSTAMP:20260421T191009
CREATED:20230223T175252Z
LAST-MODIFIED:20230223T175252Z
UID:2277-1697500800-1697587199@folsomhindutemple.org
SUMMARY:Anusham
DESCRIPTION:
URL:https://folsomhindutemple.org/event/anusham-14/
END:VEVENT
BEGIN:VEVENT
DTSTART;VALUE=DATE:20231022
DTEND;VALUE=DATE:20231023
DTSTAMP:20260421T191009
CREATED:20230223T182321Z
LAST-MODIFIED:20230223T182321Z
UID:2311-1697932800-1698019199@folsomhindutemple.org
SUMMARY:Saraswathi Pooja
DESCRIPTION:
URL:https://folsomhindutemple.org/event/saraswathi-pooja/
END:VEVENT
BEGIN:VEVENT
DTSTART;VALUE=DATE:20231023
DTEND;VALUE=DATE:20231024
DTSTAMP:20260421T191009
CREATED:20230223T182355Z
LAST-MODIFIED:20230223T182355Z
UID:2313-1698019200-1698105599@folsomhindutemple.org
SUMMARY:Vijayadasami
DESCRIPTION:
URL:https://folsomhindutemple.org/event/vijayadasami/
END:VEVENT
BEGIN:VEVENT
DTSTART;VALUE=DATE:20231024
DTEND;VALUE=DATE:20231025
DTSTAMP:20260421T191009
CREATED:20230223T174907Z
LAST-MODIFIED:20230223T174907Z
UID:2203-1698105600-1698191999@folsomhindutemple.org
SUMMARY:Ekadasi
DESCRIPTION:
URL:https://folsomhindutemple.org/event/ekadasi-21/
END:VEVENT
BEGIN:VEVENT
DTSTART;VALUE=DATE:20231026
DTEND;VALUE=DATE:20231027
DTSTAMP:20260421T191009
CREATED:20230223T175007Z
LAST-MODIFIED:20230223T175007Z
UID:2223-1698278400-1698364799@folsomhindutemple.org
SUMMARY:Pradosham
DESCRIPTION:
URL:https://folsomhindutemple.org/event/pradosham-25/
END:VEVENT
BEGIN:VEVENT
DTSTART;VALUE=DATE:20231027
DTEND;VALUE=DATE:20231028
DTSTAMP:20260421T191009
CREATED:20230223T174805Z
LAST-MODIFIED:20230223T174805Z
UID:2177-1698364800-1698451199@folsomhindutemple.org
SUMMARY:Pournami
DESCRIPTION:
URL:https://folsomhindutemple.org/event/pournami-13/
END:VEVENT
BEGIN:VEVENT
DTSTART;VALUE=DATE:20231029
DTEND;VALUE=DATE:20231030
DTSTAMP:20260421T191009
CREATED:20230223T175222Z
LAST-MODIFIED:20230223T175222Z
UID:2266-1698537600-1698623999@folsomhindutemple.org
SUMMARY:Krithigai
DESCRIPTION:
URL:https://folsomhindutemple.org/event/krithigai-9/
END:VEVENT
BEGIN:VEVENT
DTSTART;VALUE=DATE:20231031
DTEND;VALUE=DATE:20231101
DTSTAMP:20260421T191009
CREATED:20230223T174822Z
LAST-MODIFIED:20230223T174822Z
UID:2188-1698710400-1698796799@folsomhindutemple.org
SUMMARY:Sankatahara Chathurthi
DESCRIPTION:
URL:https://folsomhindutemple.org/event/sankatahara-chathurthi-13/
END:VEVENT
END:VCALENDAR