BEGIN:VCALENDAR
VERSION:2.0
PRODID:-// - ECPv6.15.20//NONSGML v1.0//EN
CALSCALE:GREGORIAN
METHOD:PUBLISH
X-ORIGINAL-URL:https://folsomhindutemple.org
X-WR-CALDESC:Events for 
REFRESH-INTERVAL;VALUE=DURATION:PT1H
X-Robots-Tag:noindex
X-PUBLISHED-TTL:PT1H
BEGIN:VTIMEZONE
TZID:America/Los_Angeles
BEGIN:DAYLIGHT
TZOFFSETFROM:-0800
TZOFFSETTO:-0700
TZNAME:PDT
DTSTART:20230312T100000
END:DAYLIGHT
BEGIN:STANDARD
TZOFFSETFROM:-0700
TZOFFSETTO:-0800
TZNAME:PST
DTSTART:20231105T090000
END:STANDARD
BEGIN:DAYLIGHT
TZOFFSETFROM:-0800
TZOFFSETTO:-0700
TZNAME:PDT
DTSTART:20240310T100000
END:DAYLIGHT
BEGIN:STANDARD
TZOFFSETFROM:-0700
TZOFFSETTO:-0800
TZNAME:PST
DTSTART:20241103T090000
END:STANDARD
BEGIN:DAYLIGHT
TZOFFSETFROM:-0800
TZOFFSETTO:-0700
TZNAME:PDT
DTSTART:20250309T100000
END:DAYLIGHT
BEGIN:STANDARD
TZOFFSETFROM:-0700
TZOFFSETTO:-0800
TZNAME:PST
DTSTART:20251102T090000
END:STANDARD
END:VTIMEZONE
BEGIN:VEVENT
DTSTART;VALUE=DATE:20240505
DTEND;VALUE=DATE:20240506
DTSTAMP:20260422T053716
CREATED:20240228T223611Z
LAST-MODIFIED:20240228T223611Z
UID:2438-1714867200-1714953599@folsomhindutemple.org
SUMMARY:Pradosham
DESCRIPTION:
URL:https://folsomhindutemple.org/event/pradosham-40/
END:VEVENT
BEGIN:VEVENT
DTSTART;VALUE=DATE:20240507
DTEND;VALUE=DATE:20240508
DTSTAMP:20260422T053716
CREATED:20240228T224026Z
LAST-MODIFIED:20240228T224026Z
UID:2522-1715040000-1715126399@folsomhindutemple.org
SUMMARY:Amavasai
DESCRIPTION:
URL:https://folsomhindutemple.org/event/amavasai-10/
END:VEVENT
BEGIN:VEVENT
DTSTART;VALUE=DATE:20240508
DTEND;VALUE=DATE:20240509
DTSTAMP:20260422T053716
CREATED:20240228T224041Z
LAST-MODIFIED:20240228T224041Z
UID:2528-1715126400-1715212799@folsomhindutemple.org
SUMMARY:Kirthigai
DESCRIPTION:
URL:https://folsomhindutemple.org/event/kirthigai-7/
END:VEVENT
BEGIN:VEVENT
DTSTART;VALUE=DATE:20240510
DTEND;VALUE=DATE:20240511
DTSTAMP:20260422T053716
CREATED:20240228T223611Z
LAST-MODIFIED:20240228T223611Z
UID:2439-1715299200-1715385599@folsomhindutemple.org
SUMMARY:Akshaya Trithiyai
DESCRIPTION:
URL:https://folsomhindutemple.org/event/akshaya-trithiyai/
END:VEVENT
BEGIN:VEVENT
DTSTART;VALUE=DATE:20240511
DTEND;VALUE=DATE:20240512
DTSTAMP:20260422T053716
CREATED:20240228T223612Z
LAST-MODIFIED:20240228T223612Z
UID:2440-1715385600-1715471999@folsomhindutemple.org
SUMMARY:Ramanuja Jayanthi
DESCRIPTION:
URL:https://folsomhindutemple.org/event/ramanuja-jayanthi/
END:VEVENT
BEGIN:VEVENT
DTSTART;VALUE=DATE:20240512
DTEND;VALUE=DATE:20240513
DTSTAMP:20260422T053716
CREATED:20240228T223626Z
LAST-MODIFIED:20240228T223626Z
UID:2441-1715472000-1715558399@folsomhindutemple.org
SUMMARY:Sankara Jayanthi
DESCRIPTION:
URL:https://folsomhindutemple.org/event/sankara-jayanthi/
END:VEVENT
BEGIN:VEVENT
DTSTART;VALUE=DATE:20240513
DTEND;VALUE=DATE:20240514
DTSTAMP:20260422T053716
CREATED:20240228T224026Z
LAST-MODIFIED:20240228T224026Z
UID:2523-1715558400-1715644799@folsomhindutemple.org
SUMMARY:Shasti
DESCRIPTION:
URL:https://folsomhindutemple.org/event/shasti-11/
END:VEVENT
BEGIN:VEVENT
DTSTART;VALUE=DATE:20240514
DTEND;VALUE=DATE:20240515
DTSTAMP:20260422T053716
CREATED:20240228T223626Z
LAST-MODIFIED:20240228T223626Z
UID:2442-1715644800-1715731199@folsomhindutemple.org
SUMMARY:Sankaramanam
DESCRIPTION:
URL:https://folsomhindutemple.org/event/sankaramanam-6/
END:VEVENT
BEGIN:VEVENT
DTSTART;VALUE=DATE:20240518
DTEND;VALUE=DATE:20240519
DTSTAMP:20260422T053716
CREATED:20240228T224026Z
LAST-MODIFIED:20240228T224026Z
UID:2524-1715990400-1716076799@folsomhindutemple.org
SUMMARY:Ekadasi
DESCRIPTION:
URL:https://folsomhindutemple.org/event/ekadasi-36/
END:VEVENT
BEGIN:VEVENT
DTSTART;VALUE=DATE:20240520
DTEND;VALUE=DATE:20240521
DTSTAMP:20260422T053716
CREATED:20240228T223626Z
LAST-MODIFIED:20240228T223626Z
UID:2443-1716163200-1716249599@folsomhindutemple.org
SUMMARY:Pradosham
DESCRIPTION:
URL:https://folsomhindutemple.org/event/pradosham-41/
END:VEVENT
BEGIN:VEVENT
DTSTART;VALUE=DATE:20240522
DTEND;VALUE=DATE:20240523
DTSTAMP:20260422T053716
CREATED:20240228T223626Z
LAST-MODIFIED:20240228T223626Z
UID:2444-1716336000-1716422399@folsomhindutemple.org
SUMMARY:Vaikasi Visakam
DESCRIPTION:
URL:https://folsomhindutemple.org/event/vaikasi-visakam-2/
END:VEVENT
BEGIN:VEVENT
DTSTART;VALUE=DATE:20240522
DTEND;VALUE=DATE:20240523
DTSTAMP:20260422T053716
CREATED:20240228T224026Z
LAST-MODIFIED:20240228T224026Z
UID:2525-1716336000-1716422399@folsomhindutemple.org
SUMMARY:Pournami
DESCRIPTION:
URL:https://folsomhindutemple.org/event/pournami-21/
END:VEVENT
BEGIN:VEVENT
DTSTART;VALUE=DATE:20240523
DTEND;VALUE=DATE:20240524
DTSTAMP:20260422T053716
CREATED:20240228T223626Z
LAST-MODIFIED:20240228T223626Z
UID:2445-1716422400-1716508799@folsomhindutemple.org
SUMMARY:MahaPeriyavaa Jayanthi
DESCRIPTION:
URL:https://folsomhindutemple.org/event/mahaperiyavaa-jayanthi/
END:VEVENT
BEGIN:VEVENT
DTSTART;VALUE=DATE:20240523
DTEND;VALUE=DATE:20240524
DTSTAMP:20260422T053716
CREATED:20240228T224041Z
LAST-MODIFIED:20240228T224041Z
UID:2526-1716422400-1716508799@folsomhindutemple.org
SUMMARY:Anusham
DESCRIPTION:
URL:https://folsomhindutemple.org/event/anusham-22/
END:VEVENT
BEGIN:VEVENT
DTSTART;VALUE=DATE:20240526
DTEND;VALUE=DATE:20240527
DTSTAMP:20260422T053716
CREATED:20240228T223641Z
LAST-MODIFIED:20240228T223641Z
UID:2446-1716681600-1716767999@folsomhindutemple.org
SUMMARY:Sankatahara Chathurthi
DESCRIPTION:
URL:https://folsomhindutemple.org/event/sankatahara-chathurthi-21/
END:VEVENT
BEGIN:VEVENT
DTSTART;VALUE=DATE:20240528
DTEND;VALUE=DATE:20240529
DTSTAMP:20260422T053716
CREATED:20240228T224041Z
LAST-MODIFIED:20240228T224041Z
UID:2527-1716854400-1716940799@folsomhindutemple.org
SUMMARY:Shasti
DESCRIPTION:
URL:https://folsomhindutemple.org/event/shasti-12/
END:VEVENT
END:VCALENDAR