BEGIN:VCALENDAR
VERSION:2.0
PRODID:-// - ECPv6.15.20//NONSGML v1.0//EN
CALSCALE:GREGORIAN
METHOD:PUBLISH
X-ORIGINAL-URL:https://folsomhindutemple.org
X-WR-CALDESC:Events for 
REFRESH-INTERVAL;VALUE=DURATION:PT1H
X-Robots-Tag:noindex
X-PUBLISHED-TTL:PT1H
BEGIN:VTIMEZONE
TZID:America/Los_Angeles
BEGIN:DAYLIGHT
TZOFFSETFROM:-0800
TZOFFSETTO:-0700
TZNAME:PDT
DTSTART:20230312T100000
END:DAYLIGHT
BEGIN:STANDARD
TZOFFSETFROM:-0700
TZOFFSETTO:-0800
TZNAME:PST
DTSTART:20231105T090000
END:STANDARD
BEGIN:DAYLIGHT
TZOFFSETFROM:-0800
TZOFFSETTO:-0700
TZNAME:PDT
DTSTART:20240310T100000
END:DAYLIGHT
BEGIN:STANDARD
TZOFFSETFROM:-0700
TZOFFSETTO:-0800
TZNAME:PST
DTSTART:20241103T090000
END:STANDARD
BEGIN:DAYLIGHT
TZOFFSETFROM:-0800
TZOFFSETTO:-0700
TZNAME:PDT
DTSTART:20250309T100000
END:DAYLIGHT
BEGIN:STANDARD
TZOFFSETFROM:-0700
TZOFFSETTO:-0800
TZNAME:PST
DTSTART:20251102T090000
END:STANDARD
END:VTIMEZONE
BEGIN:VEVENT
DTSTART;VALUE=DATE:20240601
DTEND;VALUE=DATE:20240602
DTSTAMP:20260422T072811
CREATED:20240228T223526Z
LAST-MODIFIED:20240228T223526Z
UID:2423-1717200000-1717286399@folsomhindutemple.org
SUMMARY:Hanumanth Jayanthi
DESCRIPTION:
URL:https://folsomhindutemple.org/event/hanumanth-jayanthi/
END:VEVENT
BEGIN:VEVENT
DTSTART;VALUE=DATE:20240602
DTEND;VALUE=DATE:20240603
DTSTAMP:20260422T072811
CREATED:20240228T223941Z
LAST-MODIFIED:20240228T223941Z
UID:2506-1717286400-1717372799@folsomhindutemple.org
SUMMARY:Ekadasi
DESCRIPTION:
URL:https://folsomhindutemple.org/event/ekadasi-32/
END:VEVENT
BEGIN:VEVENT
DTSTART;VALUE=DATE:20240603
DTEND;VALUE=DATE:20240604
DTSTAMP:20260422T072811
CREATED:20240228T223527Z
LAST-MODIFIED:20240228T223527Z
UID:2424-1717372800-1717459199@folsomhindutemple.org
SUMMARY:Pradosham
DESCRIPTION:
URL:https://folsomhindutemple.org/event/pradosham-37/
END:VEVENT
BEGIN:VEVENT
DTSTART;VALUE=DATE:20240605
DTEND;VALUE=DATE:20240606
DTSTAMP:20260422T072811
CREATED:20240228T223941Z
LAST-MODIFIED:20240228T223941Z
UID:2507-1717545600-1717631999@folsomhindutemple.org
SUMMARY:Kirthigai
DESCRIPTION:
URL:https://folsomhindutemple.org/event/kirthigai-5/
END:VEVENT
BEGIN:VEVENT
DTSTART;VALUE=DATE:20240605
DTEND;VALUE=DATE:20240606
DTSTAMP:20260422T072811
CREATED:20240228T223941Z
LAST-MODIFIED:20240228T223941Z
UID:2508-1717545600-1717631999@folsomhindutemple.org
SUMMARY:Amavasai
DESCRIPTION:
URL:https://folsomhindutemple.org/event/amavasai-8/
END:VEVENT
BEGIN:VEVENT
DTSTART;VALUE=DATE:20240611
DTEND;VALUE=DATE:20240612
DTSTAMP:20260422T072811
CREATED:20240228T223941Z
LAST-MODIFIED:20240228T223941Z
UID:2509-1718064000-1718150399@folsomhindutemple.org
SUMMARY:Shasti
DESCRIPTION:
URL:https://folsomhindutemple.org/event/shasti-7/
END:VEVENT
BEGIN:VEVENT
DTSTART;VALUE=DATE:20240614
DTEND;VALUE=DATE:20240615
DTSTAMP:20260422T072811
CREATED:20240228T223527Z
LAST-MODIFIED:20240228T223527Z
UID:2425-1718323200-1718409599@folsomhindutemple.org
SUMMARY:Sankaramanam
DESCRIPTION:
URL:https://folsomhindutemple.org/event/sankaramanam-4/
END:VEVENT
BEGIN:VEVENT
DTSTART;VALUE=DATE:20240617
DTEND;VALUE=DATE:20240618
DTSTAMP:20260422T072811
CREATED:20240228T223941Z
LAST-MODIFIED:20240228T223941Z
UID:2510-1718582400-1718668799@folsomhindutemple.org
SUMMARY:Ekadasi
DESCRIPTION:
URL:https://folsomhindutemple.org/event/ekadasi-33/
END:VEVENT
BEGIN:VEVENT
DTSTART;VALUE=DATE:20240619
DTEND;VALUE=DATE:20240620
DTSTAMP:20260422T072811
CREATED:20240228T223956Z
LAST-MODIFIED:20240228T223956Z
UID:2511-1718755200-1718841599@folsomhindutemple.org
SUMMARY:Anusham
DESCRIPTION:
URL:https://folsomhindutemple.org/event/anusham-20/
END:VEVENT
BEGIN:VEVENT
DTSTART;VALUE=DATE:20240621
DTEND;VALUE=DATE:20240622
DTSTAMP:20260422T072811
CREATED:20240228T223956Z
LAST-MODIFIED:20240228T223956Z
UID:2512-1718928000-1719014399@folsomhindutemple.org
SUMMARY:Pournami
DESCRIPTION:
URL:https://folsomhindutemple.org/event/pournami-19/
END:VEVENT
BEGIN:VEVENT
DTSTART;VALUE=DATE:20240624
DTEND;VALUE=DATE:20240625
DTSTAMP:20260422T072811
CREATED:20240228T223541Z
LAST-MODIFIED:20240228T223541Z
UID:2426-1719187200-1719273599@folsomhindutemple.org
SUMMARY:Sankatahara Chathurthi
DESCRIPTION:
URL:https://folsomhindutemple.org/event/sankatahara-chathurthi-19/
END:VEVENT
BEGIN:VEVENT
DTSTART;VALUE=DATE:20240627
DTEND;VALUE=DATE:20240628
DTSTAMP:20260422T072811
CREATED:20240228T223956Z
LAST-MODIFIED:20240228T223956Z
UID:2513-1719446400-1719532799@folsomhindutemple.org
SUMMARY:Shasti
DESCRIPTION:
URL:https://folsomhindutemple.org/event/shasti-8/
END:VEVENT
END:VCALENDAR