BEGIN:VCALENDAR
VERSION:2.0
PRODID:-// - ECPv6.15.20//NONSGML v1.0//EN
CALSCALE:GREGORIAN
METHOD:PUBLISH
X-ORIGINAL-URL:https://folsomhindutemple.org
X-WR-CALDESC:Events for 
REFRESH-INTERVAL;VALUE=DURATION:PT1H
X-Robots-Tag:noindex
X-PUBLISHED-TTL:PT1H
BEGIN:VTIMEZONE
TZID:America/Los_Angeles
BEGIN:DAYLIGHT
TZOFFSETFROM:-0800
TZOFFSETTO:-0700
TZNAME:PDT
DTSTART:20240310T100000
END:DAYLIGHT
BEGIN:STANDARD
TZOFFSETFROM:-0700
TZOFFSETTO:-0800
TZNAME:PST
DTSTART:20241103T090000
END:STANDARD
BEGIN:DAYLIGHT
TZOFFSETFROM:-0800
TZOFFSETTO:-0700
TZNAME:PDT
DTSTART:20250309T100000
END:DAYLIGHT
BEGIN:STANDARD
TZOFFSETFROM:-0700
TZOFFSETTO:-0800
TZNAME:PST
DTSTART:20251102T090000
END:STANDARD
BEGIN:DAYLIGHT
TZOFFSETFROM:-0800
TZOFFSETTO:-0700
TZNAME:PDT
DTSTART:20260308T100000
END:DAYLIGHT
BEGIN:STANDARD
TZOFFSETFROM:-0700
TZOFFSETTO:-0800
TZNAME:PST
DTSTART:20261101T090000
END:STANDARD
END:VTIMEZONE
BEGIN:VEVENT
DTSTART;VALUE=DATE:20251102
DTEND;VALUE=DATE:20251103
DTSTAMP:20260419T185143
CREATED:20250115T002552Z
LAST-MODIFIED:20250115T002552Z
UID:2691-1762041600-1762127999@folsomhindutemple.org
SUMMARY:Pradosham
DESCRIPTION:
URL:https://folsomhindutemple.org/event/pradosham-62/
END:VEVENT
BEGIN:VEVENT
DTSTART;VALUE=DATE:20251104
DTEND;VALUE=DATE:20251105
DTSTAMP:20260419T185143
CREATED:20250115T002538Z
LAST-MODIFIED:20250115T002538Z
UID:2689-1762214400-1762300799@folsomhindutemple.org
SUMMARY:Pournami
DESCRIPTION:
URL:https://folsomhindutemple.org/event/pournami-32/
END:VEVENT
BEGIN:VEVENT
DTSTART;VALUE=DATE:20251104
DTEND;VALUE=DATE:20251105
DTSTAMP:20260419T185143
CREATED:20250115T002553Z
LAST-MODIFIED:20250115T002553Z
UID:2692-1762214400-1762300799@folsomhindutemple.org
SUMMARY:Lunar Poornima
DESCRIPTION:
URL:https://folsomhindutemple.org/event/lunar-poornima/
END:VEVENT
BEGIN:VEVENT
DTSTART;VALUE=DATE:20251108
DTEND;VALUE=DATE:20251109
DTSTAMP:20260419T185143
CREATED:20250115T002553Z
LAST-MODIFIED:20250115T002553Z
UID:2693-1762560000-1762646399@folsomhindutemple.org
SUMMARY:Sankatahara Chathurthi
DESCRIPTION:
URL:https://folsomhindutemple.org/event/sankatahara-chathurthi-32/
END:VEVENT
BEGIN:VEVENT
DTSTART;VALUE=DATE:20251116
DTEND;VALUE=DATE:20251117
DTSTAMP:20260419T185143
CREATED:20250115T002553Z
LAST-MODIFIED:20250115T002553Z
UID:2694-1763251200-1763337599@folsomhindutemple.org
SUMMARY:Pradosham\, Sankaramanam
DESCRIPTION:
URL:https://folsomhindutemple.org/event/pradosham-sankaramanam/
END:VEVENT
BEGIN:VEVENT
DTSTART;VALUE=DATE:20251116
DTEND;VALUE=DATE:20251117
DTSTAMP:20260419T185143
CREATED:20250115T002607Z
LAST-MODIFIED:20250115T002607Z
UID:2695-1763251200-1763337599@folsomhindutemple.org
SUMMARY:Karthigai Mandalam Begins
DESCRIPTION:
URL:https://folsomhindutemple.org/event/karthigai-mandalam-begins/
END:VEVENT
BEGIN:VEVENT
DTSTART;VALUE=DATE:20251119
DTEND;VALUE=DATE:20251120
DTSTAMP:20260419T185143
CREATED:20250115T002552Z
LAST-MODIFIED:20250115T002552Z
UID:2690-1763510400-1763596799@folsomhindutemple.org
SUMMARY:Amavasai
DESCRIPTION:
URL:https://folsomhindutemple.org/event/amavasai-21/
END:VEVENT
END:VCALENDAR