BEGIN:VCALENDAR
VERSION:2.0
PRODID:-// - ECPv6.15.20//NONSGML v1.0//EN
CALSCALE:GREGORIAN
METHOD:PUBLISH
X-ORIGINAL-URL:https://folsomhindutemple.org
X-WR-CALDESC:Events for 
REFRESH-INTERVAL;VALUE=DURATION:PT1H
X-Robots-Tag:noindex
X-PUBLISHED-TTL:PT1H
BEGIN:VTIMEZONE
TZID:America/Los_Angeles
BEGIN:DAYLIGHT
TZOFFSETFROM:-0800
TZOFFSETTO:-0700
TZNAME:PDT
DTSTART:20240310T100000
END:DAYLIGHT
BEGIN:STANDARD
TZOFFSETFROM:-0700
TZOFFSETTO:-0800
TZNAME:PST
DTSTART:20241103T090000
END:STANDARD
BEGIN:DAYLIGHT
TZOFFSETFROM:-0800
TZOFFSETTO:-0700
TZNAME:PDT
DTSTART:20250309T100000
END:DAYLIGHT
BEGIN:STANDARD
TZOFFSETFROM:-0700
TZOFFSETTO:-0800
TZNAME:PST
DTSTART:20251102T090000
END:STANDARD
BEGIN:DAYLIGHT
TZOFFSETFROM:-0800
TZOFFSETTO:-0700
TZNAME:PDT
DTSTART:20260308T100000
END:DAYLIGHT
BEGIN:STANDARD
TZOFFSETFROM:-0700
TZOFFSETTO:-0800
TZNAME:PST
DTSTART:20261101T090000
END:STANDARD
END:VTIMEZONE
BEGIN:VEVENT
DTSTART;VALUE=DATE:20251202
DTEND;VALUE=DATE:20251203
DTSTAMP:20260419T112742
CREATED:20250115T002652Z
LAST-MODIFIED:20250115T002652Z
UID:2711-1764633600-1764719999@folsomhindutemple.org
SUMMARY:Pradosham
DESCRIPTION:
URL:https://folsomhindutemple.org/event/pradosham-65/
END:VEVENT
BEGIN:VEVENT
DTSTART;VALUE=DATE:20251203
DTEND;VALUE=DATE:20251204
DTSTAMP:20260419T112742
CREATED:20250115T002653Z
LAST-MODIFIED:20250115T002653Z
UID:2712-1764720000-1764806399@folsomhindutemple.org
SUMMARY:Kartigai Deepam / Pournami (Solar)
DESCRIPTION:
URL:https://folsomhindutemple.org/event/kartigai-deepam-pournami-solar/
END:VEVENT
BEGIN:VEVENT
DTSTART;VALUE=DATE:20251204
DTEND;VALUE=DATE:20251205
DTSTAMP:20260419T112742
CREATED:20250115T002638Z
LAST-MODIFIED:20250115T002638Z
UID:2709-1764806400-1764892799@folsomhindutemple.org
SUMMARY:Pournami
DESCRIPTION:
URL:https://folsomhindutemple.org/event/pournami-34/
END:VEVENT
BEGIN:VEVENT
DTSTART;VALUE=DATE:20251207
DTEND;VALUE=DATE:20251208
DTSTAMP:20260419T112742
CREATED:20250115T002653Z
LAST-MODIFIED:20250115T002653Z
UID:2713-1765065600-1765151999@folsomhindutemple.org
SUMMARY:Sankatahara Chathurthi
DESCRIPTION:
URL:https://folsomhindutemple.org/event/sankatahara-chathurthi-34/
END:VEVENT
BEGIN:VEVENT
DTSTART;VALUE=DATE:20251216
DTEND;VALUE=DATE:20251217
DTSTAMP:20260419T112742
CREATED:20250115T002653Z
LAST-MODIFIED:20250115T002653Z
UID:2714-1765843200-1765929599@folsomhindutemple.org
SUMMARY:Pradosham
DESCRIPTION:
URL:https://folsomhindutemple.org/event/pradosham-66/
END:VEVENT
BEGIN:VEVENT
DTSTART;VALUE=DATE:20251216
DTEND;VALUE=DATE:20251217
DTSTAMP:20260419T112742
CREATED:20250115T002707Z
LAST-MODIFIED:20250115T002707Z
UID:2715-1765843200-1765929599@folsomhindutemple.org
SUMMARY:Sankaramanam
DESCRIPTION:
URL:https://folsomhindutemple.org/event/sankaramanam-18/
END:VEVENT
BEGIN:VEVENT
DTSTART;VALUE=DATE:20251217
DTEND;VALUE=DATE:20251218
DTSTAMP:20260419T112742
CREATED:20250115T002707Z
LAST-MODIFIED:20250115T002707Z
UID:2716-1765929600-1766015999@folsomhindutemple.org
SUMMARY:Maha Periyavaa Aradhanai
DESCRIPTION:
URL:https://folsomhindutemple.org/event/maha-periyavaa-aradhanai/
END:VEVENT
BEGIN:VEVENT
DTSTART;VALUE=DATE:20251219
DTEND;VALUE=DATE:20251220
DTSTAMP:20260419T112742
CREATED:20250115T002652Z
LAST-MODIFIED:20250115T002652Z
UID:2710-1766102400-1766188799@folsomhindutemple.org
SUMMARY:Amavasai
DESCRIPTION:
URL:https://folsomhindutemple.org/event/amavasai-23/
END:VEVENT
BEGIN:VEVENT
DTSTART;VALUE=DATE:20251219
DTEND;VALUE=DATE:20251220
DTSTAMP:20260419T112742
CREATED:20250115T002708Z
LAST-MODIFIED:20250115T002708Z
UID:2717-1766102400-1766188799@folsomhindutemple.org
SUMMARY:Hanuman Jayanthi
DESCRIPTION:
URL:https://folsomhindutemple.org/event/hanuman-jayanthi/
END:VEVENT
BEGIN:VEVENT
DTSTART;VALUE=DATE:20251221
DTEND;VALUE=DATE:20251222
DTSTAMP:20260419T112742
CREATED:20250819T165853Z
LAST-MODIFIED:20250819T165853Z
UID:2781-1766275200-1766361599@folsomhindutemple.org
SUMMARY:Sri Sastha Preethi / Irumudi Pooja
DESCRIPTION:
URL:https://folsomhindutemple.org/event/sri-sastha-preethi-irumudi-pooja-2/
END:VEVENT
BEGIN:VEVENT
DTSTART;VALUE=DATE:20251230
DTEND;VALUE=DATE:20251231
DTSTAMP:20260419T112742
CREATED:20250115T002708Z
LAST-MODIFIED:20250115T002708Z
UID:2718-1767052800-1767139199@folsomhindutemple.org
SUMMARY:Vaikunta Ekadasi
DESCRIPTION:
URL:https://folsomhindutemple.org/event/vaikunta-ekadasi-2/
END:VEVENT
BEGIN:VEVENT
DTSTART;VALUE=DATE:20251231
DTEND;VALUE=DATE:20260101
DTSTAMP:20260419T112742
CREATED:20250115T002708Z
LAST-MODIFIED:20250115T002708Z
UID:2719-1767139200-1767225599@folsomhindutemple.org
SUMMARY:Pradosham
DESCRIPTION:
URL:https://folsomhindutemple.org/event/pradosham-67/
END:VEVENT
END:VCALENDAR