BEGIN:VCALENDAR
VERSION:2.0
PRODID:-// - ECPv6.15.20//NONSGML v1.0//EN
CALSCALE:GREGORIAN
METHOD:PUBLISH
X-ORIGINAL-URL:https://folsomhindutemple.org
X-WR-CALDESC:Events for 
REFRESH-INTERVAL;VALUE=DURATION:PT1H
X-Robots-Tag:noindex
X-PUBLISHED-TTL:PT1H
BEGIN:VTIMEZONE
TZID:America/Los_Angeles
BEGIN:DAYLIGHT
TZOFFSETFROM:-0800
TZOFFSETTO:-0700
TZNAME:PDT
DTSTART:20250309T100000
END:DAYLIGHT
BEGIN:STANDARD
TZOFFSETFROM:-0700
TZOFFSETTO:-0800
TZNAME:PST
DTSTART:20251102T090000
END:STANDARD
BEGIN:DAYLIGHT
TZOFFSETFROM:-0800
TZOFFSETTO:-0700
TZNAME:PDT
DTSTART:20260308T100000
END:DAYLIGHT
BEGIN:STANDARD
TZOFFSETFROM:-0700
TZOFFSETTO:-0800
TZNAME:PST
DTSTART:20261101T090000
END:STANDARD
BEGIN:DAYLIGHT
TZOFFSETFROM:-0800
TZOFFSETTO:-0700
TZNAME:PDT
DTSTART:20270314T100000
END:DAYLIGHT
BEGIN:STANDARD
TZOFFSETFROM:-0700
TZOFFSETTO:-0800
TZNAME:PST
DTSTART:20271107T090000
END:STANDARD
END:VTIMEZONE
BEGIN:VEVENT
DTSTART;VALUE=DATE:20260703
DTEND;VALUE=DATE:20260704
DTSTAMP:20260419T144920
CREATED:20260104T205944Z
LAST-MODIFIED:20260104T205944Z
UID:2863-1783036800-1783123199@folsomhindutemple.org
SUMMARY:Sankatahara Chathurthi
DESCRIPTION:
URL:https://folsomhindutemple.org/event/sankatahara-chathurthi-44/
END:VEVENT
BEGIN:VEVENT
DTSTART;VALUE=DATE:20260710
DTEND;VALUE=DATE:20260711
DTSTAMP:20260419T144920
CREATED:20260104T205944Z
LAST-MODIFIED:20260104T205944Z
UID:2864-1783641600-1783727999@folsomhindutemple.org
SUMMARY:Ekadasi
DESCRIPTION:
URL:https://folsomhindutemple.org/event/ekadasi-57/
END:VEVENT
BEGIN:VEVENT
DTSTART;VALUE=DATE:20260711
DTEND;VALUE=DATE:20260712
DTSTAMP:20260419T144920
CREATED:20260104T210040Z
LAST-MODIFIED:20260104T210040Z
UID:2865-1783728000-1783814399@folsomhindutemple.org
SUMMARY:Pradosham
DESCRIPTION:
URL:https://folsomhindutemple.org/event/pradosham-86/
END:VEVENT
BEGIN:VEVENT
DTSTART;VALUE=DATE:20260713
DTEND;VALUE=DATE:20260714
DTSTAMP:20260419T144920
CREATED:20260112T175913Z
LAST-MODIFIED:20260112T175913Z
UID:2946-1783900800-1783987199@folsomhindutemple.org
SUMMARY:Amavasai
DESCRIPTION:
URL:https://folsomhindutemple.org/event/amavasai-32/
END:VEVENT
BEGIN:VEVENT
DTSTART;VALUE=DATE:20260716
DTEND;VALUE=DATE:20260717
DTSTAMP:20260419T144920
CREATED:20260104T210040Z
LAST-MODIFIED:20260104T210040Z
UID:2866-1784160000-1784246399@folsomhindutemple.org
SUMMARY:Dakshinayanam / Sankaramanam
DESCRIPTION:
URL:https://folsomhindutemple.org/event/dakshinayanam-sankaramanam/
END:VEVENT
BEGIN:VEVENT
DTSTART;VALUE=DATE:20260724
DTEND;VALUE=DATE:20260725
DTSTAMP:20260419T144920
CREATED:20260104T210041Z
LAST-MODIFIED:20260104T210041Z
UID:2867-1784851200-1784937599@folsomhindutemple.org
SUMMARY:Anusham
DESCRIPTION:
URL:https://folsomhindutemple.org/event/anusham-34/
END:VEVENT
BEGIN:VEVENT
DTSTART;VALUE=DATE:20260724
DTEND;VALUE=DATE:20260725
DTSTAMP:20260419T144920
CREATED:20260104T210041Z
LAST-MODIFIED:20260104T210041Z
UID:2868-1784851200-1784937599@folsomhindutemple.org
SUMMARY:Ekadasi
DESCRIPTION:
URL:https://folsomhindutemple.org/event/ekadasi-58/
END:VEVENT
BEGIN:VEVENT
DTSTART;VALUE=DATE:20260726
DTEND;VALUE=DATE:20260727
DTSTAMP:20260419T144920
CREATED:20260104T210041Z
LAST-MODIFIED:20260104T210041Z
UID:2869-1785024000-1785110399@folsomhindutemple.org
SUMMARY:Pradosham
DESCRIPTION:
URL:https://folsomhindutemple.org/event/pradosham-87/
END:VEVENT
BEGIN:VEVENT
DTSTART;VALUE=DATE:20260728
DTEND;VALUE=DATE:20260729
DTSTAMP:20260419T144920
CREATED:20260104T210055Z
LAST-MODIFIED:20260104T210055Z
UID:2870-1785196800-1785283199@folsomhindutemple.org
SUMMARY:Guru Purnima
DESCRIPTION:
URL:https://folsomhindutemple.org/event/guru-purnima-2/
END:VEVENT
BEGIN:VEVENT
DTSTART;VALUE=DATE:20260728
DTEND;VALUE=DATE:20260729
DTSTAMP:20260419T144920
CREATED:20260104T210055Z
LAST-MODIFIED:20260104T210055Z
UID:2871-1785196800-1785283199@folsomhindutemple.org
SUMMARY:Yajur Bodhayana Upakarma
DESCRIPTION:
URL:https://folsomhindutemple.org/event/yajur-bodhayana-upakarma/
END:VEVENT
BEGIN:VEVENT
DTSTART;VALUE=DATE:20260730
DTEND;VALUE=DATE:20260731
DTSTAMP:20260419T144920
CREATED:20260104T210055Z
LAST-MODIFIED:20260104T210055Z
UID:2872-1785369600-1785455999@folsomhindutemple.org
SUMMARY:Sri Jayendra Saraswathi Swamigal Jayanthi
DESCRIPTION:
URL:https://folsomhindutemple.org/event/sri-jayendra-saraswathi-swamigal-jayanthi/
END:VEVENT
END:VCALENDAR